BEGIN:VCALENDAR
VERSION:2.0
PRODID:-//เว็บไซต์ศูนย์บริการโลหิตแห่งชาติ - ECPv6.11.2.1//NONSGML v1.0//EN
CALSCALE:GREGORIAN
METHOD:PUBLISH
X-WR-CALNAME:เว็บไซต์ศูนย์บริการโลหิตแห่งชาติ
X-ORIGINAL-URL:https://boo.colorpack.net
X-WR-CALDESC:Events for เว็บไซต์ศูนย์บริการโลหิตแห่งชาติ
REFRESH-INTERVAL;VALUE=DURATION:PT1H
X-Robots-Tag:noindex
X-PUBLISHED-TTL:PT1H
BEGIN:VTIMEZONE
TZID:Asia/Krasnoyarsk
BEGIN:STANDARD
TZOFFSETFROM:+0700
TZOFFSETTO:+0700
TZNAME:+07
DTSTART:20260101T000000
END:STANDARD
END:VTIMEZONE
BEGIN:VTIMEZONE
TZID:Asia/Bangkok
BEGIN:STANDARD
TZOFFSETFROM:+0700
TZOFFSETTO:+0700
TZNAME:+07
DTSTART:20250101T000000
END:STANDARD
END:VTIMEZONE
BEGIN:VEVENT
DTSTART;TZID=Asia/Krasnoyarsk:20260119T090000
DTEND;TZID=Asia/Krasnoyarsk:20260119T150000
DTSTAMP:20260422T035507
CREATED:20260113T120219Z
LAST-MODIFIED:20260113T120219Z
UID:10005163-1768813200-1768834800@boo.colorpack.net
SUMMARY:บริษัท วันไทยอุตสาหกรรมอาหาร จำกัด []
DESCRIPTION:สถานที่เจาะ : ด้านข้างอาคาร (พัก 12.00-13.00 น.) \nที่อยู่ : 2/4 ซอยเสรีไทย 58 แขวงมีนบุรี เขตมีนบุรี กรุงเทพฯ 0 2517 0944
URL:https://boo.colorpack.net/event/%e0%b8%9a%e0%b8%a3%e0%b8%b4%e0%b8%a9%e0%b8%b1%e0%b8%97-%e0%b8%a7%e0%b8%b1%e0%b8%99%e0%b9%84%e0%b8%97%e0%b8%a2%e0%b8%ad%e0%b8%b8%e0%b8%95%e0%b8%aa%e0%b8%b2%e0%b8%ab%e0%b8%81%e0%b8%a3%e0%b8%a3-2/
LOCATION:บริษัท วันไทยอุตสาหกรรมอาหาร จำกัด\, บจก. วันไทยอุตสาหกรรมอาหาร (1) 2/4 ซอยเสรีไทย 58 แขวงมีนบุรี เขตมีนบุรี กรุงเทพฯ 10510
CATEGORIES:ปฏิทินตารางหน่วยเคลื่อนที่
END:VEVENT
BEGIN:VEVENT
DTSTART;TZID=Asia/Bangkok:20251006T090000
DTEND;TZID=Asia/Bangkok:20251006T150000
DTSTAMP:20260422T035507
CREATED:20250924T111504Z
LAST-MODIFIED:20250924T111504Z
UID:10003428-1759741200-1759762800@boo.colorpack.net
SUMMARY:บริษัท วันไทยอุตสาหกรรมอาหาร จำกัด [0M1056]
DESCRIPTION:สถานที่เจาะ : ด้านข้างอาคาร (พัก 12-13 น.) \nที่อยู่ : 2/4 ซอยเสรีไทย 58 แขวงมีนบุรี เขตมีนบุรี กรุงเทพฯ 0 2517 0944
URL:https://boo.colorpack.net/event/%e0%b8%9a%e0%b8%a3%e0%b8%b4%e0%b8%a9%e0%b8%b1%e0%b8%97-%e0%b8%a7%e0%b8%b1%e0%b8%99%e0%b9%84%e0%b8%97%e0%b8%a2%e0%b8%ad%e0%b8%b8%e0%b8%95%e0%b8%aa%e0%b8%b2%e0%b8%ab%e0%b8%81%e0%b8%a3%e0%b8%a3%e0%b8%a1/
LOCATION:บริษัท วันไทยอุตสาหกรรมอาหาร จำกัด\, บจก. วันไทยอุตสาหกรรมอาหาร (1) 2/4 ซอยเสรีไทย 58 แขวงมีนบุรี เขตมีนบุรี กรุงเทพฯ 10510
CATEGORIES:ปฏิทินตารางหน่วยเคลื่อนที่
END:VEVENT
END:VCALENDAR