BEGIN:VCALENDAR
VERSION:2.0
PRODID:-//เว็บไซต์ศูนย์บริการโลหิตแห่งชาติ - ECPv6.11.2.1//NONSGML v1.0//EN
CALSCALE:GREGORIAN
METHOD:PUBLISH
X-WR-CALNAME:เว็บไซต์ศูนย์บริการโลหิตแห่งชาติ
X-ORIGINAL-URL:https://boo.colorpack.net
X-WR-CALDESC:Events for เว็บไซต์ศูนย์บริการโลหิตแห่งชาติ
REFRESH-INTERVAL;VALUE=DURATION:PT1H
X-Robots-Tag:noindex
X-PUBLISHED-TTL:PT1H
BEGIN:VTIMEZONE
TZID:Asia/Krasnoyarsk
BEGIN:STANDARD
TZOFFSETFROM:+0700
TZOFFSETTO:+0700
TZNAME:+07
DTSTART:20260101T000000
END:STANDARD
END:VTIMEZONE
BEGIN:VTIMEZONE
TZID:Asia/Bangkok
BEGIN:STANDARD
TZOFFSETFROM:+0700
TZOFFSETTO:+0700
TZNAME:+07
DTSTART:20250101T000000
END:STANDARD
END:VTIMEZONE
BEGIN:VEVENT
DTSTART;TZID=Asia/Krasnoyarsk:20260129T090000
DTEND;TZID=Asia/Krasnoyarsk:20260129T103000
DTSTAMP:20260422T015327
CREATED:20260127T114834Z
LAST-MODIFIED:20260127T114834Z
UID:10005307-1769677200-1769682600@boo.colorpack.net
SUMMARY:บริษัท วนวิทย์ แมนูแฟคเจอริ่ง จำกัด (สะแกงาม) []
DESCRIPTION:สถานที่เจาะ : หน้าห้องฝ่ายบริหารทรัพยากรมนุษย์ \nที่อยู่ : 4/632 ซอยวัดสะแกงาม ถนนพระราม 2 แขวงแสมดำ เขตบางขุนเทียน กรุงเทพฯ 0 2896 2390
URL:https://boo.colorpack.net/event/%e0%b8%9a%e0%b8%a3%e0%b8%b4%e0%b8%a9%e0%b8%b1%e0%b8%97-%e0%b8%a7%e0%b8%99%e0%b8%a7%e0%b8%b4%e0%b8%97%e0%b8%a2%e0%b9%8c-%e0%b9%81%e0%b8%a1%e0%b8%99%e0%b8%b9%e0%b9%81%e0%b8%9f%e0%b8%84%e0%b9%80-6/
LOCATION:บริษัท วนวิทย์ แมนูแฟคเจอริ่ง จำกัด (สะแกงาม)\, บจก. วนวิทย์ แมนูแฟคเจอริ่ง 10 ซอยพระรามที่2ซอย94 ถนนพระรามที่2 แขวงแสมดำ เขตบางขุนเทียน กรุงเทพมหานคร 10150
CATEGORIES:ปฏิทินตารางหน่วยเคลื่อนที่
END:VEVENT
BEGIN:VEVENT
DTSTART;TZID=Asia/Bangkok:20250729T090000
DTEND;TZID=Asia/Bangkok:20250729T103000
DTSTAMP:20260422T015328
CREATED:20250716T111500Z
LAST-MODIFIED:20250716T111500Z
UID:10002525-1753779600-1753785000@boo.colorpack.net
SUMMARY:บริษัท วนวิทย์ แมนูแฟคเจอริ่ง จำกัด (สะแกงาม) []
DESCRIPTION:สถานที่เจาะ : หน้าห้องฝ่ายบริหารทรัพยากรมนุษย์ \nที่อยู่ : 4/632 ซอยวัดสะแกงาม ถนนพระราม 2 แขวงแสมดำ เขตบางขุนเทียน กรุงเทพฯ 0 2896 2390
URL:https://boo.colorpack.net/event/%e0%b8%9a%e0%b8%a3%e0%b8%b4%e0%b8%a9%e0%b8%b1%e0%b8%97-%e0%b8%a7%e0%b8%99%e0%b8%a7%e0%b8%b4%e0%b8%97%e0%b8%a2%e0%b9%8c-%e0%b9%81%e0%b8%a1%e0%b8%99%e0%b8%b9%e0%b9%81%e0%b8%9f%e0%b8%84%e0%b9%80-3/
LOCATION:บริษัท วนวิทย์ แมนูแฟคเจอริ่ง จำกัด (สะแกงาม)\, บจก. วนวิทย์ แมนูแฟคเจอริ่ง 10 ซอยพระรามที่2ซอย94 ถนนพระรามที่2 แขวงแสมดำ เขตบางขุนเทียน กรุงเทพมหานคร 10150
CATEGORIES:ปฏิทินตารางหน่วยเคลื่อนที่
END:VEVENT
BEGIN:VEVENT
DTSTART;TZID=Asia/Bangkok:20250429T090000
DTEND;TZID=Asia/Bangkok:20250429T103000
DTSTAMP:20260422T015328
CREATED:20250424T064036Z
LAST-MODIFIED:20250424T064036Z
UID:10001519-1745917200-1745922600@boo.colorpack.net
SUMMARY:บริษัท วนวิทย์ แมนูแฟคเจอริ่ง จำกัด (สะแกงาม) []
DESCRIPTION:สถานที่เจาะ : หน้าห้องฝ่ายบริหารทรัพยากรมนุษย์ \nที่อยู่ : 4/632 ซอยวัดสะแกงาม ถนนพระราม 2 แขวงแสมดำ เขตบางขุนเทียน กรุงเทพฯ 0 2896 2390
URL:https://boo.colorpack.net/event/%e0%b8%9a%e0%b8%a3%e0%b8%b4%e0%b8%a9%e0%b8%b1%e0%b8%97-%e0%b8%a7%e0%b8%99%e0%b8%a7%e0%b8%b4%e0%b8%97%e0%b8%a2%e0%b9%8c-%e0%b9%81%e0%b8%a1%e0%b8%99%e0%b8%b9%e0%b9%81%e0%b8%9f%e0%b8%84%e0%b9%80%e0%b8%88/
LOCATION:บริษัท วนวิทย์ แมนูแฟคเจอริ่ง จำกัด (สะแกงาม)\, บจก. วนวิทย์ แมนูแฟคเจอริ่ง 10 ซอยพระรามที่2ซอย94 ถนนพระรามที่2 แขวงแสมดำ เขตบางขุนเทียน กรุงเทพมหานคร 10150
CATEGORIES:ปฏิทินตารางหน่วยเคลื่อนที่
END:VEVENT
END:VCALENDAR