BEGIN:VCALENDAR
VERSION:2.0
PRODID:-//เว็บไซต์ศูนย์บริการโลหิตแห่งชาติ - ECPv6.11.2.1//NONSGML v1.0//EN
CALSCALE:GREGORIAN
METHOD:PUBLISH
X-ORIGINAL-URL:https://boo.colorpack.net
X-WR-CALDESC:Events for เว็บไซต์ศูนย์บริการโลหิตแห่งชาติ
REFRESH-INTERVAL;VALUE=DURATION:PT1H
X-Robots-Tag:noindex
X-PUBLISHED-TTL:PT1H
BEGIN:VTIMEZONE
TZID:Asia/Krasnoyarsk
BEGIN:STANDARD
TZOFFSETFROM:+0700
TZOFFSETTO:+0700
TZNAME:+07
DTSTART:20250101T000000
END:STANDARD
END:VTIMEZONE
BEGIN:VTIMEZONE
TZID:Asia/Bangkok
BEGIN:STANDARD
TZOFFSETFROM:+0700
TZOFFSETTO:+0700
TZNAME:+07
DTSTART:20250101T000000
END:STANDARD
END:VTIMEZONE
BEGIN:VEVENT
DTSTART;TZID=Asia/Krasnoyarsk:20260204T090000
DTEND;TZID=Asia/Krasnoyarsk:20260204T150000
DTSTAMP:20260421T015329
CREATED:20260127T121128Z
LAST-MODIFIED:20260127T121128Z
UID:10005388-1770195600-1770217200@boo.colorpack.net
SUMMARY:บริษัท มิตซูบิชิ มอเตอร์ส (ประเทศไทย) จำกัด []
DESCRIPTION:สถานที่เจาะ : Victor Club ชั้น 2 อาคาร FYI Center (พัก 12.00-13.00 น.) \nที่อยู่ : 2525 ถนนพระราม 4 แขวงคลองเตย  เขตคลองเตย กรุงเทพฯ 038 401 566
URL:https://boo.colorpack.net/event/%e0%b8%9a%e0%b8%a3%e0%b8%b4%e0%b8%a9%e0%b8%b1%e0%b8%97-%e0%b8%a1%e0%b8%b4%e0%b8%95%e0%b8%8b%e0%b8%b9%e0%b8%9a%e0%b8%b4%e0%b8%8a%e0%b8%b4-%e0%b8%a1%e0%b8%ad%e0%b9%80%e0%b8%95%e0%b8%ad%e0%b8%a3-4/
LOCATION:บริษัท มิตซูบิชิ มอเตอร์ส (ประเทศไทย) จำกัด
CATEGORIES:ปฏิทินตารางหน่วยเคลื่อนที่
END:VEVENT
BEGIN:VEVENT
DTSTART;TZID=Asia/Krasnoyarsk:20251103T090000
DTEND;TZID=Asia/Krasnoyarsk:20251103T150000
DTSTAMP:20260421T015329
CREATED:20251027T023838Z
LAST-MODIFIED:20251027T023838Z
UID:10003840-1762160400-1762182000@boo.colorpack.net
SUMMARY:บริษัท มิตซูบิชิ มอเตอร์ส (ประเทศไทย) จำกัด [0M0832]
DESCRIPTION:สถานที่เจาะ : ชั้น 2 อาคาร FYI Center (พัก 12.00-13.00 น.) \nที่อยู่ : 2525 ถนนพระราม 4 แขวงคลองเตย  เขตคลองเตย กรุงเทพฯ 038 401 566
URL:https://boo.colorpack.net/event/%e0%b8%9a%e0%b8%a3%e0%b8%b4%e0%b8%a9%e0%b8%b1%e0%b8%97-%e0%b8%a1%e0%b8%b4%e0%b8%95%e0%b8%8b%e0%b8%b9%e0%b8%9a%e0%b8%b4%e0%b8%8a%e0%b8%b4-%e0%b8%a1%e0%b8%ad%e0%b9%80%e0%b8%95%e0%b8%ad%e0%b8%a3-3/
LOCATION:บริษัท มิตซูบิชิ มอเตอร์ส (ประเทศไทย) จำกัด
CATEGORIES:ปฏิทินตารางหน่วยเคลื่อนที่
END:VEVENT
BEGIN:VEVENT
DTSTART;TZID=Asia/Bangkok:20250506T090000
DTEND;TZID=Asia/Bangkok:20250506T150000
DTSTAMP:20260421T015329
CREATED:20250430T111920Z
LAST-MODIFIED:20250430T111920Z
UID:10001609-1746522000-1746543600@boo.colorpack.net
SUMMARY:บริษัท มิตซูบิชิ มอเตอร์ส (ประเทศไทย) จำกัด []
DESCRIPTION:สถานที่เจาะ : ชั้น 2 อาคาร FYI Center (พัก 12-13 น.) \nที่อยู่ : 2525 ถนนพระราม 4 แขวงคลองเตย  เขตคลองเตย กรุงเทพฯ 038 401 566
URL:https://boo.colorpack.net/event/%e0%b8%9a%e0%b8%a3%e0%b8%b4%e0%b8%a9%e0%b8%b1%e0%b8%97-%e0%b8%a1%e0%b8%b4%e0%b8%95%e0%b8%8b%e0%b8%b9%e0%b8%9a%e0%b8%b4%e0%b8%8a%e0%b8%b4-%e0%b8%a1%e0%b8%ad%e0%b9%80%e0%b8%95%e0%b8%ad%e0%b8%a3-2/
LOCATION:บริษัท มิตซูบิชิ มอเตอร์ส (ประเทศไทย) จำกัด
CATEGORIES:ปฏิทินตารางหน่วยเคลื่อนที่
END:VEVENT
BEGIN:VEVENT
DTSTART;TZID=Asia/Bangkok:20250205T090000
DTEND;TZID=Asia/Bangkok:20250205T150000
DTSTAMP:20260421T015329
CREATED:20250201T010623Z
LAST-MODIFIED:20250201T010623Z
UID:10000363-1738746000-1738767600@boo.colorpack.net
SUMMARY:บริษัท มิตซูบิชิ มอเตอร์ส (ประเทศไทย) จำกัด [0M0832]
DESCRIPTION:สถานที่เจาะ : ชั้น 2 อาคาร FYI Center \nที่อยู่ : 2525 ถนนพระราม 4 แขวงคลองเตย  เขตคลองเตย กรุงเทพฯ  \nโทร : 038 401 566
URL:https://boo.colorpack.net/event/%e0%b8%9a%e0%b8%a3%e0%b8%b4%e0%b8%a9%e0%b8%b1%e0%b8%97-%e0%b8%a1%e0%b8%b4%e0%b8%95%e0%b8%8b%e0%b8%b9%e0%b8%9a%e0%b8%b4%e0%b8%8a%e0%b8%b4-%e0%b8%a1%e0%b8%ad%e0%b9%80%e0%b8%95%e0%b8%ad%e0%b8%a3%e0%b9%8c/
LOCATION:บริษัท มิตซูบิชิ มอเตอร์ส (ประเทศไทย) จำกัด
CATEGORIES:ปฏิทินตารางหน่วยเคลื่อนที่
END:VEVENT
END:VCALENDAR