BEGIN:VCALENDAR
VERSION:2.0
PRODID:-//เว็บไซต์ศูนย์บริการโลหิตแห่งชาติ - ECPv6.11.2.1//NONSGML v1.0//EN
CALSCALE:GREGORIAN
METHOD:PUBLISH
X-WR-CALNAME:เว็บไซต์ศูนย์บริการโลหิตแห่งชาติ
X-ORIGINAL-URL:https://boo.colorpack.net
X-WR-CALDESC:Events for เว็บไซต์ศูนย์บริการโลหิตแห่งชาติ
REFRESH-INTERVAL;VALUE=DURATION:PT1H
X-Robots-Tag:noindex
X-PUBLISHED-TTL:PT1H
BEGIN:VTIMEZONE
TZID:Asia/Bangkok
BEGIN:STANDARD
TZOFFSETFROM:+0700
TZOFFSETTO:+0700
TZNAME:+07
DTSTART:20250101T000000
END:STANDARD
END:VTIMEZONE
BEGIN:VEVENT
DTSTART;TZID=Asia/Bangkok:20250623T090000
DTEND;TZID=Asia/Bangkok:20250623T150000
DTSTAMP:20260421T000902
CREATED:20250619T034631Z
LAST-MODIFIED:20250619T034631Z
UID:10002211-1750669200-1750690800@boo.colorpack.net
SUMMARY:บริษัท มหาจักรดีเวลอปเมนท์ จำกัด สาขารามคำแหง []
DESCRIPTION:สถานที่เจาะ : ลงทะเบียน ชั้น1\, บริจาคโลหิต ห้องประชุม ชั้น 3 (พัก 11-12 น. \nที่อยู่ : 225 ถนนรามคำแหง แขวงสะพานสูง เขตสะพานสูง กรุงเทพฯ 0 2378 9902-99
URL:https://boo.colorpack.net/event/%e0%b8%9a%e0%b8%a3%e0%b8%b4%e0%b8%a9%e0%b8%b1%e0%b8%97-%e0%b8%a1%e0%b8%ab%e0%b8%b2%e0%b8%88%e0%b8%b1%e0%b8%81%e0%b8%a3%e0%b8%94%e0%b8%b5%e0%b9%80%e0%b8%a7%e0%b8%a5%e0%b8%ad%e0%b8%9b%e0%b9%80%e0%b8%a1/
LOCATION:บริษัท มหาจักรดีเวลอปเมนท์ จำกัด สาขารามคำแหง\, บริษัท มหาจักรดีเวลอปเมนท์ จำกัด สาขารามคำแหง 225 ถนนรามคำแหง แขวงสะพานสูง เขตสะพานสูง กรุงเทพมหานคร 10240
CATEGORIES:ปฏิทินตารางหน่วยเคลื่อนที่
END:VEVENT
END:VCALENDAR