BEGIN:VCALENDAR
VERSION:2.0
PRODID:-//เว็บไซต์ศูนย์บริการโลหิตแห่งชาติ - ECPv6.11.2.1//NONSGML v1.0//EN
CALSCALE:GREGORIAN
METHOD:PUBLISH
X-ORIGINAL-URL:https://boo.colorpack.net
X-WR-CALDESC:Events for เว็บไซต์ศูนย์บริการโลหิตแห่งชาติ
REFRESH-INTERVAL;VALUE=DURATION:PT1H
X-Robots-Tag:noindex
X-PUBLISHED-TTL:PT1H
BEGIN:VTIMEZONE
TZID:Asia/Krasnoyarsk
BEGIN:STANDARD
TZOFFSETFROM:+0700
TZOFFSETTO:+0700
TZNAME:+07
DTSTART:20250101T000000
END:STANDARD
END:VTIMEZONE
BEGIN:VTIMEZONE
TZID:Asia/Bangkok
BEGIN:STANDARD
TZOFFSETFROM:+0700
TZOFFSETTO:+0700
TZNAME:+07
DTSTART:20250101T000000
END:STANDARD
END:VTIMEZONE
BEGIN:VEVENT
DTSTART;TZID=Asia/Krasnoyarsk:20251217T090000
DTEND;TZID=Asia/Krasnoyarsk:20251217T150000
DTSTAMP:20260422T040806
CREATED:20251215T115312Z
LAST-MODIFIED:20251215T115312Z
UID:10004728-1765962000-1765983600@boo.colorpack.net
SUMMARY:บริษัท บางจาก คอร์ปอเรชั่น จำกัด (มหาชน) อาคารวิบูลย์ธานี [0E0267]
DESCRIPTION:สถานที่เจาะ : ข้างอาคารฯ (พัก 11.00-12.00 น.) \nที่อยู่ : 3195/17-29 ถนนพระราม 4 แขวงคลองเตย เขตคลองเตย กรุงเทพฯ 0 2262 4000
URL:https://boo.colorpack.net/event/%e0%b8%9a%e0%b8%a3%e0%b8%b4%e0%b8%a9%e0%b8%b1%e0%b8%97-%e0%b8%9a%e0%b8%b2%e0%b8%87%e0%b8%88%e0%b8%b2%e0%b8%81-%e0%b8%84%e0%b8%ad%e0%b8%a3%e0%b9%8c%e0%b8%9b%e0%b8%ad%e0%b9%80%e0%b8%a3%e0%b8%8a-6/
LOCATION:บริษัท บางจาก คอร์ปอเรชั่น จำกัด (มหาชน) อาคารวิบูลย์ธานี\, อาคารวิบูลย์ธานี 1399 ถ. พระรามที่ 4 แขวงคลองตัน เขตคลองเตย กรุงเทพมหานคร 10110
CATEGORIES:ปฏิทินตารางหน่วยเคลื่อนที่
END:VEVENT
BEGIN:VEVENT
DTSTART;TZID=Asia/Bangkok:20250917T090000
DTEND;TZID=Asia/Bangkok:20250917T150000
DTSTAMP:20260422T040806
CREATED:20250908T064802Z
LAST-MODIFIED:20250908T064802Z
UID:10003265-1758099600-1758121200@boo.colorpack.net
SUMMARY:บริษัท บางจาก คอร์ปอเรชั่น จำกัด (มหาชน) อาคารวิบูลย์ธานี [0E0267]
DESCRIPTION:สถานที่เจาะ : ข้างอาคารวิบูลย์ธานี (พัก 11-12 น.) \nที่อยู่ : 3195/17-29 ถนนพระราม 4 แขวงคลองเตย เขตคลองเตย กรุงเทพฯ 0 2262 4000
URL:https://boo.colorpack.net/event/%e0%b8%9a%e0%b8%a3%e0%b8%b4%e0%b8%a9%e0%b8%b1%e0%b8%97-%e0%b8%9a%e0%b8%b2%e0%b8%87%e0%b8%88%e0%b8%b2%e0%b8%81-%e0%b8%84%e0%b8%ad%e0%b8%a3%e0%b9%8c%e0%b8%9b%e0%b8%ad%e0%b9%80%e0%b8%a3%e0%b8%8a-5/
LOCATION:บริษัท บางจาก คอร์ปอเรชั่น จำกัด (มหาชน) อาคารวิบูลย์ธานี\, อาคารวิบูลย์ธานี 1399 ถ. พระรามที่ 4 แขวงคลองตัน เขตคลองเตย กรุงเทพมหานคร 10110
CATEGORIES:ปฏิทินตารางหน่วยเคลื่อนที่
END:VEVENT
BEGIN:VEVENT
DTSTART;TZID=Asia/Bangkok:20250617T090000
DTEND;TZID=Asia/Bangkok:20250617T150000
DTSTAMP:20260422T040806
CREATED:20250612T090153Z
LAST-MODIFIED:20250619T031010Z
UID:10002121-1750150800-1750172400@boo.colorpack.net
SUMMARY:บริษัท บางจาก คอร์ปอเรชั่น จำกัด (มหาชน) อาคารวิบูลย์ธานี []
DESCRIPTION:สถานที่เจาะ : ข้างอาคารวิบูลย์ธานี (พัก 11-12 น.) \nที่อยู่ : 3195/17-29 ถนนพระราม 4 แขวงคลองเตย เขตคลองเตย กรุงเทพฯ 0 2262 4000
URL:https://boo.colorpack.net/event/%e0%b8%9a%e0%b8%a3%e0%b8%b4%e0%b8%a9%e0%b8%b1%e0%b8%97-%e0%b8%9a%e0%b8%b2%e0%b8%87%e0%b8%88%e0%b8%b2%e0%b8%81-%e0%b8%84%e0%b8%ad%e0%b8%a3%e0%b9%8c%e0%b8%9b%e0%b8%ad%e0%b9%80%e0%b8%a3%e0%b8%8a-4/
LOCATION:บริษัท บางจาก คอร์ปอเรชั่น จำกัด (มหาชน) อาคารวิบูลย์ธานี\, อาคารวิบูลย์ธานี 1399 ถ. พระรามที่ 4 แขวงคลองตัน เขตคลองเตย กรุงเทพมหานคร 10110
CATEGORIES:ปฏิทินตารางหน่วยเคลื่อนที่
END:VEVENT
BEGIN:VEVENT
DTSTART;TZID=Asia/Bangkok:20250317T090000
DTEND;TZID=Asia/Bangkok:20250317T150000
DTSTAMP:20260422T040806
CREATED:20250309T142539Z
LAST-MODIFIED:20250309T142539Z
UID:10000917-1742202000-1742223600@boo.colorpack.net
SUMMARY:บริษัท บางจาก คอร์ปอเรชั่น จำกัด (มหาชน) อาคารวิบูลย์ธานี [0E0267]
DESCRIPTION:สถานที่เจาะ : ข้างอาคารวิบูลย์ธานี (พัก 12.00-13.00 น.) \nที่อยู่ : 3195/17-29 ถนนพระราม 4 แขวงคลองเตย เขตคลองเตย กรุงเทพฯ 0 2262 4000
URL:https://boo.colorpack.net/event/%e0%b8%9a%e0%b8%a3%e0%b8%b4%e0%b8%a9%e0%b8%b1%e0%b8%97-%e0%b8%9a%e0%b8%b2%e0%b8%87%e0%b8%88%e0%b8%b2%e0%b8%81-%e0%b8%84%e0%b8%ad%e0%b8%a3%e0%b9%8c%e0%b8%9b%e0%b8%ad%e0%b9%80%e0%b8%a3%e0%b8%8a-2/
LOCATION:บริษัท บางจาก คอร์ปอเรชั่น จำกัด (มหาชน) อาคารวิบูลย์ธานี\, อาคารวิบูลย์ธานี 1399 ถ. พระรามที่ 4 แขวงคลองตัน เขตคลองเตย กรุงเทพมหานคร 10110
CATEGORIES:ปฏิทินตารางหน่วยเคลื่อนที่
END:VEVENT
END:VCALENDAR