BEGIN:VCALENDAR
VERSION:2.0
PRODID:-//เว็บไซต์ศูนย์บริการโลหิตแห่งชาติ - ECPv6.11.2.1//NONSGML v1.0//EN
CALSCALE:GREGORIAN
METHOD:PUBLISH
X-ORIGINAL-URL:https://boo.colorpack.net
X-WR-CALDESC:Events for เว็บไซต์ศูนย์บริการโลหิตแห่งชาติ
REFRESH-INTERVAL;VALUE=DURATION:PT1H
X-Robots-Tag:noindex
X-PUBLISHED-TTL:PT1H
BEGIN:VTIMEZONE
TZID:Asia/Krasnoyarsk
BEGIN:STANDARD
TZOFFSETFROM:+0700
TZOFFSETTO:+0700
TZNAME:+07
DTSTART:20250101T000000
END:STANDARD
END:VTIMEZONE
BEGIN:VTIMEZONE
TZID:Asia/Bangkok
BEGIN:STANDARD
TZOFFSETFROM:+0700
TZOFFSETTO:+0700
TZNAME:+07
DTSTART:20250101T000000
END:STANDARD
END:VTIMEZONE
BEGIN:VEVENT
DTSTART;TZID=Asia/Krasnoyarsk:20251120T120000
DTEND;TZID=Asia/Krasnoyarsk:20251120T150000
DTSTAMP:20260420T172613
CREATED:20251117T023257Z
LAST-MODIFIED:20251117T023257Z
UID:10004322-1763640000-1763650800@boo.colorpack.net
SUMMARY:บริษัท ธรรมนิติ จำกัด (มหาชน) []
DESCRIPTION:สถานที่เจาะ : ลานจอดรถ (ข้างเต้นท์) \nที่อยู่ : 178 ซอยเพิ่มทรัพย์ (ประชาชื่น 20) ถนนประชาชื่น แขวงบางซื่อ เขตบางซื่อ กรุงเทพฯ 0 2596 0500
URL:https://boo.colorpack.net/event/%e0%b8%9a%e0%b8%a3%e0%b8%b4%e0%b8%a9%e0%b8%b1%e0%b8%97-%e0%b8%98%e0%b8%a3%e0%b8%a3%e0%b8%a1%e0%b8%99%e0%b8%b4%e0%b8%95%e0%b8%b4-%e0%b8%88%e0%b8%b3%e0%b8%81%e0%b8%b1%e0%b8%94-%e0%b8%a1%e0%b8%ab-5/
LOCATION:บริษัท ธรรมนิติ จำกัด (มหาชน)\, บริษัท ธรรมนิติ จำกัด (มหาชน) 178 อาคารธรรมนิติ ชั้น 3 ซอย ประชาชื่น 20 แขวงบางซื่อ เขตบางซื่อ กรุงเทพมหานคร 10800
CATEGORIES:ปฏิทินตารางหน่วยเคลื่อนที่
END:VEVENT
BEGIN:VEVENT
DTSTART;TZID=Asia/Bangkok:20250821T120000
DTEND;TZID=Asia/Bangkok:20250821T150000
DTSTAMP:20260420T172613
CREATED:20250819T134733Z
LAST-MODIFIED:20250819T134733Z
UID:10002956-1755777600-1755788400@boo.colorpack.net
SUMMARY:บริษัท ธรรมนิติ จำกัด (มหาชน) [0M0940]
DESCRIPTION:สถานที่เจาะ : ลานจอดรถ (ข้างเต้นท์) \nที่อยู่ : 178 ซอยเพิ่มทรัพย์ (ประชาชื่น 20) ถนนประชาชื่น แขวงบางซื่อ เขตบางซื่อ กรุงเทพฯ 0 2596 0500
URL:https://boo.colorpack.net/event/%e0%b8%9a%e0%b8%a3%e0%b8%b4%e0%b8%a9%e0%b8%b1%e0%b8%97-%e0%b8%98%e0%b8%a3%e0%b8%a3%e0%b8%a1%e0%b8%99%e0%b8%b4%e0%b8%95%e0%b8%b4-%e0%b8%88%e0%b8%b3%e0%b8%81%e0%b8%b1%e0%b8%94-%e0%b8%a1%e0%b8%ab-3/
LOCATION:บริษัท ธรรมนิติ จำกัด (มหาชน)\, บริษัท ธรรมนิติ จำกัด (มหาชน) 178 อาคารธรรมนิติ ชั้น 3 ซอย ประชาชื่น 20 แขวงบางซื่อ เขตบางซื่อ กรุงเทพมหานคร 10800
CATEGORIES:ปฏิทินตารางหน่วยเคลื่อนที่
END:VEVENT
BEGIN:VEVENT
DTSTART;TZID=Asia/Bangkok:20250522T120000
DTEND;TZID=Asia/Bangkok:20250522T150000
DTSTAMP:20260420T172613
CREATED:20250515T095444Z
LAST-MODIFIED:20250515T095444Z
UID:10001832-1747915200-1747926000@boo.colorpack.net
SUMMARY:บริษัท ธรรมนิติ จำกัด (มหาชน) []
DESCRIPTION:สถานที่เจาะ : ลานจอดรถ (ข้างเต้นท์) \nที่อยู่ : 178 ซอยเพิ่มทรัพย์ (ประชาชื่น 20) ถนนประชาชื่น แขวงบางซื่อ เขตบางซื่อ กรุงเทพฯ 0 2596 0500
URL:https://boo.colorpack.net/event/%e0%b8%9a%e0%b8%a3%e0%b8%b4%e0%b8%a9%e0%b8%b1%e0%b8%97-%e0%b8%98%e0%b8%a3%e0%b8%a3%e0%b8%a1%e0%b8%99%e0%b8%b4%e0%b8%95%e0%b8%b4-%e0%b8%88%e0%b8%b3%e0%b8%81%e0%b8%b1%e0%b8%94-%e0%b8%a1%e0%b8%ab-2/
LOCATION:บริษัท ธรรมนิติ จำกัด (มหาชน)\, บริษัท ธรรมนิติ จำกัด (มหาชน) 178 อาคารธรรมนิติ ชั้น 3 ซอย ประชาชื่น 20 แขวงบางซื่อ เขตบางซื่อ กรุงเทพมหานคร 10800
CATEGORIES:ปฏิทินตารางหน่วยเคลื่อนที่
END:VEVENT
BEGIN:VEVENT
DTSTART;TZID=Asia/Bangkok:20250220T120000
DTEND;TZID=Asia/Bangkok:20250220T150000
DTSTAMP:20260420T172613
CREATED:20250216T082538Z
LAST-MODIFIED:20250216T082538Z
UID:10000626-1740052800-1740063600@boo.colorpack.net
SUMMARY:บริษัท ธรรมนิติ จำกัด (มหาชน) [0M0940]
DESCRIPTION:สถานที่เจาะ : ลานจอดรถ (ข้างเต้นท์) \nที่อยู่ : 178 ซอยเพิ่มทรัพย์ (ประชาชื่น 20) ถนนประชาชื่น แขวงบางซื่อ เขตบางซื่อ กรุงเทพฯ  \nโทร : 0 2596 0500
URL:https://boo.colorpack.net/event/%e0%b8%9a%e0%b8%a3%e0%b8%b4%e0%b8%a9%e0%b8%b1%e0%b8%97-%e0%b8%98%e0%b8%a3%e0%b8%a3%e0%b8%a1%e0%b8%99%e0%b8%b4%e0%b8%95%e0%b8%b4-%e0%b8%88%e0%b8%b3%e0%b8%81%e0%b8%b1%e0%b8%94-%e0%b8%a1%e0%b8%ab/
LOCATION:บริษัท ธรรมนิติ จำกัด (มหาชน)\, บริษัท ธรรมนิติ จำกัด (มหาชน) 178 อาคารธรรมนิติ ชั้น 3 ซอย ประชาชื่น 20 แขวงบางซื่อ เขตบางซื่อ กรุงเทพมหานคร 10800
CATEGORIES:ปฏิทินตารางหน่วยเคลื่อนที่
END:VEVENT
END:VCALENDAR