BEGIN:VCALENDAR
VERSION:2.0
PRODID:-//เว็บไซต์ศูนย์บริการโลหิตแห่งชาติ - ECPv6.11.2.1//NONSGML v1.0//EN
CALSCALE:GREGORIAN
METHOD:PUBLISH
X-WR-CALNAME:เว็บไซต์ศูนย์บริการโลหิตแห่งชาติ
X-ORIGINAL-URL:https://boo.colorpack.net
X-WR-CALDESC:Events for เว็บไซต์ศูนย์บริการโลหิตแห่งชาติ
REFRESH-INTERVAL;VALUE=DURATION:PT1H
X-Robots-Tag:noindex
X-PUBLISHED-TTL:PT1H
BEGIN:VTIMEZONE
TZID:Asia/Krasnoyarsk
BEGIN:STANDARD
TZOFFSETFROM:+0700
TZOFFSETTO:+0700
TZNAME:+07
DTSTART:20260101T000000
END:STANDARD
END:VTIMEZONE
BEGIN:VTIMEZONE
TZID:Asia/Bangkok
BEGIN:STANDARD
TZOFFSETFROM:+0700
TZOFFSETTO:+0700
TZNAME:+07
DTSTART:20250101T000000
END:STANDARD
END:VTIMEZONE
BEGIN:VEVENT
DTSTART;TZID=Asia/Krasnoyarsk:20260119T090000
DTEND;TZID=Asia/Krasnoyarsk:20260119T150000
DTSTAMP:20260421T172457
CREATED:20260113T120228Z
LAST-MODIFIED:20260113T120228Z
UID:10005165-1768813200-1768834800@boo.colorpack.net
SUMMARY:บริษัท ดีเอชแอลซัพพลายเชน (ประเทศไทย) จำกัด []
DESCRIPTION:สถานที่เจาะ : หน้าตึกสำนักงาน (พัก 12.00-13.00 น.) \nที่อยู่ : 2/26 ม.1 ถ.บางนา-ตราด กม. 16 ต.บางโฉลง อ.บางพลี จ.สมุทรปราการ 0 2048 6489
URL:https://boo.colorpack.net/event/%e0%b8%9a%e0%b8%a3%e0%b8%b4%e0%b8%a9%e0%b8%b1%e0%b8%97-%e0%b8%94%e0%b8%b5%e0%b9%80%e0%b8%ad%e0%b8%8a%e0%b9%81%e0%b8%ad%e0%b8%a5%e0%b8%8b%e0%b8%b1%e0%b8%9e%e0%b8%9e%e0%b8%a5%e0%b8%b2%e0%b8%a2-4/
LOCATION:บริษัท ดีเอชแอลซัพพลายเชน (ประเทศไทย) จำกัด\, บริษัท ดีเอชแอลซัพพลายเชน (ประเทศไทย) จำกัด สาขาที่ 00019 ประตูที่ (24-25) เลขที่ 2/26 หมู่ที่ 1 ถนนบางนา-ตราด กม.16.5 ตำบลบางโฉลง อำเภอบางพลี จ.สมุทรปราการ 10540
CATEGORIES:ปฏิทินตารางหน่วยเคลื่อนที่
END:VEVENT
BEGIN:VEVENT
DTSTART;TZID=Asia/Bangkok:20251006T090000
DTEND;TZID=Asia/Bangkok:20251006T150000
DTSTAMP:20260421T172457
CREATED:20250924T111259Z
LAST-MODIFIED:20250924T111259Z
UID:10003421-1759741200-1759762800@boo.colorpack.net
SUMMARY:บริษัท ดีเอชแอลซัพพลายเชน (ประเทศไทย) จำกัด [0M0840]
DESCRIPTION:สถานที่เจาะ : หน้าตึกสำนักงาน (พัก 12-13 น.) \nที่อยู่ : 2/26 ม.1 ถ.บางนา-ตราด กม. 16 ต.บางโฉลง อ.บางพลี จ.สมุทรปราการ 0 2048 6489
URL:https://boo.colorpack.net/event/%e0%b8%9a%e0%b8%a3%e0%b8%b4%e0%b8%a9%e0%b8%b1%e0%b8%97-%e0%b8%94%e0%b8%b5%e0%b9%80%e0%b8%ad%e0%b8%8a%e0%b9%81%e0%b8%ad%e0%b8%a5%e0%b8%8b%e0%b8%b1%e0%b8%9e%e0%b8%9e%e0%b8%a5%e0%b8%b2%e0%b8%a2-3/
LOCATION:บริษัท ดีเอชแอลซัพพลายเชน (ประเทศไทย) จำกัด\, บริษัท ดีเอชแอลซัพพลายเชน (ประเทศไทย) จำกัด สาขาที่ 00019 ประตูที่ (24-25) เลขที่ 2/26 หมู่ที่ 1 ถนนบางนา-ตราด กม.16.5 ตำบลบางโฉลง อำเภอบางพลี จ.สมุทรปราการ 10540
CATEGORIES:ปฏิทินตารางหน่วยเคลื่อนที่
END:VEVENT
BEGIN:VEVENT
DTSTART;TZID=Asia/Bangkok:20250707T090000
DTEND;TZID=Asia/Bangkok:20250707T150000
DTSTAMP:20260421T172457
CREATED:20250623T040046Z
LAST-MODIFIED:20250623T040046Z
UID:10002323-1751878800-1751900400@boo.colorpack.net
SUMMARY:บริษัท ดีเอชแอลซัพพลายเชน (ประเทศไทย) จำกัด []
DESCRIPTION:สถานที่เจาะ : หน้าตึกสำนักงาน (พัก 12-13 น.) \nที่อยู่ : 2/26 ม.1 ถ.บางนา-ตราด กม. 16 ต.บางโฉลง อ.บางพลี จ.สมุทรปราการ 0 2048 6489
URL:https://boo.colorpack.net/event/%e0%b8%9a%e0%b8%a3%e0%b8%b4%e0%b8%a9%e0%b8%b1%e0%b8%97-%e0%b8%94%e0%b8%b5%e0%b9%80%e0%b8%ad%e0%b8%8a%e0%b9%81%e0%b8%ad%e0%b8%a5%e0%b8%8b%e0%b8%b1%e0%b8%9e%e0%b8%9e%e0%b8%a5%e0%b8%b2%e0%b8%a2-2/
LOCATION:บริษัท ดีเอชแอลซัพพลายเชน (ประเทศไทย) จำกัด\, บริษัท ดีเอชแอลซัพพลายเชน (ประเทศไทย) จำกัด สาขาที่ 00019 ประตูที่ (24-25) เลขที่ 2/26 หมู่ที่ 1 ถนนบางนา-ตราด กม.16.5 ตำบลบางโฉลง อำเภอบางพลี จ.สมุทรปราการ 10540
CATEGORIES:ปฏิทินตารางหน่วยเคลื่อนที่
END:VEVENT
BEGIN:VEVENT
DTSTART;TZID=Asia/Bangkok:20250408T090000
DTEND;TZID=Asia/Bangkok:20250408T150000
DTSTAMP:20260421T172457
CREATED:20250404T145533Z
LAST-MODIFIED:20250404T145533Z
UID:10001229-1744102800-1744124400@boo.colorpack.net
SUMMARY:บริษัท ดีเอชแอลซัพพลายเชน (ประเทศไทย) จำกัด [0M0840]
DESCRIPTION:สถานที่เจาะ : หน้าตึกสำนักงาน (พัก 12.00-13.00 น.) \nที่อยู่ : 2/26 ม.1 ถ.บางนา-ตราด กม. 16 ต.บางโฉลง อ.บางพลี จ.สมุทรปราการ 0 2048 6489
URL:https://boo.colorpack.net/event/%e0%b8%9a%e0%b8%a3%e0%b8%b4%e0%b8%a9%e0%b8%b1%e0%b8%97-%e0%b8%94%e0%b8%b5%e0%b9%80%e0%b8%ad%e0%b8%8a%e0%b9%81%e0%b8%ad%e0%b8%a5%e0%b8%8b%e0%b8%b1%e0%b8%9e%e0%b8%9e%e0%b8%a5%e0%b8%b2%e0%b8%a2%e0%b9%80/
LOCATION:บริษัท ดีเอชแอลซัพพลายเชน (ประเทศไทย) จำกัด\, บริษัท ดีเอชแอลซัพพลายเชน (ประเทศไทย) จำกัด สาขาที่ 00019 ประตูที่ (24-25) เลขที่ 2/26 หมู่ที่ 1 ถนนบางนา-ตราด กม.16.5 ตำบลบางโฉลง อำเภอบางพลี จ.สมุทรปราการ 10540
CATEGORIES:ปฏิทินตารางหน่วยเคลื่อนที่
END:VEVENT
END:VCALENDAR