BEGIN:VCALENDAR
VERSION:2.0
PRODID:-//เว็บไซต์ศูนย์บริการโลหิตแห่งชาติ - ECPv6.11.2.1//NONSGML v1.0//EN
CALSCALE:GREGORIAN
METHOD:PUBLISH
X-ORIGINAL-URL:https://boo.colorpack.net
X-WR-CALDESC:Events for เว็บไซต์ศูนย์บริการโลหิตแห่งชาติ
REFRESH-INTERVAL;VALUE=DURATION:PT1H
X-Robots-Tag:noindex
X-PUBLISHED-TTL:PT1H
BEGIN:VTIMEZONE
TZID:Asia/Krasnoyarsk
BEGIN:STANDARD
TZOFFSETFROM:+0700
TZOFFSETTO:+0700
TZNAME:+07
DTSTART:20250101T000000
END:STANDARD
END:VTIMEZONE
BEGIN:VTIMEZONE
TZID:Asia/Bangkok
BEGIN:STANDARD
TZOFFSETFROM:+0700
TZOFFSETTO:+0700
TZNAME:+07
DTSTART:20250101T000000
END:STANDARD
END:VTIMEZONE
BEGIN:VEVENT
DTSTART;TZID=Asia/Krasnoyarsk:20251218T090000
DTEND;TZID=Asia/Krasnoyarsk:20251218T110000
DTSTAMP:20260424T034404
CREATED:20251215T115502Z
LAST-MODIFIED:20251215T115502Z
UID:10004747-1766048400-1766055600@boo.colorpack.net
SUMMARY:บริษัท ซัมมิท วินด์มิลล์ กอล์ฟ คลับ จำกัด [0M0586]
DESCRIPTION:สถานที่เจาะ : ทางเข้าคลับเฮ้าส์ข้างซุ้ม 5 \nที่อยู่ : 72 ม.14 ถ.บางนา-ตราด กม.10.5 ต.บางพลีใหญ่ อ.บางพลี จ.สมุทรปราการ 0 2750 2112-20
URL:https://boo.colorpack.net/event/%e0%b8%9a%e0%b8%a3%e0%b8%b4%e0%b8%a9%e0%b8%b1%e0%b8%97-%e0%b8%8b%e0%b8%b1%e0%b8%a1%e0%b8%a1%e0%b8%b4%e0%b8%97-%e0%b8%a7%e0%b8%b4%e0%b8%99%e0%b8%94%e0%b9%8c%e0%b8%a1%e0%b8%b4%e0%b8%a5%e0%b8%a5-3/
LOCATION:บริษัท ซัมมิท วินด์มิลล์ กอล์ฟ คลับ จำกัด\, บริษัท ซัมมิท วินด์มิลล์ กอล์ฟ คลับ จำกัด 72 ม.14 ถ.บางนา-ตราด กม.10.5 ต.บางพลีใหญ่ อ.บางพลี จ.สมุทรปราการ 10540
CATEGORIES:ปฏิทินตารางหน่วยเคลื่อนที่
END:VEVENT
BEGIN:VEVENT
DTSTART;TZID=Asia/Bangkok:20250925T090000
DTEND;TZID=Asia/Bangkok:20250925T110000
DTSTAMP:20260424T034404
CREATED:20250911T045840Z
LAST-MODIFIED:20250911T045840Z
UID:10003369-1758790800-1758798000@boo.colorpack.net
SUMMARY:บริษัท ซัมมิท วินด์มิลล์ กอล์ฟ คลับ จำกัด [0M0586]
DESCRIPTION:สถานที่เจาะ : ทางเข้าคลับเฮ้าส์ข้างซุ้ม 5 \nที่อยู่ : 72 ม.14 ถ.บางนา-ตราด กม.10.5 ต.บางพลีใหญ่ อ.บางพลี จ.สมุทรปราการ 0 2750 2112-20
URL:https://boo.colorpack.net/event/%e0%b8%9a%e0%b8%a3%e0%b8%b4%e0%b8%a9%e0%b8%b1%e0%b8%97-%e0%b8%8b%e0%b8%b1%e0%b8%a1%e0%b8%a1%e0%b8%b4%e0%b8%97-%e0%b8%a7%e0%b8%b4%e0%b8%99%e0%b8%94%e0%b9%8c%e0%b8%a1%e0%b8%b4%e0%b8%a5%e0%b8%a5-2/
LOCATION:บริษัท ซัมมิท วินด์มิลล์ กอล์ฟ คลับ จำกัด\, บริษัท ซัมมิท วินด์มิลล์ กอล์ฟ คลับ จำกัด 72 ม.14 ถ.บางนา-ตราด กม.10.5 ต.บางพลีใหญ่ อ.บางพลี จ.สมุทรปราการ 10540
CATEGORIES:ปฏิทินตารางหน่วยเคลื่อนที่
END:VEVENT
BEGIN:VEVENT
DTSTART;TZID=Asia/Bangkok:20250626T090000
DTEND;TZID=Asia/Bangkok:20250626T110000
DTSTAMP:20260424T034404
CREATED:20250626T013918Z
LAST-MODIFIED:20250626T013918Z
UID:10002379-1750928400-1750935600@boo.colorpack.net
SUMMARY:บริษัท ซัมมิท วินด์มิลล์ กอล์ฟ คลับ จำกัด []
DESCRIPTION:สถานที่เจาะ : ทางเข้าคลับเฮ้าส์ข้างซุ้ม 5 \nที่อยู่ : 72 ม.14 ถ.บางนา-ตราด กม.10.5 ต.บางพลีใหญ่ อ.บางพลี จ.สมุทรปราการ 0 2750 2112-20
URL:https://boo.colorpack.net/event/%e0%b8%9a%e0%b8%a3%e0%b8%b4%e0%b8%a9%e0%b8%b1%e0%b8%97-%e0%b8%8b%e0%b8%b1%e0%b8%a1%e0%b8%a1%e0%b8%b4%e0%b8%97-%e0%b8%a7%e0%b8%b4%e0%b8%99%e0%b8%94%e0%b9%8c%e0%b8%a1%e0%b8%b4%e0%b8%a5%e0%b8%a5%e0%b9%8c/
LOCATION:บริษัท ซัมมิท วินด์มิลล์ กอล์ฟ คลับ จำกัด\, บริษัท ซัมมิท วินด์มิลล์ กอล์ฟ คลับ จำกัด 72 ม.14 ถ.บางนา-ตราด กม.10.5 ต.บางพลีใหญ่ อ.บางพลี จ.สมุทรปราการ 10540
CATEGORIES:ปฏิทินตารางหน่วยเคลื่อนที่
END:VEVENT
END:VCALENDAR