BEGIN:VCALENDAR
VERSION:2.0
PRODID:-//เว็บไซต์ศูนย์บริการโลหิตแห่งชาติ - ECPv6.11.2.1//NONSGML v1.0//EN
CALSCALE:GREGORIAN
METHOD:PUBLISH
X-ORIGINAL-URL:https://boo.colorpack.net
X-WR-CALDESC:Events for เว็บไซต์ศูนย์บริการโลหิตแห่งชาติ
REFRESH-INTERVAL;VALUE=DURATION:PT1H
X-Robots-Tag:noindex
X-PUBLISHED-TTL:PT1H
BEGIN:VTIMEZONE
TZID:Asia/Krasnoyarsk
BEGIN:STANDARD
TZOFFSETFROM:+0700
TZOFFSETTO:+0700
TZNAME:+07
DTSTART:20250101T000000
END:STANDARD
END:VTIMEZONE
BEGIN:VTIMEZONE
TZID:Asia/Bangkok
BEGIN:STANDARD
TZOFFSETFROM:+0700
TZOFFSETTO:+0700
TZNAME:+07
DTSTART:20250101T000000
END:STANDARD
END:VTIMEZONE
BEGIN:VEVENT
DTSTART;TZID=Asia/Krasnoyarsk:20251218T130000
DTEND;TZID=Asia/Krasnoyarsk:20251218T150000
DTSTAMP:20260421T173226
CREATED:20251215T115456Z
LAST-MODIFIED:20251215T115456Z
UID:10004746-1766062800-1766070000@boo.colorpack.net
SUMMARY:บริษัท ครอมัลลอย (ประเทศไทย) จำกัด [0M0873]
DESCRIPTION:สถานที่เจาะ : ด้านข้างโรงอาหาร \nที่อยู่ : 25 ม.5 ถ.ลำลูกกา ต.บึงคำพร้อย อ.ลำลูกกา ปทุมธานี 0 2985 0834
URL:https://boo.colorpack.net/event/%e0%b8%9a%e0%b8%a3%e0%b8%b4%e0%b8%a9%e0%b8%b1%e0%b8%97-%e0%b8%84%e0%b8%a3%e0%b8%ad%e0%b8%a1%e0%b8%b1%e0%b8%a5%e0%b8%a5%e0%b8%ad%e0%b8%a2-%e0%b8%9b%e0%b8%a3%e0%b8%b0%e0%b9%80%e0%b8%97%e0%b8%a8-6/
LOCATION:บริษัท ครอมัลลอย (ประเทศไทย) จำกัด\, บริษัท ครอมัลลอย (ประเทศไทย) จำกัด 25 ม.5 ถ.พหลโยธิน-ลำลูกกา ต.บึงคำพร้อย อ.ลำลูกกา จ.ปทุมธานี 12150
CATEGORIES:ปฏิทินตารางหน่วยเคลื่อนที่
END:VEVENT
BEGIN:VEVENT
DTSTART;TZID=Asia/Krasnoyarsk:20251211T130000
DTEND;TZID=Asia/Krasnoyarsk:20251211T150000
DTSTAMP:20260421T173226
CREATED:20251208T072956Z
LAST-MODIFIED:20251208T072956Z
UID:10004629-1765458000-1765465200@boo.colorpack.net
SUMMARY:บริษัท ครอมัลลอย (ประเทศไทย) จำกัด []
DESCRIPTION:สถานที่เจาะ : ด้านข้างโรงอาหาร \nที่อยู่ : 25 ม.5 ถ.ลำลูกกา ต.บึงคำพร้อย อ.ลำลูกกา ปทุมธานี 0 2985 0834
URL:https://boo.colorpack.net/event/%e0%b8%9a%e0%b8%a3%e0%b8%b4%e0%b8%a9%e0%b8%b1%e0%b8%97-%e0%b8%84%e0%b8%a3%e0%b8%ad%e0%b8%a1%e0%b8%b1%e0%b8%a5%e0%b8%a5%e0%b8%ad%e0%b8%a2-%e0%b8%9b%e0%b8%a3%e0%b8%b0%e0%b9%80%e0%b8%97%e0%b8%a8-5/
LOCATION:บริษัท ครอมัลลอย (ประเทศไทย) จำกัด\, บริษัท ครอมัลลอย (ประเทศไทย) จำกัด 25 ม.5 ถ.พหลโยธิน-ลำลูกกา ต.บึงคำพร้อย อ.ลำลูกกา จ.ปทุมธานี 12150
CATEGORIES:ปฏิทินตารางหน่วยเคลื่อนที่
END:VEVENT
BEGIN:VEVENT
DTSTART;TZID=Asia/Bangkok:20250911T130000
DTEND;TZID=Asia/Bangkok:20250911T150000
DTSTAMP:20260421T173226
CREATED:20250903T072019Z
LAST-MODIFIED:20250903T072019Z
UID:10003163-1757595600-1757602800@boo.colorpack.net
SUMMARY:บริษัท ครอมัลลอย (ประเทศไทย) จำกัด [0M0873]
DESCRIPTION:สถานที่เจาะ : ด้านข้างโรงอาหาร \nที่อยู่ : 25 ม.5 ถ.ลำลูกกา ต.บึงคำพร้อย อ.ลำลูกกา ปทุมธานี 0 2985 0834
URL:https://boo.colorpack.net/event/%e0%b8%9a%e0%b8%a3%e0%b8%b4%e0%b8%a9%e0%b8%b1%e0%b8%97-%e0%b8%84%e0%b8%a3%e0%b8%ad%e0%b8%a1%e0%b8%b1%e0%b8%a5%e0%b8%a5%e0%b8%ad%e0%b8%a2-%e0%b8%9b%e0%b8%a3%e0%b8%b0%e0%b9%80%e0%b8%97%e0%b8%a8-4/
LOCATION:บริษัท ครอมัลลอย (ประเทศไทย) จำกัด\, บริษัท ครอมัลลอย (ประเทศไทย) จำกัด 25 ม.5 ถ.พหลโยธิน-ลำลูกกา ต.บึงคำพร้อย อ.ลำลูกกา จ.ปทุมธานี 12150
CATEGORIES:ปฏิทินตารางหน่วยเคลื่อนที่
END:VEVENT
BEGIN:VEVENT
DTSTART;TZID=Asia/Bangkok:20250619T130000
DTEND;TZID=Asia/Bangkok:20250619T150000
DTSTAMP:20260421T173226
CREATED:20250612T093137Z
LAST-MODIFIED:20250619T032413Z
UID:10002154-1750338000-1750345200@boo.colorpack.net
SUMMARY:บริษัท ครอมัลลอย (ประเทศไทย) จำกัด []
DESCRIPTION:สถานที่เจาะ : ด้านข้างโรงอาหาร \nที่อยู่ : 25 ม.5 ถ.ลำลูกกา ต.บึงคำพร้อย อ.ลำลูกกา ปทุมธานี 0 2985 0834
URL:https://boo.colorpack.net/event/%e0%b8%9a%e0%b8%a3%e0%b8%b4%e0%b8%a9%e0%b8%b1%e0%b8%97-%e0%b8%84%e0%b8%a3%e0%b8%ad%e0%b8%a1%e0%b8%b1%e0%b8%a5%e0%b8%a5%e0%b8%ad%e0%b8%a2-%e0%b8%9b%e0%b8%a3%e0%b8%b0%e0%b9%80%e0%b8%97%e0%b8%a8-3/
LOCATION:บริษัท ครอมัลลอย (ประเทศไทย) จำกัด\, บริษัท ครอมัลลอย (ประเทศไทย) จำกัด 25 ม.5 ถ.พหลโยธิน-ลำลูกกา ต.บึงคำพร้อย อ.ลำลูกกา จ.ปทุมธานี 12150
CATEGORIES:ปฏิทินตารางหน่วยเคลื่อนที่
END:VEVENT
BEGIN:VEVENT
DTSTART;TZID=Asia/Bangkok:20250612T130000
DTEND;TZID=Asia/Bangkok:20250612T150000
DTSTAMP:20260421T173226
CREATED:20250604T044820Z
LAST-MODIFIED:20250604T044820Z
UID:10002047-1749733200-1749740400@boo.colorpack.net
SUMMARY:บริษัท ครอมัลลอย (ประเทศไทย) จำกัด []
DESCRIPTION:สถานที่เจาะ : ด้านข้างโรงอาหาร \nที่อยู่ : 25 ม.5 ถ.ลำลูกกา ต.บึงคำพร้อย อ.ลำลูกกา ปทุมธานี 0 2985 0834
URL:https://boo.colorpack.net/event/%e0%b8%9a%e0%b8%a3%e0%b8%b4%e0%b8%a9%e0%b8%b1%e0%b8%97-%e0%b8%84%e0%b8%a3%e0%b8%ad%e0%b8%a1%e0%b8%b1%e0%b8%a5%e0%b8%a5%e0%b8%ad%e0%b8%a2-%e0%b8%9b%e0%b8%a3%e0%b8%b0%e0%b9%80%e0%b8%97%e0%b8%a8-2/
LOCATION:บริษัท ครอมัลลอย (ประเทศไทย) จำกัด\, บริษัท ครอมัลลอย (ประเทศไทย) จำกัด 25 ม.5 ถ.พหลโยธิน-ลำลูกกา ต.บึงคำพร้อย อ.ลำลูกกา จ.ปทุมธานี 12150
CATEGORIES:ปฏิทินตารางหน่วยเคลื่อนที่
END:VEVENT
BEGIN:VEVENT
DTSTART;TZID=Asia/Bangkok:20250313T130000
DTEND;TZID=Asia/Bangkok:20250313T150000
DTSTAMP:20260421T173226
CREATED:20250309T135704Z
LAST-MODIFIED:20250309T135704Z
UID:10000851-1741870800-1741878000@boo.colorpack.net
SUMMARY:บริษัท ครอมัลลอย (ประเทศไทย) จำกัด [0M0873]
DESCRIPTION:สถานที่เจาะ : ด้านข้างโรงอาหาร \nที่อยู่ : 25 ม.5 ถ.ลำลูกกา ต.บึงคำพร้อย อ.ลำลูกกา ปทุมธานี 0 2985 0834
URL:https://boo.colorpack.net/event/%e0%b8%9a%e0%b8%a3%e0%b8%b4%e0%b8%a9%e0%b8%b1%e0%b8%97-%e0%b8%84%e0%b8%a3%e0%b8%ad%e0%b8%a1%e0%b8%b1%e0%b8%a5%e0%b8%a5%e0%b8%ad%e0%b8%a2-%e0%b8%9b%e0%b8%a3%e0%b8%b0%e0%b9%80%e0%b8%97%e0%b8%a8/
LOCATION:บริษัท ครอมัลลอย (ประเทศไทย) จำกัด\, บริษัท ครอมัลลอย (ประเทศไทย) จำกัด 25 ม.5 ถ.พหลโยธิน-ลำลูกกา ต.บึงคำพร้อย อ.ลำลูกกา จ.ปทุมธานี 12150
CATEGORIES:ปฏิทินตารางหน่วยเคลื่อนที่
END:VEVENT
END:VCALENDAR