BEGIN:VCALENDAR
VERSION:2.0
PRODID:-//เว็บไซต์ศูนย์บริการโลหิตแห่งชาติ - ECPv6.11.2.1//NONSGML v1.0//EN
CALSCALE:GREGORIAN
METHOD:PUBLISH
X-WR-CALNAME:เว็บไซต์ศูนย์บริการโลหิตแห่งชาติ
X-ORIGINAL-URL:https://boo.colorpack.net
X-WR-CALDESC:Events for เว็บไซต์ศูนย์บริการโลหิตแห่งชาติ
REFRESH-INTERVAL;VALUE=DURATION:PT1H
X-Robots-Tag:noindex
X-PUBLISHED-TTL:PT1H
BEGIN:VTIMEZONE
TZID:Asia/Krasnoyarsk
BEGIN:STANDARD
TZOFFSETFROM:+0700
TZOFFSETTO:+0700
TZNAME:+07
DTSTART:20250101T000000
END:STANDARD
END:VTIMEZONE
BEGIN:VTIMEZONE
TZID:Asia/Bangkok
BEGIN:STANDARD
TZOFFSETFROM:+0700
TZOFFSETTO:+0700
TZNAME:+07
DTSTART:20250101T000000
END:STANDARD
END:VTIMEZONE
BEGIN:VEVENT
DTSTART;TZID=Asia/Krasnoyarsk:20251203T090000
DTEND;TZID=Asia/Krasnoyarsk:20251203T150000
DTSTAMP:20260424T171231
CREATED:20251128T090208Z
LAST-MODIFIED:20251128T110224Z
UID:10004523-1764752400-1764774000@boo.colorpack.net
SUMMARY:บริษัท กรุงเทพโทรทัศน์และวิทยุ จำกัด []
DESCRIPTION:สถานที่เจาะ : อาคาร 7 ชั้น 1 ห้อง 701 (พัก 12.00-13.00 น.) \nที่อยู่ : 998/1 ถนนพหลโยธิน แขวงจอมพล เขตจตุจักร กรุงเทพฯ 0 2495 7777
URL:https://boo.colorpack.net/event/%e0%b8%9a%e0%b8%a3%e0%b8%b4%e0%b8%a9%e0%b8%b1%e0%b8%97-%e0%b8%81%e0%b8%a3%e0%b8%b8%e0%b8%87%e0%b9%80%e0%b8%97%e0%b8%9e%e0%b9%82%e0%b8%97%e0%b8%a3%e0%b8%97%e0%b8%b1%e0%b8%a8%e0%b8%99%e0%b9%8c-4/
LOCATION:บริษัท กรุงเทพโทรทัศน์และวิทยุ จำกัด\, บริษัท กรุงเทพโทรทัศน์และวิทยุ จำกัด 998/1 ซอยร่วมศิริมิตร (พหลโยธิน 18/1) ถนนพหลโยธิน แขวงจอมพล เขตจตุจักร กทม. 10900
CATEGORIES:ปฏิทินตารางหน่วยเคลื่อนที่
END:VEVENT
BEGIN:VEVENT
DTSTART;TZID=Asia/Bangkok:20250605T090000
DTEND;TZID=Asia/Bangkok:20250605T150000
DTSTAMP:20260424T171231
CREATED:20250530T122802Z
LAST-MODIFIED:20250707T034350Z
UID:10001938-1749114000-1749135600@boo.colorpack.net
SUMMARY:บริษัท กรุงเทพโทรทัศน์และวิทยุ จำกัด []
DESCRIPTION:สถานที่เจาะ : อาคาร 7 ชั้น 1 ห้อง 701 (พัก 12-13 น.) \nที่อยู่ : 998/1 ถนนพหลโยธิน แขวงจอมพล เขตจตุจักร กรุงเทพฯ 0 2495 7777
URL:https://boo.colorpack.net/event/%e0%b8%9a%e0%b8%a3%e0%b8%b4%e0%b8%a9%e0%b8%b1%e0%b8%97-%e0%b8%81%e0%b8%a3%e0%b8%b8%e0%b8%87%e0%b9%80%e0%b8%97%e0%b8%9e%e0%b9%82%e0%b8%97%e0%b8%a3%e0%b8%97%e0%b8%b1%e0%b8%a8%e0%b8%99%e0%b9%8c-2/
LOCATION:บริษัท กรุงเทพโทรทัศน์และวิทยุ จำกัด\, บริษัท กรุงเทพโทรทัศน์และวิทยุ จำกัด 998/1 ซอยร่วมศิริมิตร (พหลโยธิน 18/1) ถนนพหลโยธิน แขวงจอมพล เขตจตุจักร กทม. 10900
CATEGORIES:ปฏิทินตารางหน่วยเคลื่อนที่
END:VEVENT
BEGIN:VEVENT
DTSTART;TZID=Asia/Bangkok:20250303T090000
DTEND;TZID=Asia/Bangkok:20250303T150000
DTSTAMP:20260424T171231
CREATED:20250303T093145Z
LAST-MODIFIED:20250303T093145Z
UID:10000690-1740992400-1741014000@boo.colorpack.net
SUMMARY:บริษัท กรุงเทพโทรทัศน์และวิทยุ จำกัด [0M0179]
DESCRIPTION:สถานที่เจาะ : อาคาร 7 ชั้น 1 ห้อง 701 (พัก 12.00-13.00 น.) \nที่อยู่ : 998/1 ถนนพหลโยธิน แขวงจอมพล เขตจตุจักร กรุงเทพฯ 0 2495 7777
URL:https://boo.colorpack.net/event/%e0%b8%9a%e0%b8%a3%e0%b8%b4%e0%b8%a9%e0%b8%b1%e0%b8%97-%e0%b8%81%e0%b8%a3%e0%b8%b8%e0%b8%87%e0%b9%80%e0%b8%97%e0%b8%9e%e0%b9%82%e0%b8%97%e0%b8%a3%e0%b8%97%e0%b8%b1%e0%b8%a8%e0%b8%99%e0%b9%8c%e0%b9%81/
LOCATION:บริษัท กรุงเทพโทรทัศน์และวิทยุ จำกัด\, บริษัท กรุงเทพโทรทัศน์และวิทยุ จำกัด 998/1 ซอยร่วมศิริมิตร (พหลโยธิน 18/1) ถนนพหลโยธิน แขวงจอมพล เขตจตุจักร กทม. 10900
CATEGORIES:ปฏิทินตารางหน่วยเคลื่อนที่
END:VEVENT
END:VCALENDAR