BEGIN:VCALENDAR
VERSION:2.0
PRODID:-//เว็บไซต์ศูนย์บริการโลหิตแห่งชาติ - ECPv6.11.2.1//NONSGML v1.0//EN
CALSCALE:GREGORIAN
METHOD:PUBLISH
X-ORIGINAL-URL:https://boo.colorpack.net
X-WR-CALDESC:Events for เว็บไซต์ศูนย์บริการโลหิตแห่งชาติ
REFRESH-INTERVAL;VALUE=DURATION:PT1H
X-Robots-Tag:noindex
X-PUBLISHED-TTL:PT1H
BEGIN:VTIMEZONE
TZID:Asia/Krasnoyarsk
BEGIN:STANDARD
TZOFFSETFROM:+0700
TZOFFSETTO:+0700
TZNAME:+07
DTSTART:20260101T000000
END:STANDARD
END:VTIMEZONE
BEGIN:VTIMEZONE
TZID:Asia/Bangkok
BEGIN:STANDARD
TZOFFSETFROM:+0700
TZOFFSETTO:+0700
TZNAME:+07
DTSTART:20250101T000000
END:STANDARD
END:VTIMEZONE
BEGIN:VEVENT
DTSTART;TZID=Asia/Krasnoyarsk:20260104T110000
DTEND;TZID=Asia/Krasnoyarsk:20260104T150000
DTSTAMP:20260419T235927
CREATED:20251224T091841Z
LAST-MODIFIED:20251224T091841Z
UID:10004951-1767524400-1767538800@boo.colorpack.net
SUMMARY:นิติบุคคลอาคารชุดเดอะ โพลิแทน รีฟ []
DESCRIPTION:สถานที่เจาะ : หน้านิติฯ \nที่อยู่ : 28 ซ.นนทบุรี 15 ถ.สนามบินน้ำ ตำบลบางกระสอ ต.บางกระสอ อ.เมือง จ.นนทบุรี
URL:https://boo.colorpack.net/event/%e0%b8%99%e0%b8%b4%e0%b8%95%e0%b8%b4%e0%b8%9a%e0%b8%b8%e0%b8%84%e0%b8%84%e0%b8%a5%e0%b8%ad%e0%b8%b2%e0%b8%84%e0%b8%b2%e0%b8%a3%e0%b8%8a%e0%b8%b8%e0%b8%94%e0%b9%80%e0%b8%94%e0%b8%ad%e0%b8%b0-3/
LOCATION:นิติบุคคลอาคารชุดเดอะ โพลิแทน รีฟ\, นิติบุคคลอาคารชุดเดอะ โพลิแทน รีฟ ซ.นนทบุรี 15 บางกระสอ อำเภอเมืองนนทบุรี นนทบุรี 11000
CATEGORIES:ปฏิทินตารางหน่วยเคลื่อนที่
END:VEVENT
BEGIN:VEVENT
DTSTART;TZID=Asia/Bangkok:20251011T110000
DTEND;TZID=Asia/Bangkok:20251011T150000
DTSTAMP:20260419T235927
CREATED:20251003T085258Z
LAST-MODIFIED:20251003T085258Z
UID:10003600-1760180400-1760194800@boo.colorpack.net
SUMMARY:นิติบุคคลอาคารชุดเดอะ โพลิแทน รีฟ [0N0012]
DESCRIPTION:สถานที่เจาะ : หน้านิติฯ \nที่อยู่ : 28 ซ.นนทบุรี 15 ถ.สนามบินน้ำ ตำบลบางกระสอ ต.บางกระสอ อ.เมือง จ.นนทบุรี
URL:https://boo.colorpack.net/event/%e0%b8%99%e0%b8%b4%e0%b8%95%e0%b8%b4%e0%b8%9a%e0%b8%b8%e0%b8%84%e0%b8%84%e0%b8%a5%e0%b8%ad%e0%b8%b2%e0%b8%84%e0%b8%b2%e0%b8%a3%e0%b8%8a%e0%b8%b8%e0%b8%94%e0%b9%80%e0%b8%94%e0%b8%ad%e0%b8%b0-2/
LOCATION:นิติบุคคลอาคารชุดเดอะ โพลิแทน รีฟ\, นิติบุคคลอาคารชุดเดอะ โพลิแทน รีฟ ซ.นนทบุรี 15 บางกระสอ อำเภอเมืองนนทบุรี นนทบุรี 11000
CATEGORIES:ปฏิทินตารางหน่วยเคลื่อนที่
END:VEVENT
BEGIN:VEVENT
DTSTART;TZID=Asia/Bangkok:20250407T110000
DTEND;TZID=Asia/Bangkok:20250407T150000
DTSTAMP:20260419T235927
CREATED:20250328T033104Z
LAST-MODIFIED:20250404T145431Z
UID:10001210-1744023600-1744038000@boo.colorpack.net
SUMMARY:นิติบุคคลอาคารชุดเดอะ โพลิแทน รีฟ [0N0012]
DESCRIPTION:สถานที่เจาะ : หน้านิติฯ \nที่อยู่ : 28 ซ.นนทบุรี 15 ถ.สนามบินน้ำ ตำบลบางกระสอ ต.บางกระสอ อ.เมือง จ.นนทบุรี
URL:https://boo.colorpack.net/event/%e0%b8%99%e0%b8%b4%e0%b8%95%e0%b8%b4%e0%b8%9a%e0%b8%b8%e0%b8%84%e0%b8%84%e0%b8%a5%e0%b8%ad%e0%b8%b2%e0%b8%84%e0%b8%b2%e0%b8%a3%e0%b8%8a%e0%b8%b8%e0%b8%94%e0%b9%80%e0%b8%94%e0%b8%ad%e0%b8%b0-%e0%b9%82/
LOCATION:นิติบุคคลอาคารชุดเดอะ โพลิแทน รีฟ\, นิติบุคคลอาคารชุดเดอะ โพลิแทน รีฟ ซ.นนทบุรี 15 บางกระสอ อำเภอเมืองนนทบุรี นนทบุรี 11000
CATEGORIES:ปฏิทินตารางหน่วยเคลื่อนที่
END:VEVENT
END:VCALENDAR