BEGIN:VCALENDAR
VERSION:2.0
PRODID:-//เว็บไซต์ศูนย์บริการโลหิตแห่งชาติ - ECPv6.11.2.1//NONSGML v1.0//EN
CALSCALE:GREGORIAN
METHOD:PUBLISH
X-ORIGINAL-URL:https://boo.colorpack.net
X-WR-CALDESC:Events for เว็บไซต์ศูนย์บริการโลหิตแห่งชาติ
REFRESH-INTERVAL;VALUE=DURATION:PT1H
X-Robots-Tag:noindex
X-PUBLISHED-TTL:PT1H
BEGIN:VTIMEZONE
TZID:Asia/Bangkok
BEGIN:STANDARD
TZOFFSETFROM:+0700
TZOFFSETTO:+0700
TZNAME:+07
DTSTART:20250101T000000
END:STANDARD
END:VTIMEZONE
BEGIN:VEVENT
DTSTART;TZID=Asia/Bangkok:20251010T110000
DTEND;TZID=Asia/Bangkok:20251010T150000
DTSTAMP:20260420T222420
CREATED:20251003T084506Z
LAST-MODIFIED:20251003T084506Z
UID:10003584-1760094000-1760108400@boo.colorpack.net
SUMMARY:นิติบุคคลอาคารชุดเจมส์ทาวเวอร์ [0M0470]
DESCRIPTION:สถานที่เจาะ : หน้าอาคารฯ ฝั่งมเหสักข์ \nที่อยู่ : 1249 เจริญกรุง 47/3 แขวงสุริยวงศ์ เขตบางรัก กรุงเทพฯ 0 2267 4558-9
URL:https://boo.colorpack.net/event/%e0%b8%99%e0%b8%b4%e0%b8%95%e0%b8%b4%e0%b8%9a%e0%b8%b8%e0%b8%84%e0%b8%84%e0%b8%a5%e0%b8%ad%e0%b8%b2%e0%b8%84%e0%b8%b2%e0%b8%a3%e0%b8%8a%e0%b8%b8%e0%b8%94%e0%b9%80%e0%b8%88%e0%b8%a1%e0%b8%aa%e0%b9%8c-3/
LOCATION:นิติบุคคลอาคารชุดเจมส์ทาวเวอร์\, อาคาร เจมส์ ทาวเวอร์ Gems Tower 1249 ถนนเจริญกรุง แขวงสุริยวงศ์ เขตบางรัก กรุงเทพมหานคร 10500
CATEGORIES:ปฏิทินตารางหน่วยเคลื่อนที่
END:VEVENT
BEGIN:VEVENT
DTSTART;TZID=Asia/Bangkok:20250707T110000
DTEND;TZID=Asia/Bangkok:20250707T150000
DTSTAMP:20260420T222420
CREATED:20250623T040043Z
LAST-MODIFIED:20250623T040043Z
UID:10002322-1751886000-1751900400@boo.colorpack.net
SUMMARY:นิติบุคคลอาคารชุดเจมส์ทาวเวอร์ []
DESCRIPTION:สถานที่เจาะ : หน้าอาคารเจมส์ทาวเวอร์ฝั่งมเหสักข์ \nที่อยู่ : 1249 เจริญกรุง 47/3 แขวงสุริยวงศ์ เขตบางรัก กรุงเทพฯ 0 2267 4558-9
URL:https://boo.colorpack.net/event/%e0%b8%99%e0%b8%b4%e0%b8%95%e0%b8%b4%e0%b8%9a%e0%b8%b8%e0%b8%84%e0%b8%84%e0%b8%a5%e0%b8%ad%e0%b8%b2%e0%b8%84%e0%b8%b2%e0%b8%a3%e0%b8%8a%e0%b8%b8%e0%b8%94%e0%b9%80%e0%b8%88%e0%b8%a1%e0%b8%aa%e0%b9%8c-2/
LOCATION:นิติบุคคลอาคารชุดเจมส์ทาวเวอร์\, อาคาร เจมส์ ทาวเวอร์ Gems Tower 1249 ถนนเจริญกรุง แขวงสุริยวงศ์ เขตบางรัก กรุงเทพมหานคร 10500
CATEGORIES:ปฏิทินตารางหน่วยเคลื่อนที่
END:VEVENT
BEGIN:VEVENT
DTSTART;TZID=Asia/Bangkok:20250410T110000
DTEND;TZID=Asia/Bangkok:20250410T150000
DTSTAMP:20260420T222420
CREATED:20250404T150951Z
LAST-MODIFIED:20250404T150951Z
UID:10001262-1744282800-1744297200@boo.colorpack.net
SUMMARY:นิติบุคคลอาคารชุดเจมส์ทาวเวอร์ [0M0470]
DESCRIPTION:สถานที่เจาะ : หน้าอาคารเจมส์ทาวเวอร์ฝั่งมเหสักข์ \nที่อยู่ : 1249 เจริญกรุง 47/3 แขวงสุริยวงศ์ เขตบางรัก กรุงเทพฯ 0 2267 4558-9
URL:https://boo.colorpack.net/event/%e0%b8%99%e0%b8%b4%e0%b8%95%e0%b8%b4%e0%b8%9a%e0%b8%b8%e0%b8%84%e0%b8%84%e0%b8%a5%e0%b8%ad%e0%b8%b2%e0%b8%84%e0%b8%b2%e0%b8%a3%e0%b8%8a%e0%b8%b8%e0%b8%94%e0%b9%80%e0%b8%88%e0%b8%a1%e0%b8%aa%e0%b9%8c/
LOCATION:นิติบุคคลอาคารชุดเจมส์ทาวเวอร์\, อาคาร เจมส์ ทาวเวอร์ Gems Tower 1249 ถนนเจริญกรุง แขวงสุริยวงศ์ เขตบางรัก กรุงเทพมหานคร 10500
CATEGORIES:ปฏิทินตารางหน่วยเคลื่อนที่
END:VEVENT
END:VCALENDAR