BEGIN:VCALENDAR
VERSION:2.0
PRODID:-//เว็บไซต์ศูนย์บริการโลหิตแห่งชาติ - ECPv6.11.2.1//NONSGML v1.0//EN
CALSCALE:GREGORIAN
METHOD:PUBLISH
X-ORIGINAL-URL:https://boo.colorpack.net
X-WR-CALDESC:Events for เว็บไซต์ศูนย์บริการโลหิตแห่งชาติ
REFRESH-INTERVAL;VALUE=DURATION:PT1H
X-Robots-Tag:noindex
X-PUBLISHED-TTL:PT1H
BEGIN:VTIMEZONE
TZID:Asia/Krasnoyarsk
BEGIN:STANDARD
TZOFFSETFROM:+0700
TZOFFSETTO:+0700
TZNAME:+07
DTSTART:20250101T000000
END:STANDARD
END:VTIMEZONE
BEGIN:VTIMEZONE
TZID:Asia/Bangkok
BEGIN:STANDARD
TZOFFSETFROM:+0700
TZOFFSETTO:+0700
TZNAME:+07
DTSTART:20250101T000000
END:STANDARD
END:VTIMEZONE
BEGIN:VEVENT
DTSTART;TZID=Asia/Krasnoyarsk:20251203T093000
DTEND;TZID=Asia/Krasnoyarsk:20251203T150000
DTSTAMP:20260420T222416
CREATED:20251128T090350Z
LAST-MODIFIED:20251128T110237Z
UID:10004524-1764754200-1764774000@boo.colorpack.net
SUMMARY:นิติบุคคลอาคารชุด ปัญจธานีทาวเวอร์ []
DESCRIPTION:สถานที่เจาะ : หน้าอาคาร (พัก 11.30-12.30 น.) \nที่อยู่ : 127 ถนนนนทรี แขวงช่องนนทรี เขตยานนาวา กรุงเทพฯ 0 2295 2510
URL:https://boo.colorpack.net/event/%e0%b8%99%e0%b8%b4%e0%b8%95%e0%b8%b4%e0%b8%9a%e0%b8%b8%e0%b8%84%e0%b8%84%e0%b8%a5%e0%b8%ad%e0%b8%b2%e0%b8%84%e0%b8%b2%e0%b8%a3%e0%b8%8a%e0%b8%b8%e0%b8%94-%e0%b8%9b%e0%b8%b1%e0%b8%8d%e0%b8%88-4/
LOCATION:นิติบุคคลอาคารชุด ปัญจธานีทาวเวอร์\, ปัญจธานี ทาวเวอร์ 127 ถนนรัชดาภิเษก แขวงช่องนนทรี เขตยานนาวา กรุงเทพมหานคร 10120
CATEGORIES:ปฏิทินตารางหน่วยเคลื่อนที่
END:VEVENT
BEGIN:VEVENT
DTSTART;TZID=Asia/Bangkok:20250903T093000
DTEND;TZID=Asia/Bangkok:20250903T150000
DTSTAMP:20260420T222416
CREATED:20250825T093813Z
LAST-MODIFIED:20250825T093813Z
UID:10003059-1756891800-1756911600@boo.colorpack.net
SUMMARY:นิติบุคคลอาคารชุด ปัญจธานีทาวเวอร์ [0M0013]
DESCRIPTION:สถานที่เจาะ : หน้าอาคาร (พัก 11.30-12.30 น.) \nที่อยู่ : 127 ถนนนนทรี แขวงช่องนนทรี เขตยานนาวา กรุงเทพฯ 0 2295 2510
URL:https://boo.colorpack.net/event/%e0%b8%99%e0%b8%b4%e0%b8%95%e0%b8%b4%e0%b8%9a%e0%b8%b8%e0%b8%84%e0%b8%84%e0%b8%a5%e0%b8%ad%e0%b8%b2%e0%b8%84%e0%b8%b2%e0%b8%a3%e0%b8%8a%e0%b8%b8%e0%b8%94-%e0%b8%9b%e0%b8%b1%e0%b8%8d%e0%b8%88-3/
LOCATION:นิติบุคคลอาคารชุด ปัญจธานีทาวเวอร์\, ปัญจธานี ทาวเวอร์ 127 ถนนรัชดาภิเษก แขวงช่องนนทรี เขตยานนาวา กรุงเทพมหานคร 10120
CATEGORIES:ปฏิทินตารางหน่วยเคลื่อนที่
END:VEVENT
BEGIN:VEVENT
DTSTART;TZID=Asia/Bangkok:20250605T093000
DTEND;TZID=Asia/Bangkok:20250605T150000
DTSTAMP:20260420T222416
CREATED:20250530T122758Z
LAST-MODIFIED:20250707T034348Z
UID:10001937-1749115800-1749135600@boo.colorpack.net
SUMMARY:นิติบุคคลอาคารชุด ปัญจธานีทาวเวอร์ []
DESCRIPTION:สถานที่เจาะ : หน้าอาคาร (พัก 11.30-12.30 น.) \nที่อยู่ : 127 ถนนนนทรี แขวงช่องนนทรี เขตยานนาวา กรุงเทพฯ 0 2295 2510
URL:https://boo.colorpack.net/event/%e0%b8%99%e0%b8%b4%e0%b8%95%e0%b8%b4%e0%b8%9a%e0%b8%b8%e0%b8%84%e0%b8%84%e0%b8%a5%e0%b8%ad%e0%b8%b2%e0%b8%84%e0%b8%b2%e0%b8%a3%e0%b8%8a%e0%b8%b8%e0%b8%94-%e0%b8%9b%e0%b8%b1%e0%b8%8d%e0%b8%88-2/
LOCATION:นิติบุคคลอาคารชุด ปัญจธานีทาวเวอร์\, ปัญจธานี ทาวเวอร์ 127 ถนนรัชดาภิเษก แขวงช่องนนทรี เขตยานนาวา กรุงเทพมหานคร 10120
CATEGORIES:ปฏิทินตารางหน่วยเคลื่อนที่
END:VEVENT
BEGIN:VEVENT
DTSTART;TZID=Asia/Bangkok:20250305T093000
DTEND;TZID=Asia/Bangkok:20250305T150000
DTSTAMP:20260420T222416
CREATED:20250303T100645Z
LAST-MODIFIED:20250303T100645Z
UID:10000722-1741167000-1741186800@boo.colorpack.net
SUMMARY:นิติบุคคลอาคารชุด ปัญจธานีทาวเวอร์ [0M0013]
DESCRIPTION:สถานที่เจาะ : หน้าอาคาร (พัก 11.30-12.30 น.) \nที่อยู่ : 127 ถนนนนทรี แขวงช่องนนทรี เขตยานนาวา กรุงเทพฯ 0 2295 2510
URL:https://boo.colorpack.net/event/%e0%b8%99%e0%b8%b4%e0%b8%95%e0%b8%b4%e0%b8%9a%e0%b8%b8%e0%b8%84%e0%b8%84%e0%b8%a5%e0%b8%ad%e0%b8%b2%e0%b8%84%e0%b8%b2%e0%b8%a3%e0%b8%8a%e0%b8%b8%e0%b8%94-%e0%b8%9b%e0%b8%b1%e0%b8%8d%e0%b8%88%e0%b8%98/
LOCATION:นิติบุคคลอาคารชุด ปัญจธานีทาวเวอร์\, ปัญจธานี ทาวเวอร์ 127 ถนนรัชดาภิเษก แขวงช่องนนทรี เขตยานนาวา กรุงเทพมหานคร 10120
CATEGORIES:ปฏิทินตารางหน่วยเคลื่อนที่
END:VEVENT
END:VCALENDAR