BEGIN:VCALENDAR
VERSION:2.0
PRODID:-//เว็บไซต์ศูนย์บริการโลหิตแห่งชาติ - ECPv6.11.2.1//NONSGML v1.0//EN
CALSCALE:GREGORIAN
METHOD:PUBLISH
X-ORIGINAL-URL:https://boo.colorpack.net
X-WR-CALDESC:Events for เว็บไซต์ศูนย์บริการโลหิตแห่งชาติ
REFRESH-INTERVAL;VALUE=DURATION:PT1H
X-Robots-Tag:noindex
X-PUBLISHED-TTL:PT1H
BEGIN:VTIMEZONE
TZID:Asia/Krasnoyarsk
BEGIN:STANDARD
TZOFFSETFROM:+0700
TZOFFSETTO:+0700
TZNAME:+07
DTSTART:20250101T000000
END:STANDARD
END:VTIMEZONE
BEGIN:VTIMEZONE
TZID:Asia/Bangkok
BEGIN:STANDARD
TZOFFSETFROM:+0700
TZOFFSETTO:+0700
TZNAME:+07
DTSTART:20250101T000000
END:STANDARD
END:VTIMEZONE
BEGIN:VEVENT
DTSTART;TZID=Asia/Krasnoyarsk:20251124T090000
DTEND;TZID=Asia/Krasnoyarsk:20251124T150000
DTSTAMP:20260422T051912
CREATED:20251124T025222Z
LAST-MODIFIED:20251124T025222Z
UID:10004382-1763974800-1763996400@boo.colorpack.net
SUMMARY:ธนาคารเอชเอสบีซี ประเทศไทย []
DESCRIPTION:สถานที่เจาะ : อาคาร HSBC ชั้น 1  (พัก 11.00-12.00 น.) \nที่อยู่ : 968 ถนนพระราม 4 แขวงสีลม เขตบางรัก กรุงเทพฯ 0 2614 5343
URL:https://boo.colorpack.net/event/%e0%b8%98%e0%b8%99%e0%b8%b2%e0%b8%84%e0%b8%b2%e0%b8%a3%e0%b9%80%e0%b8%ad%e0%b8%8a%e0%b9%80%e0%b8%ad%e0%b8%aa%e0%b8%9a%e0%b8%b5%e0%b8%8b%e0%b8%b5-%e0%b8%9b%e0%b8%a3%e0%b8%b0%e0%b9%80%e0%b8%97-4/
LOCATION:ธนาคารเอชเอสบีซี ประเทศไทย\, ธนาคารเอชเอสบีซี ประเทศไทย อาคารอื้อจือเหลียง 968 ถ.พระรามที่ 4 แขวงสีลม เขตบางรัก กรุงเทพมหานคร 10500
CATEGORIES:ปฏิทินตารางหน่วยเคลื่อนที่
END:VEVENT
BEGIN:VEVENT
DTSTART;TZID=Asia/Bangkok:20250827T090000
DTEND;TZID=Asia/Bangkok:20250827T150000
DTSTAMP:20260422T051912
CREATED:20250817T105951Z
LAST-MODIFIED:20250817T105951Z
UID:10002896-1756285200-1756306800@boo.colorpack.net
SUMMARY:ธนาคารเอชเอสบีซี ประเทศไทย [0G0053]
DESCRIPTION:สถานที่เจาะ : อาคาร HSBC ชั้น 1  (พัก 11-12 น.) \nที่อยู่ : 968 ถนนพระราม 4 แขวงสีลม เขตบางรัก กรุงเทพฯ 0 2614 5343
URL:https://boo.colorpack.net/event/%e0%b8%98%e0%b8%99%e0%b8%b2%e0%b8%84%e0%b8%b2%e0%b8%a3%e0%b9%80%e0%b8%ad%e0%b8%8a%e0%b9%80%e0%b8%ad%e0%b8%aa%e0%b8%9a%e0%b8%b5%e0%b8%8b%e0%b8%b5-%e0%b8%9b%e0%b8%a3%e0%b8%b0%e0%b9%80%e0%b8%97-3/
LOCATION:ธนาคารเอชเอสบีซี ประเทศไทย\, ธนาคารเอชเอสบีซี ประเทศไทย อาคารอื้อจือเหลียง 968 ถ.พระรามที่ 4 แขวงสีลม เขตบางรัก กรุงเทพมหานคร 10500
CATEGORIES:ปฏิทินตารางหน่วยเคลื่อนที่
END:VEVENT
BEGIN:VEVENT
DTSTART;TZID=Asia/Bangkok:20250527T090000
DTEND;TZID=Asia/Bangkok:20250527T150000
DTSTAMP:20260422T051912
CREATED:20250515T102653Z
LAST-MODIFIED:20250515T102653Z
UID:10001910-1748336400-1748358000@boo.colorpack.net
SUMMARY:ธนาคารเอชเอสบีซี ประเทศไทย []
DESCRIPTION:สถานที่เจาะ : อาคาร HSBC ชั้น 1  (พัก 11-12 น.) \nที่อยู่ : 968 ถนนพระราม 4 แขวงสีลม เขตบางรัก กรุงเทพฯ 0 2614 5343
URL:https://boo.colorpack.net/event/%e0%b8%98%e0%b8%99%e0%b8%b2%e0%b8%84%e0%b8%b2%e0%b8%a3%e0%b9%80%e0%b8%ad%e0%b8%8a%e0%b9%80%e0%b8%ad%e0%b8%aa%e0%b8%9a%e0%b8%b5%e0%b8%8b%e0%b8%b5-%e0%b8%9b%e0%b8%a3%e0%b8%b0%e0%b9%80%e0%b8%97-2/
LOCATION:ธนาคารเอชเอสบีซี ประเทศไทย\, ธนาคารเอชเอสบีซี ประเทศไทย อาคารอื้อจือเหลียง 968 ถ.พระรามที่ 4 แขวงสีลม เขตบางรัก กรุงเทพมหานคร 10500
CATEGORIES:ปฏิทินตารางหน่วยเคลื่อนที่
END:VEVENT
BEGIN:VEVENT
DTSTART;TZID=Asia/Bangkok:20250306T090000
DTEND;TZID=Asia/Bangkok:20250306T150000
DTSTAMP:20260422T051912
CREATED:20250303T100955Z
LAST-MODIFIED:20250303T100955Z
UID:10000743-1741251600-1741273200@boo.colorpack.net
SUMMARY:ธนาคารเอชเอสบีซี ประเทศไทย [0G0053]
DESCRIPTION:สถานที่เจาะ : อาคาร HSBC ชั้น 1 (พัก 11.00-12.00 น.) \nที่อยู่ : 968 ถนนพระราม 4 แขวงสีลม เขตบางรัก กรุงเทพฯ 0 2614 5343
URL:https://boo.colorpack.net/event/%e0%b8%98%e0%b8%99%e0%b8%b2%e0%b8%84%e0%b8%b2%e0%b8%a3%e0%b9%80%e0%b8%ad%e0%b8%8a%e0%b9%80%e0%b8%ad%e0%b8%aa%e0%b8%9a%e0%b8%b5%e0%b8%8b%e0%b8%b5-%e0%b8%9b%e0%b8%a3%e0%b8%b0%e0%b9%80%e0%b8%97%e0%b8%a8/
LOCATION:ธนาคารเอชเอสบีซี ประเทศไทย\, ธนาคารเอชเอสบีซี ประเทศไทย อาคารอื้อจือเหลียง 968 ถ.พระรามที่ 4 แขวงสีลม เขตบางรัก กรุงเทพมหานคร 10500
CATEGORIES:ปฏิทินตารางหน่วยเคลื่อนที่
END:VEVENT
END:VCALENDAR