BEGIN:VCALENDAR
VERSION:2.0
PRODID:-//เว็บไซต์ศูนย์บริการโลหิตแห่งชาติ - ECPv6.11.2.1//NONSGML v1.0//EN
CALSCALE:GREGORIAN
METHOD:PUBLISH
X-WR-CALNAME:เว็บไซต์ศูนย์บริการโลหิตแห่งชาติ
X-ORIGINAL-URL:https://boo.colorpack.net
X-WR-CALDESC:Events for เว็บไซต์ศูนย์บริการโลหิตแห่งชาติ
REFRESH-INTERVAL;VALUE=DURATION:PT1H
X-Robots-Tag:noindex
X-PUBLISHED-TTL:PT1H
BEGIN:VTIMEZONE
TZID:Asia/Krasnoyarsk
BEGIN:STANDARD
TZOFFSETFROM:+0700
TZOFFSETTO:+0700
TZNAME:+07
DTSTART:20250101T000000
END:STANDARD
END:VTIMEZONE
BEGIN:VTIMEZONE
TZID:Asia/Bangkok
BEGIN:STANDARD
TZOFFSETFROM:+0700
TZOFFSETTO:+0700
TZNAME:+07
DTSTART:20250101T000000
END:STANDARD
END:VTIMEZONE
BEGIN:VEVENT
DTSTART;TZID=Asia/Krasnoyarsk:20251202T090000
DTEND;TZID=Asia/Krasnoyarsk:20251202T150000
DTSTAMP:20260422T092022
CREATED:20251128T085759Z
LAST-MODIFIED:20251128T110123Z
UID:10004501-1764666000-1764687600@boo.colorpack.net
SUMMARY:ธนาคารสแตนดาร์ดชาร์เตอร์ด (ไทย) จำกัด (มหาชน) []
DESCRIPTION:สถานที่เจาะ : อาคารเคี่ยนหงวน 2 ชั้น 17 (พัก 11.30-12.30 น.) \nที่อยู่ : 140 ชั้นที่ 12 ถนนวิทยุ แขวงลุมพินี เขตปทุมวัน กรุงเทพฯ
URL:https://boo.colorpack.net/event/%e0%b8%98%e0%b8%99%e0%b8%b2%e0%b8%84%e0%b8%b2%e0%b8%a3%e0%b8%aa%e0%b9%81%e0%b8%95%e0%b8%99%e0%b8%94%e0%b8%b2%e0%b8%a3%e0%b9%8c%e0%b8%94%e0%b8%8a%e0%b8%b2%e0%b8%a3%e0%b9%8c%e0%b9%80%e0%b8%95%e0%b8%ad-4/
LOCATION:ธนาคารสแตนดาร์ดชาร์เตอร์ด (ไทย) จำกัด (มหาชน)\, ธนาคารสแตนดาร์ดชาร์เตอร์ด (ไทย) จำกัด (มหาชน) 140 ชั้น11\,12\,14 อาคาร 140 Wireless ถนนวิทยุ แขวงลุมพินี เขตปทุมวัน กรุงเทพมหานคร 10330
CATEGORIES:ปฏิทินตารางหน่วยเคลื่อนที่
END:VEVENT
BEGIN:VEVENT
DTSTART;TZID=Asia/Bangkok:20250904T090000
DTEND;TZID=Asia/Bangkok:20250904T150000
DTSTAMP:20260422T092022
CREATED:20250825T085501Z
LAST-MODIFIED:20250825T085501Z
UID:10003035-1756976400-1756998000@boo.colorpack.net
SUMMARY:ธนาคารสแตนดาร์ดชาร์เตอร์ด (ไทย) จำกัด (มหาชน) [0G0026]
DESCRIPTION:สถานที่เจาะ : อาคารเคี่ยนหงวน 2 ชั้น 17 (พัก 11.30-12.30 น.) \nที่อยู่ : 140 ชั้นที่ 12 ถนนวิทยุ แขวงลุมพินี เขตปทุมวัน กรุงเทพฯ
URL:https://boo.colorpack.net/event/%e0%b8%98%e0%b8%99%e0%b8%b2%e0%b8%84%e0%b8%b2%e0%b8%a3%e0%b8%aa%e0%b9%81%e0%b8%95%e0%b8%99%e0%b8%94%e0%b8%b2%e0%b8%a3%e0%b9%8c%e0%b8%94%e0%b8%8a%e0%b8%b2%e0%b8%a3%e0%b9%8c%e0%b9%80%e0%b8%95%e0%b8%ad-3/
LOCATION:ธนาคารสแตนดาร์ดชาร์เตอร์ด (ไทย) จำกัด (มหาชน)\, ธนาคารสแตนดาร์ดชาร์เตอร์ด (ไทย) จำกัด (มหาชน) 140 ชั้น11\,12\,14 อาคาร 140 Wireless ถนนวิทยุ แขวงลุมพินี เขตปทุมวัน กรุงเทพมหานคร 10330
CATEGORIES:ปฏิทินตารางหน่วยเคลื่อนที่
END:VEVENT
BEGIN:VEVENT
DTSTART;TZID=Asia/Bangkok:20250605T090000
DTEND;TZID=Asia/Bangkok:20250605T150000
DTSTAMP:20260422T092022
CREATED:20250530T122805Z
LAST-MODIFIED:20250707T034351Z
UID:10001939-1749114000-1749135600@boo.colorpack.net
SUMMARY:ธนาคารสแตนดาร์ดชาร์เตอร์ด (ไทย) จำกัด (มหาชน) []
DESCRIPTION:สถานที่เจาะ : อาคารเคี่ยนหงวน 2 ชั้น 17 (พัก 11.30-12.30 น.) \nที่อยู่ : 140 ชั้นที่ 12 ถนนวิทยุ แขวงลุมพินี เขตปทุมวัน กรุงเทพฯ
URL:https://boo.colorpack.net/event/%e0%b8%98%e0%b8%99%e0%b8%b2%e0%b8%84%e0%b8%b2%e0%b8%a3%e0%b8%aa%e0%b9%81%e0%b8%95%e0%b8%99%e0%b8%94%e0%b8%b2%e0%b8%a3%e0%b9%8c%e0%b8%94%e0%b8%8a%e0%b8%b2%e0%b8%a3%e0%b9%8c%e0%b9%80%e0%b8%95%e0%b8%ad-2/
LOCATION:ธนาคารสแตนดาร์ดชาร์เตอร์ด (ไทย) จำกัด (มหาชน)\, ธนาคารสแตนดาร์ดชาร์เตอร์ด (ไทย) จำกัด (มหาชน) 140 ชั้น11\,12\,14 อาคาร 140 Wireless ถนนวิทยุ แขวงลุมพินี เขตปทุมวัน กรุงเทพมหานคร 10330
CATEGORIES:ปฏิทินตารางหน่วยเคลื่อนที่
END:VEVENT
BEGIN:VEVENT
DTSTART;TZID=Asia/Bangkok:20250306T090000
DTEND;TZID=Asia/Bangkok:20250306T150000
DTSTAMP:20260422T092022
CREATED:20250303T100811Z
LAST-MODIFIED:20250303T100811Z
UID:10000734-1741251600-1741273200@boo.colorpack.net
SUMMARY:ธนาคารสแตนดาร์ดชาร์เตอร์ด (ไทย) จำกัด (มหาชน) [0G0026]
DESCRIPTION:สถานที่เจาะ : อาคารเคี่ยนหงวน 2 ชั้น 17 (พัก 11.30-12.30 น.) \nที่อยู่ : 140 ชั้นที่ 12 ถนนวิทยุ แขวงลุมพินี เขตปทุมวัน กรุงเทพฯ
URL:https://boo.colorpack.net/event/%e0%b8%98%e0%b8%99%e0%b8%b2%e0%b8%84%e0%b8%b2%e0%b8%a3%e0%b8%aa%e0%b9%81%e0%b8%95%e0%b8%99%e0%b8%94%e0%b8%b2%e0%b8%a3%e0%b9%8c%e0%b8%94%e0%b8%8a%e0%b8%b2%e0%b8%a3%e0%b9%8c%e0%b9%80%e0%b8%95%e0%b8%ad/
LOCATION:ธนาคารสแตนดาร์ดชาร์เตอร์ด (ไทย) จำกัด (มหาชน)\, ธนาคารสแตนดาร์ดชาร์เตอร์ด (ไทย) จำกัด (มหาชน) 140 ชั้น11\,12\,14 อาคาร 140 Wireless ถนนวิทยุ แขวงลุมพินี เขตปทุมวัน กรุงเทพมหานคร 10330
CATEGORIES:ปฏิทินตารางหน่วยเคลื่อนที่
END:VEVENT
END:VCALENDAR