BEGIN:VCALENDAR
VERSION:2.0
PRODID:-//เว็บไซต์ศูนย์บริการโลหิตแห่งชาติ - ECPv6.11.2.1//NONSGML v1.0//EN
CALSCALE:GREGORIAN
METHOD:PUBLISH
X-WR-CALNAME:เว็บไซต์ศูนย์บริการโลหิตแห่งชาติ
X-ORIGINAL-URL:https://boo.colorpack.net
X-WR-CALDESC:Events for เว็บไซต์ศูนย์บริการโลหิตแห่งชาติ
REFRESH-INTERVAL;VALUE=DURATION:PT1H
X-Robots-Tag:noindex
X-PUBLISHED-TTL:PT1H
BEGIN:VTIMEZONE
TZID:Asia/Krasnoyarsk
BEGIN:STANDARD
TZOFFSETFROM:+0700
TZOFFSETTO:+0700
TZNAME:+07
DTSTART:20260101T000000
END:STANDARD
END:VTIMEZONE
BEGIN:VTIMEZONE
TZID:Asia/Bangkok
BEGIN:STANDARD
TZOFFSETFROM:+0700
TZOFFSETTO:+0700
TZNAME:+07
DTSTART:20250101T000000
END:STANDARD
END:VTIMEZONE
BEGIN:VEVENT
DTSTART;TZID=Asia/Krasnoyarsk:20260115T090000
DTEND;TZID=Asia/Krasnoyarsk:20260115T150000
DTSTAMP:20260421T042128
CREATED:20260113T115637Z
LAST-MODIFIED:20260113T115637Z
UID:10005111-1768467600-1768489200@boo.colorpack.net
SUMMARY:ธนาคารกสิกรไทย จำกัด (มหาชน) []
DESCRIPTION:สถานที่เจาะ : ชั้น 3 \nที่อยู่ : 1 (ฝ่ายพนักงานสัมพันธ์ชั้น 35) ถนนราษฎร์บูรณะ 27/1 แขวงราษฎร์บูรณะ  เขตราษฎร์บูรณะ กรุงเทพฯ 0 2470 1686
URL:https://boo.colorpack.net/event/%e0%b8%98%e0%b8%99%e0%b8%b2%e0%b8%84%e0%b8%b2%e0%b8%a3%e0%b8%81%e0%b8%aa%e0%b8%b4%e0%b8%81%e0%b8%a3%e0%b9%84%e0%b8%97%e0%b8%a2-%e0%b8%88%e0%b8%b3%e0%b8%81%e0%b8%b1%e0%b8%94-%e0%b8%a1%e0%b8%ab-8/
LOCATION:ธนาคารกสิกรไทย จำกัด (มหาชน)\, ธนาคารกสิกรไทย จำกัด (มหาชน) 1 ซอยราษฎร์บูรณะ 27/1 ถนนราษฎร์บูรณะ แขวงราษฎร์บูรณะ เขตราษฎร์บูรณะ กรุงเทพมหานคร 10140
CATEGORIES:ปฏิทินตารางหน่วยเคลื่อนที่
END:VEVENT
BEGIN:VEVENT
DTSTART;TZID=Asia/Bangkok:20250923T090000
DTEND;TZID=Asia/Bangkok:20250923T150000
DTSTAMP:20260421T042128
CREATED:20250911T034707Z
LAST-MODIFIED:20250911T034707Z
UID:10003338-1758618000-1758639600@boo.colorpack.net
SUMMARY:ธนาคารกสิกรไทย จำกัด (มหาชน) [0G0044]
DESCRIPTION:สถานที่เจาะ : ชั้น 3 \nที่อยู่ : 1 (ฝ่ายพนักงานสัมพันธ์ชั้น 35) ถนนราษฎร์บูรณะ 27/1 แขวงราษฎร์บูรณะ  เขตราษฎร์บูรณะ กรุงเทพฯ 0 2470 1686
URL:https://boo.colorpack.net/event/%e0%b8%98%e0%b8%99%e0%b8%b2%e0%b8%84%e0%b8%b2%e0%b8%a3%e0%b8%81%e0%b8%aa%e0%b8%b4%e0%b8%81%e0%b8%a3%e0%b9%84%e0%b8%97%e0%b8%a2-%e0%b8%88%e0%b8%b3%e0%b8%81%e0%b8%b1%e0%b8%94-%e0%b8%a1%e0%b8%ab-4/
LOCATION:ธนาคารกสิกรไทย จำกัด (มหาชน)\, ธนาคารกสิกรไทย จำกัด (มหาชน) 1 ซอยราษฎร์บูรณะ 27/1 ถนนราษฎร์บูรณะ แขวงราษฎร์บูรณะ เขตราษฎร์บูรณะ กรุงเทพมหานคร 10140
CATEGORIES:ปฏิทินตารางหน่วยเคลื่อนที่
END:VEVENT
END:VCALENDAR