BEGIN:VCALENDAR
VERSION:2.0
PRODID:-//เว็บไซต์ศูนย์บริการโลหิตแห่งชาติ - ECPv6.11.2.1//NONSGML v1.0//EN
CALSCALE:GREGORIAN
METHOD:PUBLISH
X-WR-CALNAME:เว็บไซต์ศูนย์บริการโลหิตแห่งชาติ
X-ORIGINAL-URL:https://boo.colorpack.net
X-WR-CALDESC:Events for เว็บไซต์ศูนย์บริการโลหิตแห่งชาติ
REFRESH-INTERVAL;VALUE=DURATION:PT1H
X-Robots-Tag:noindex
X-PUBLISHED-TTL:PT1H
BEGIN:VTIMEZONE
TZID:Asia/Krasnoyarsk
BEGIN:STANDARD
TZOFFSETFROM:+0700
TZOFFSETTO:+0700
TZNAME:+07
DTSTART:20250101T000000
END:STANDARD
END:VTIMEZONE
BEGIN:VTIMEZONE
TZID:Asia/Bangkok
BEGIN:STANDARD
TZOFFSETFROM:+0700
TZOFFSETTO:+0700
TZNAME:+07
DTSTART:20250101T000000
END:STANDARD
END:VTIMEZONE
BEGIN:VEVENT
DTSTART;TZID=Asia/Krasnoyarsk:20251110T150000
DTEND;TZID=Asia/Krasnoyarsk:20251110T150000
DTSTAMP:20260424T185621
CREATED:20251101T063148Z
LAST-MODIFIED:20251101T063441Z
UID:10003957-1762786800-1762786800@boo.colorpack.net
SUMMARY:คณะวิศวกรรมศาสตร์ มทร.พระนคร (ศูนย์พระนครเหนือ) [คณะวิศวกรรมศาสตร์ มทร.พระนคร (ศูนย์พระนครเหนือ)]
DESCRIPTION:สถานที่เจาะ : 1381 ถนนพิบูลสงคราม \nที่อยู่ : แขวงบางซื่อ เขตบางซื่อ กรุงเทพฯ 0 2836 3000
URL:https://boo.colorpack.net/event/%e0%b8%84%e0%b8%93%e0%b8%b0%e0%b8%a7%e0%b8%b4%e0%b8%a8%e0%b8%a7%e0%b8%81%e0%b8%a3%e0%b8%a3%e0%b8%a1%e0%b8%a8%e0%b8%b2%e0%b8%aa%e0%b8%95%e0%b8%a3%e0%b9%8c-%e0%b8%a1%e0%b8%97%e0%b8%a3-%e0%b8%9e-3/
LOCATION:คณะวิศวกรรมศาสตร์ มทร.พระนคร (ศูนย์พระนครเหนือ)\, คณะวิศวกรรมศาสตร์ มทร.พระนคร (ศูนย์พระนครเหนือ) 1381 ถนนประชาราษฎร์ 1 แขวงวงศ์สว่าง เขตบางซื่อ กทม. 10800
CATEGORIES:ปฏิทินตารางหน่วยเคลื่อนที่
END:VEVENT
BEGIN:VEVENT
DTSTART;TZID=Asia/Bangkok:20250630T110000
DTEND;TZID=Asia/Bangkok:20250630T150000
DTSTAMP:20260424T185621
CREATED:20250626T024801Z
LAST-MODIFIED:20250626T024801Z
UID:10002441-1751281200-1751295600@boo.colorpack.net
SUMMARY:คณะวิศวกรรมศาสตร์ มทร.พระนคร (ศูนย์พระนครเหนือ) []
DESCRIPTION:สถานที่เจาะ : ชั้นล่างตึกกิจกรรมนักศึกษา \nที่อยู่ : 1381 ถนนพิบูลสงคราม แขวงบางซื่อ เขตบางซื่อ กรุงเทพฯ 0 2836 3000
URL:https://boo.colorpack.net/event/%e0%b8%84%e0%b8%93%e0%b8%b0%e0%b8%a7%e0%b8%b4%e0%b8%a8%e0%b8%a7%e0%b8%81%e0%b8%a3%e0%b8%a3%e0%b8%a1%e0%b8%a8%e0%b8%b2%e0%b8%aa%e0%b8%95%e0%b8%a3%e0%b9%8c-%e0%b8%a1%e0%b8%97%e0%b8%a3-%e0%b8%9e-2/
LOCATION:คณะวิศวกรรมศาสตร์ มทร.พระนคร (ศูนย์พระนครเหนือ)\, คณะวิศวกรรมศาสตร์ มทร.พระนคร (ศูนย์พระนครเหนือ) 1381 ถนนประชาราษฎร์ 1 แขวงวงศ์สว่าง เขตบางซื่อ กทม. 10800
CATEGORIES:ปฏิทินตารางหน่วยเคลื่อนที่
END:VEVENT
BEGIN:VEVENT
DTSTART;TZID=Asia/Bangkok:20250217T110000
DTEND;TZID=Asia/Bangkok:20250217T150000
DTSTAMP:20260424T185621
CREATED:20250216T080534Z
LAST-MODIFIED:20250216T080534Z
UID:10000560-1739790000-1739804400@boo.colorpack.net
SUMMARY:คณะวิศวกรรมศาสตร์ มทร.พระนคร (ศูนย์พระนครเหนือ) [0B0015]
DESCRIPTION:สถานที่เจาะ : ชั้นล่างตึกกิจกรรมนักศึกษา \nที่อยู่ : 1381 ถนนพิบูลสงคราม แขวงบางซื่อ เขตบางซื่อ กรุงเทพฯ  \nโทร : 0 2836 3000
URL:https://boo.colorpack.net/event/%e0%b8%84%e0%b8%93%e0%b8%b0%e0%b8%a7%e0%b8%b4%e0%b8%a8%e0%b8%a7%e0%b8%81%e0%b8%a3%e0%b8%a3%e0%b8%a1%e0%b8%a8%e0%b8%b2%e0%b8%aa%e0%b8%95%e0%b8%a3%e0%b9%8c-%e0%b8%a1%e0%b8%97%e0%b8%a3-%e0%b8%9e%e0%b8%a3/
LOCATION:คณะวิศวกรรมศาสตร์ มทร.พระนคร (ศูนย์พระนครเหนือ)\, คณะวิศวกรรมศาสตร์ มทร.พระนคร (ศูนย์พระนครเหนือ) 1381 ถนนประชาราษฎร์ 1 แขวงวงศ์สว่าง เขตบางซื่อ กทม. 10800
CATEGORIES:ปฏิทินตารางหน่วยเคลื่อนที่
END:VEVENT
END:VCALENDAR