BEGIN:VCALENDAR
VERSION:2.0
PRODID:-//เว็บไซต์ศูนย์บริการโลหิตแห่งชาติ - ECPv6.11.2.1//NONSGML v1.0//EN
CALSCALE:GREGORIAN
METHOD:PUBLISH
X-WR-CALNAME:เว็บไซต์ศูนย์บริการโลหิตแห่งชาติ
X-ORIGINAL-URL:https://boo.colorpack.net
X-WR-CALDESC:Events for เว็บไซต์ศูนย์บริการโลหิตแห่งชาติ
REFRESH-INTERVAL;VALUE=DURATION:PT1H
X-Robots-Tag:noindex
X-PUBLISHED-TTL:PT1H
BEGIN:VTIMEZONE
TZID:Asia/Krasnoyarsk
BEGIN:STANDARD
TZOFFSETFROM:+0700
TZOFFSETTO:+0700
TZNAME:+07
DTSTART:20250101T000000
END:STANDARD
END:VTIMEZONE
BEGIN:VTIMEZONE
TZID:Asia/Bangkok
BEGIN:STANDARD
TZOFFSETFROM:+0700
TZOFFSETTO:+0700
TZNAME:+07
DTSTART:20250101T000000
END:STANDARD
END:VTIMEZONE
BEGIN:VEVENT
DTSTART;TZID=Asia/Krasnoyarsk:20260129T090000
DTEND;TZID=Asia/Krasnoyarsk:20260129T150000
DTSTAMP:20260426T084424
CREATED:20260127T114640Z
LAST-MODIFIED:20260127T114640Z
UID:10005305-1769677200-1769698800@boo.colorpack.net
SUMMARY:การไฟฟ้าฝ่ายผลิตแห่งประเทศไทย []
DESCRIPTION:สถานที่เจาะ : ห้องเฟื่องฟ้า 1 อาคารนันทนาการ กฟผ. \nที่อยู่ : 53 ม. 2 ถ.จรัญสนิทวงศ์ อ.บางกรวย จ.นนทบุรี 0 2436 5845
URL:https://boo.colorpack.net/event/%e0%b8%81%e0%b8%b2%e0%b8%a3%e0%b9%84%e0%b8%9f%e0%b8%9f%e0%b9%89%e0%b8%b2%e0%b8%9d%e0%b9%88%e0%b8%b2%e0%b8%a2%e0%b8%9c%e0%b8%a5%e0%b8%b4%e0%b8%95%e0%b9%81%e0%b8%ab%e0%b9%88%e0%b8%87%e0%b8%9b%e0%b8%a3-4/
LOCATION:การไฟฟ้าฝ่ายผลิตแห่งประเทศไทย
CATEGORIES:ปฏิทินตารางหน่วยเคลื่อนที่
END:VEVENT
BEGIN:VEVENT
DTSTART;TZID=Asia/Krasnoyarsk:20251030T150000
DTEND;TZID=Asia/Krasnoyarsk:20251030T150000
DTSTAMP:20260426T084424
CREATED:20251017T045234Z
LAST-MODIFIED:20251017T045234Z
UID:10003827-1761836400-1761836400@boo.colorpack.net
SUMMARY:การไฟฟ้าฝ่ายผลิตแห่งประเทศไทย [การไฟฟ้าฝ่ายผลิตแห่งประเทศไทย]
DESCRIPTION:สถานที่เจาะ : 53 ม. 2 ถ.จรัญสนิทวงศ์ \nที่อยู่ : อ.บางกรวย จ.นนทบุรี 0 2436 5845
URL:https://boo.colorpack.net/event/%e0%b8%81%e0%b8%b2%e0%b8%a3%e0%b9%84%e0%b8%9f%e0%b8%9f%e0%b9%89%e0%b8%b2%e0%b8%9d%e0%b9%88%e0%b8%b2%e0%b8%a2%e0%b8%9c%e0%b8%a5%e0%b8%b4%e0%b8%95%e0%b9%81%e0%b8%ab%e0%b9%88%e0%b8%87%e0%b8%9b%e0%b8%a3-3/
LOCATION:การไฟฟ้าฝ่ายผลิตแห่งประเทศไทย
CATEGORIES:ปฏิทินตารางหน่วยเคลื่อนที่
END:VEVENT
BEGIN:VEVENT
DTSTART;TZID=Asia/Bangkok:20250731T090000
DTEND;TZID=Asia/Bangkok:20250731T150000
DTSTAMP:20260426T084424
CREATED:20250716T111807Z
LAST-MODIFIED:20250716T111807Z
UID:10002560-1753952400-1753974000@boo.colorpack.net
SUMMARY:การไฟฟ้าฝ่ายผลิตแห่งประเทศไทย []
DESCRIPTION:สถานที่เจาะ : ห้องเฟื่องฟ้า 1 อาคารนันทนาการ กฟผ. \nที่อยู่ : 53 ม. 2 ถ.จรัญสนิทวงศ์ อ.บางกรวย จ.นนทบุรี 0 2436 5845
URL:https://boo.colorpack.net/event/%e0%b8%81%e0%b8%b2%e0%b8%a3%e0%b9%84%e0%b8%9f%e0%b8%9f%e0%b9%89%e0%b8%b2%e0%b8%9d%e0%b9%88%e0%b8%b2%e0%b8%a2%e0%b8%9c%e0%b8%a5%e0%b8%b4%e0%b8%95%e0%b9%81%e0%b8%ab%e0%b9%88%e0%b8%87%e0%b8%9b%e0%b8%a3-2/
LOCATION:การไฟฟ้าฝ่ายผลิตแห่งประเทศไทย
CATEGORIES:ปฏิทินตารางหน่วยเคลื่อนที่
END:VEVENT
BEGIN:VEVENT
DTSTART;TZID=Asia/Bangkok:20250424T090000
DTEND;TZID=Asia/Bangkok:20250424T150000
DTSTAMP:20260426T084424
CREATED:20250418T103749Z
LAST-MODIFIED:20250418T103749Z
UID:10001439-1745485200-1745506800@boo.colorpack.net
SUMMARY:การไฟฟ้าฝ่ายผลิตแห่งประเทศไทย []
DESCRIPTION:สถานที่เจาะ : ห้องเฟื่องฟ้า 1 อาคารนันทนาการ กฟผ. \nที่อยู่ : 53 ม. 2 ถ.จรัญสนิทวงศ์ อ.บางกรวย จ.นนทบุรี 0 2436 5845
URL:https://boo.colorpack.net/event/%e0%b8%81%e0%b8%b2%e0%b8%a3%e0%b9%84%e0%b8%9f%e0%b8%9f%e0%b9%89%e0%b8%b2%e0%b8%9d%e0%b9%88%e0%b8%b2%e0%b8%a2%e0%b8%9c%e0%b8%a5%e0%b8%b4%e0%b8%95%e0%b9%81%e0%b8%ab%e0%b9%88%e0%b8%87%e0%b8%9b%e0%b8%a3/
LOCATION:การไฟฟ้าฝ่ายผลิตแห่งประเทศไทย
CATEGORIES:ปฏิทินตารางหน่วยเคลื่อนที่
END:VEVENT
END:VCALENDAR