BEGIN:VCALENDAR
VERSION:2.0
PRODID:-//เว็บไซต์ศูนย์บริการโลหิตแห่งชาติ - ECPv6.11.2.1//NONSGML v1.0//EN
CALSCALE:GREGORIAN
METHOD:PUBLISH
X-ORIGINAL-URL:https://boo.colorpack.net
X-WR-CALDESC:Events for เว็บไซต์ศูนย์บริการโลหิตแห่งชาติ
REFRESH-INTERVAL;VALUE=DURATION:PT1H
X-Robots-Tag:noindex
X-PUBLISHED-TTL:PT1H
BEGIN:VTIMEZONE
TZID:Asia/Krasnoyarsk
BEGIN:STANDARD
TZOFFSETFROM:+0700
TZOFFSETTO:+0700
TZNAME:+07
DTSTART:20260101T000000
END:STANDARD
END:VTIMEZONE
BEGIN:VTIMEZONE
TZID:Asia/Bangkok
BEGIN:STANDARD
TZOFFSETFROM:+0700
TZOFFSETTO:+0700
TZNAME:+07
DTSTART:20250101T000000
END:STANDARD
END:VTIMEZONE
BEGIN:VEVENT
DTSTART;TZID=Asia/Krasnoyarsk:20260122T090000
DTEND;TZID=Asia/Krasnoyarsk:20260122T150000
DTSTAMP:20260421T000849
CREATED:20260120T104104Z
LAST-MODIFIED:20260120T104104Z
UID:10005205-1769072400-1769094000@boo.colorpack.net
SUMMARY:กลุ่มบีเจซี บิ๊กซี []
DESCRIPTION:สถานที่เจาะ : หน้าร้านหนังสือเอเชียบุ๊ค อาคาร BJC 2 (พัก 11.00-12.00 น.) \nที่อยู่ : 99 ซอยรูเบีย แขวงพระโขนง เขตคลองเตย กรุงเทพฯ
URL:https://boo.colorpack.net/event/%e0%b8%81%e0%b8%a5%e0%b8%b8%e0%b9%88%e0%b8%a1%e0%b8%9a%e0%b8%b5%e0%b9%80%e0%b8%88%e0%b8%8b%e0%b8%b5-%e0%b8%9a%e0%b8%b4%e0%b9%8a%e0%b8%81%e0%b8%8b%e0%b8%b5-3/
LOCATION:กลุ่มบีเจซี บิ๊กซี\, อาคารเบอรี่ ยุคเกอร์ 99 ซอยรูเบีย แขวงพระโขนง เขตคลองเตย กรุงเทพมหานคร 10110
CATEGORIES:ปฏิทินตารางหน่วยเคลื่อนที่
END:VEVENT
BEGIN:VEVENT
DTSTART;TZID=Asia/Bangkok:20250724T090000
DTEND;TZID=Asia/Bangkok:20250724T150000
DTSTAMP:20260421T000849
CREATED:20250716T110919Z
LAST-MODIFIED:20250716T110919Z
UID:10002460-1753347600-1753369200@boo.colorpack.net
SUMMARY:กลุ่มบีเจซี บิ๊กซี []
DESCRIPTION:สถานที่เจาะ : หน้าร้านหนังสือเอเชียบุ๊ค อาคาร BJC 2 (พัก 11-12 น.) \nที่อยู่ : 99 ซอยรูเบีย แขวงพระโขนง เขตคลองเตย กรุงเทพฯ
URL:https://boo.colorpack.net/event/%e0%b8%81%e0%b8%a5%e0%b8%b8%e0%b9%88%e0%b8%a1%e0%b8%9a%e0%b8%b5%e0%b9%80%e0%b8%88%e0%b8%8b%e0%b8%b5-%e0%b8%9a%e0%b8%b4%e0%b9%8a%e0%b8%81%e0%b8%8b%e0%b8%b5-2/
LOCATION:กลุ่มบีเจซี บิ๊กซี\, อาคารเบอรี่ ยุคเกอร์ 99 ซอยรูเบีย แขวงพระโขนง เขตคลองเตย กรุงเทพมหานคร 10110
CATEGORIES:ปฏิทินตารางหน่วยเคลื่อนที่
END:VEVENT
BEGIN:VEVENT
DTSTART;TZID=Asia/Bangkok:20250424T090000
DTEND;TZID=Asia/Bangkok:20250424T150000
DTSTAMP:20260421T000849
CREATED:20250418T103820Z
LAST-MODIFIED:20250418T103820Z
UID:10001447-1745485200-1745506800@boo.colorpack.net
SUMMARY:กลุ่มบีเจซี บิ๊กซี []
DESCRIPTION:สถานที่เจาะ : หน้าร้านหนังสือเอเชียบุ๊ค อาคาร BJC 2 (พัก 11.00-12.00 น.) \nที่อยู่ : 99 ซอยรูเบีย แขวงพระโขนง เขตคลองเตย กรุงเทพฯ
URL:https://boo.colorpack.net/event/%e0%b8%81%e0%b8%a5%e0%b8%b8%e0%b9%88%e0%b8%a1%e0%b8%9a%e0%b8%b5%e0%b9%80%e0%b8%88%e0%b8%8b%e0%b8%b5-%e0%b8%9a%e0%b8%b4%e0%b9%8a%e0%b8%81%e0%b8%8b%e0%b8%b5/
LOCATION:กลุ่มบีเจซี บิ๊กซี\, อาคารเบอรี่ ยุคเกอร์ 99 ซอยรูเบีย แขวงพระโขนง เขตคลองเตย กรุงเทพมหานคร 10110
CATEGORIES:ปฏิทินตารางหน่วยเคลื่อนที่
END:VEVENT
END:VCALENDAR