BEGIN:VCALENDAR
VERSION:2.0
PRODID:-//เว็บไซต์ศูนย์บริการโลหิตแห่งชาติ - ECPv6.11.2.1//NONSGML v1.0//EN
CALSCALE:GREGORIAN
METHOD:PUBLISH
X-WR-CALNAME:เว็บไซต์ศูนย์บริการโลหิตแห่งชาติ
X-ORIGINAL-URL:https://boo.colorpack.net
X-WR-CALDESC:Events for เว็บไซต์ศูนย์บริการโลหิตแห่งชาติ
REFRESH-INTERVAL;VALUE=DURATION:PT1H
X-Robots-Tag:noindex
X-PUBLISHED-TTL:PT1H
BEGIN:VTIMEZONE
TZID:Asia/Bangkok
BEGIN:STANDARD
TZOFFSETFROM:+0700
TZOFFSETTO:+0700
TZNAME:+07
DTSTART:20250101T000000
END:STANDARD
END:VTIMEZONE
BEGIN:VEVENT
DTSTART;TZID=Asia/Bangkok:20251008T090000
DTEND;TZID=Asia/Bangkok:20251008T150000
DTSTAMP:20260423T190758
CREATED:20250925T033231Z
LAST-MODIFIED:20250925T033231Z
UID:10003549-1759914000-1759935600@boo.colorpack.net
SUMMARY:กระทรวงยุติธรรม [0D0449]
DESCRIPTION:สถานที่เจาะ : ห้องรับรอง 2 ชั้น 2 (พัก 12-13 น.) \nที่อยู่ : 404 ถนนแจ้งวัฒนะ แขวงทุ่งสองห้อง เขตหลักสี่ กรุงเทพฯ 0 2141 2123
URL:https://boo.colorpack.net/event/%e0%b8%81%e0%b8%a3%e0%b8%b0%e0%b8%97%e0%b8%a3%e0%b8%a7%e0%b8%87%e0%b8%a2%e0%b8%b8%e0%b8%95%e0%b8%b4%e0%b8%98%e0%b8%a3%e0%b8%a3%e0%b8%a1-0d0449-5/
LOCATION:กระทรวงยุติธรรม\, อาคารกระทรวงยุติธรรม 404 ถนนแจ้งวัฒนะ แขวงทุ่งสองห้อง เขตหลักสี่ กรุงเทพมหานคร 10210
CATEGORIES:ปฏิทินตารางหน่วยเคลื่อนที่
END:VEVENT
BEGIN:VEVENT
DTSTART;TZID=Asia/Bangkok:20251007T090000
DTEND;TZID=Asia/Bangkok:20251007T150000
DTSTAMP:20260423T190758
CREATED:20250925T032622Z
LAST-MODIFIED:20250925T032622Z
UID:10003532-1759827600-1759849200@boo.colorpack.net
SUMMARY:กระทรวงยุติธรรม [0D0449]
DESCRIPTION:สถานที่เจาะ : ห้องรับรอง 2 ชั้น 2 (พัก 12-13 น.) \nที่อยู่ : 404 ถนนแจ้งวัฒนะ แขวงทุ่งสองห้อง เขตหลักสี่ กรุงเทพฯ 0 2141 2123
URL:https://boo.colorpack.net/event/%e0%b8%81%e0%b8%a3%e0%b8%b0%e0%b8%97%e0%b8%a3%e0%b8%a7%e0%b8%87%e0%b8%a2%e0%b8%b8%e0%b8%95%e0%b8%b4%e0%b8%98%e0%b8%a3%e0%b8%a3%e0%b8%a1-0d0449-4/
LOCATION:กระทรวงยุติธรรม\, อาคารกระทรวงยุติธรรม 404 ถนนแจ้งวัฒนะ แขวงทุ่งสองห้อง เขตหลักสี่ กรุงเทพมหานคร 10210
CATEGORIES:ปฏิทินตารางหน่วยเคลื่อนที่
END:VEVENT
BEGIN:VEVENT
DTSTART;TZID=Asia/Bangkok:20250319T090000
DTEND;TZID=Asia/Bangkok:20250319T150000
DTSTAMP:20260423T190758
CREATED:20250315T041139Z
LAST-MODIFIED:20250315T041139Z
UID:10000950-1742374800-1742396400@boo.colorpack.net
SUMMARY:กระทรวงยุติธรรม [0D0449]
DESCRIPTION:สถานที่เจาะ : ห้องรับรอง 2 ชั้น 2 (พัก 12.00-13.00 น.) \nที่อยู่ : 404 อาคารกระทรวงยุติธรรม ถนนแจ้งวัฒนะ แขวงทุ่งสองห้อง เขตหลักสี่ กรุงเทพฯ 0 2141 2123
URL:https://boo.colorpack.net/event/%e0%b8%81%e0%b8%a3%e0%b8%b0%e0%b8%97%e0%b8%a3%e0%b8%a7%e0%b8%87%e0%b8%a2%e0%b8%b8%e0%b8%95%e0%b8%b4%e0%b8%98%e0%b8%a3%e0%b8%a3%e0%b8%a1-0d0449-3/
LOCATION:กระทรวงยุติธรรม\, อาคารกระทรวงยุติธรรม 404 ถนนแจ้งวัฒนะ แขวงทุ่งสองห้อง เขตหลักสี่ กรุงเทพมหานคร 10210
CATEGORIES:ปฏิทินตารางหน่วยเคลื่อนที่
END:VEVENT
BEGIN:VEVENT
DTSTART;TZID=Asia/Bangkok:20250318T090000
DTEND;TZID=Asia/Bangkok:20250318T150000
DTSTAMP:20260423T190758
CREATED:20250315T041016Z
LAST-MODIFIED:20250315T041016Z
UID:10000933-1742288400-1742310000@boo.colorpack.net
SUMMARY:กระทรวงยุติธรรม [0D0449]
DESCRIPTION:สถานที่เจาะ : ห้องรับรอง 2ชั้น 2 (พัก 12.00-13.00 น.) \nที่อยู่ : 404 อาคารกระทรวงยุติธรรม ถนนแจ้งวัฒนะ แขวงทุ่งสองห้อง เขตหลักสี่ กรุงเทพฯ 0 2141 2123
URL:https://boo.colorpack.net/event/%e0%b8%81%e0%b8%a3%e0%b8%b0%e0%b8%97%e0%b8%a3%e0%b8%a7%e0%b8%87%e0%b8%a2%e0%b8%b8%e0%b8%95%e0%b8%b4%e0%b8%98%e0%b8%a3%e0%b8%a3%e0%b8%a1-0d0449-2/
LOCATION:กระทรวงยุติธรรม\, อาคารกระทรวงยุติธรรม 404 ถนนแจ้งวัฒนะ แขวงทุ่งสองห้อง เขตหลักสี่ กรุงเทพมหานคร 10210
CATEGORIES:ปฏิทินตารางหน่วยเคลื่อนที่
END:VEVENT
END:VCALENDAR