BEGIN:VCALENDAR
VERSION:2.0
PRODID:-//เว็บไซต์ศูนย์บริการโลหิตแห่งชาติ - ECPv6.11.2.1//NONSGML v1.0//EN
CALSCALE:GREGORIAN
METHOD:PUBLISH
X-ORIGINAL-URL:https://boo.colorpack.net
X-WR-CALDESC:Events for เว็บไซต์ศูนย์บริการโลหิตแห่งชาติ
REFRESH-INTERVAL;VALUE=DURATION:PT1H
X-Robots-Tag:noindex
X-PUBLISHED-TTL:PT1H
BEGIN:VTIMEZONE
TZID:Asia/Krasnoyarsk
BEGIN:STANDARD
TZOFFSETFROM:+0700
TZOFFSETTO:+0700
TZNAME:+07
DTSTART:20250101T000000
END:STANDARD
END:VTIMEZONE
BEGIN:VTIMEZONE
TZID:Asia/Bangkok
BEGIN:STANDARD
TZOFFSETFROM:+0700
TZOFFSETTO:+0700
TZNAME:+07
DTSTART:20250101T000000
END:STANDARD
END:VTIMEZONE
BEGIN:VEVENT
DTSTART;TZID=Asia/Krasnoyarsk:20260203T090000
DTEND;TZID=Asia/Krasnoyarsk:20260203T150000
DTSTAMP:20260425T211337
CREATED:20260127T120652Z
LAST-MODIFIED:20260127T120652Z
UID:10005370-1770109200-1770130800@boo.colorpack.net
SUMMARY:กระทรวงพาณิชย์ []
DESCRIPTION:สถานที่เจาะ : ห้องบุรฉัตรไชยากร ชั้น 4 อาคาร สป. \nที่อยู่ : 563 ถ.นนทบุรี ต.บางกระสอ อ.เมือง จ.นนทบุรี 0 2507 6389
URL:https://boo.colorpack.net/event/%e0%b8%81%e0%b8%a3%e0%b8%b0%e0%b8%97%e0%b8%a3%e0%b8%a7%e0%b8%87%e0%b8%9e%e0%b8%b2%e0%b8%93%e0%b8%b4%e0%b8%8a%e0%b8%a2%e0%b9%8c-2/
LOCATION:กระทรวงพาณิชย์
CATEGORIES:ปฏิทินตารางหน่วยเคลื่อนที่
END:VEVENT
BEGIN:VEVENT
DTSTART;TZID=Asia/Krasnoyarsk:20251104T090000
DTEND;TZID=Asia/Krasnoyarsk:20251104T150000
DTSTAMP:20260425T211337
CREATED:20251027T024420Z
LAST-MODIFIED:20251027T024420Z
UID:10003856-1762246800-1762268400@boo.colorpack.net
SUMMARY:กระทรวงพาณิชย์ [0D0074]
DESCRIPTION:สถานที่เจาะ : ห้องบุตรฉัตรไชยากร ชั้น 4 สำนักงานปลัดกระทรวงพาณิชย์ \nที่อยู่ : 563 ถ.นนทบุรี ต.บางกระสอ อ.เมือง จ.นนทบุรี 0 2507 6389
URL:https://boo.colorpack.net/event/%e0%b8%81%e0%b8%a3%e0%b8%b0%e0%b8%97%e0%b8%a3%e0%b8%a7%e0%b8%87%e0%b8%9e%e0%b8%b2%e0%b8%93%e0%b8%b4%e0%b8%8a%e0%b8%a2%e0%b9%8c-0d0074-2/
LOCATION:กระทรวงพาณิชย์
CATEGORIES:ปฏิทินตารางหน่วยเคลื่อนที่
END:VEVENT
BEGIN:VEVENT
DTSTART;TZID=Asia/Bangkok:20250508T090000
DTEND;TZID=Asia/Bangkok:20250508T150000
DTSTAMP:20260425T211337
CREATED:20250501T083153Z
LAST-MODIFIED:20250501T083153Z
UID:10001648-1746694800-1746716400@boo.colorpack.net
SUMMARY:กระทรวงพาณิชย์ []
DESCRIPTION:สถานที่เจาะ : ห้องบุรฉัตรไชยากร ชั้น 4 อาคาร สป. \nที่อยู่ : 563 ถ.นนทบุรี ต.บางกระสอ อ.เมือง จ.นนทบุรี 0 2507 6389
URL:https://boo.colorpack.net/event/%e0%b8%81%e0%b8%a3%e0%b8%b0%e0%b8%97%e0%b8%a3%e0%b8%a7%e0%b8%87%e0%b8%9e%e0%b8%b2%e0%b8%93%e0%b8%b4%e0%b8%8a%e0%b8%a2%e0%b9%8c/
LOCATION:กระทรวงพาณิชย์
CATEGORIES:ปฏิทินตารางหน่วยเคลื่อนที่
END:VEVENT
BEGIN:VEVENT
DTSTART;TZID=Asia/Bangkok:20250204T090000
DTEND;TZID=Asia/Bangkok:20250204T150000
DTSTAMP:20260425T211337
CREATED:20250201T003509Z
LAST-MODIFIED:20250201T003509Z
UID:10000342-1738659600-1738681200@boo.colorpack.net
SUMMARY:กระทรวงพาณิชย์ [0D0074]
DESCRIPTION:สถานที่เจาะ : ห้องมโนปกรณ์ ชั้น 12 ฝั่งกรมส่งเสริมการค้าระหว่างประเทศ \nที่อยู่ : 563 ถ.นนทบุรี ต.บางกระสอ อ.เมือง นนทบุรี  \nโทร : 0 2507 6389
URL:https://boo.colorpack.net/event/%e0%b8%81%e0%b8%a3%e0%b8%b0%e0%b8%97%e0%b8%a3%e0%b8%a7%e0%b8%87%e0%b8%9e%e0%b8%b2%e0%b8%93%e0%b8%b4%e0%b8%8a%e0%b8%a2%e0%b9%8c-0d0074/
LOCATION:กระทรวงพาณิชย์
CATEGORIES:ปฏิทินตารางหน่วยเคลื่อนที่
END:VEVENT
END:VCALENDAR