BEGIN:VCALENDAR
VERSION:2.0
PRODID:-//เว็บไซต์ศูนย์บริการโลหิตแห่งชาติ - ECPv6.11.2.1//NONSGML v1.0//EN
CALSCALE:GREGORIAN
METHOD:PUBLISH
X-WR-CALNAME:เว็บไซต์ศูนย์บริการโลหิตแห่งชาติ
X-ORIGINAL-URL:https://boo.colorpack.net
X-WR-CALDESC:Events for เว็บไซต์ศูนย์บริการโลหิตแห่งชาติ
REFRESH-INTERVAL;VALUE=DURATION:PT1H
X-Robots-Tag:noindex
X-PUBLISHED-TTL:PT1H
BEGIN:VTIMEZONE
TZID:Asia/Krasnoyarsk
BEGIN:STANDARD
TZOFFSETFROM:+0700
TZOFFSETTO:+0700
TZNAME:+07
DTSTART:20260101T000000
END:STANDARD
END:VTIMEZONE
BEGIN:VEVENT
DTSTART;TZID=Asia/Krasnoyarsk:20260125T120000
DTEND;TZID=Asia/Krasnoyarsk:20260125T180000
DTSTAMP:20260426T104923
CREATED:20260120T104541Z
LAST-MODIFIED:20260120T104556Z
UID:10005241-1769342400-1769364000@boo.colorpack.net
SUMMARY:ศูนย์การค้าเดอะมอลล์ไลฟ์สโตร์ งามวงศ์วาน []
DESCRIPTION:สถานที่เจาะ : ชั้น 5 โซน Government Center \nที่อยู่ : ถนนงามวงศ์วาน ต.บางเขน อ.เมือง จ.นนทบุรี 0 2555 1550
URL:https://boo.colorpack.net/event/%e0%b8%a8%e0%b8%b9%e0%b8%99%e0%b8%a2%e0%b9%8c%e0%b8%81%e0%b8%b2%e0%b8%a3%e0%b8%84%e0%b9%89%e0%b8%b2%e0%b9%80%e0%b8%94%e0%b8%ad%e0%b8%b0%e0%b8%a1%e0%b8%ad%e0%b8%a5%e0%b8%a5%e0%b9%8c%e0%b9%84-1321/
LOCATION:ศูนย์การค้าเดอะมอลล์ไลฟ์สโตร์ งามวงศ์วาน\, เดอะมอลล์ ไลฟ์สโตร์ งามวงศ์วาน 430 ถนน งามวงศ์วาน ตำบลบางเขน อำเภอเมืองนนทบุรี นนทบุรี 11000
CATEGORIES:ปฏิทินตารางหน่วยเคลื่อนที่
END:VEVENT
BEGIN:VEVENT
DTSTART;TZID=Asia/Krasnoyarsk:20260125T120000
DTEND;TZID=Asia/Krasnoyarsk:20260125T180000
DTSTAMP:20260426T104923
CREATED:20260120T104531Z
LAST-MODIFIED:20260120T104556Z
UID:10005240-1769342400-1769364000@boo.colorpack.net
SUMMARY:ศูนย์การค้าเดอะมอลล์ไลฟ์สโตร์ บางกะปิ []
DESCRIPTION:สถานที่เจาะ : ชั้น 2 ทางออกลานจอดรถ \nที่อยู่ : ถนนลาดพร้าว แขวงคลองจั่น เขตบางกะปิ กรุงเทพฯ 0 2310 2278
URL:https://boo.colorpack.net/event/%e0%b8%a8%e0%b8%b9%e0%b8%99%e0%b8%a2%e0%b9%8c%e0%b8%81%e0%b8%b2%e0%b8%a3%e0%b8%84%e0%b9%89%e0%b8%b2%e0%b9%80%e0%b8%94%e0%b8%ad%e0%b8%b0%e0%b8%a1%e0%b8%ad%e0%b8%a5%e0%b8%a5%e0%b9%8c%e0%b9%84-1320/
LOCATION:ศูนย์การค้าเดอะมอลล์ไลฟ์สโตร์ บางกะปิ\, เดอะมอลล์ไลฟ์สโตร์ บางกะปิ 3522 ถ. ลาดพร้าว แขวงคลองจั่น เขตบางกะปิ กรุงเทพมหานคร 10240
CATEGORIES:ปฏิทินตารางหน่วยเคลื่อนที่
END:VEVENT
BEGIN:VEVENT
DTSTART;TZID=Asia/Krasnoyarsk:20260125T120000
DTEND;TZID=Asia/Krasnoyarsk:20260125T180000
DTSTAMP:20260426T104923
CREATED:20260120T104520Z
LAST-MODIFIED:20260120T104555Z
UID:10005239-1769342400-1769364000@boo.colorpack.net
SUMMARY:ศูนย์การค้าเดอะมอลล์ไลฟ์สโตร์ บางแค []
DESCRIPTION:สถานที่เจาะ : ชั้น 3 ตรงข้ามร้านโอ้กะจู๋ \nที่อยู่ : ถนนเพชรเกษม แขวงบางแคเหนือ เขตภาษีเจริญ กรุงเทพฯ 02 487 1221
URL:https://boo.colorpack.net/event/%e0%b8%a8%e0%b8%b9%e0%b8%99%e0%b8%a2%e0%b9%8c%e0%b8%81%e0%b8%b2%e0%b8%a3%e0%b8%84%e0%b9%89%e0%b8%b2%e0%b9%80%e0%b8%94%e0%b8%ad%e0%b8%b0%e0%b8%a1%e0%b8%ad%e0%b8%a5%e0%b8%a5%e0%b9%8c%e0%b9%84-1319/
LOCATION:ศูนย์การค้าเดอะมอลล์ไลฟ์สโตร์ บางแค\, ศูนย์การค้าเดอะมอลล์ไลฟ์สโตร์ บางแค
CATEGORIES:ปฏิทินตารางหน่วยเคลื่อนที่
END:VEVENT
BEGIN:VEVENT
DTSTART;TZID=Asia/Krasnoyarsk:20260125T110000
DTEND;TZID=Asia/Krasnoyarsk:20260125T150000
DTSTAMP:20260426T104923
CREATED:20260120T104640Z
LAST-MODIFIED:20260120T104640Z
UID:10005249-1769338800-1769353200@boo.colorpack.net
SUMMARY:เพอร์เฟค พาร์ค พระราม 5 - บางใหญ่ []
DESCRIPTION:สถานที่เจาะ : สโมสร Masterclub \nที่อยู่ : 99 ม. 3 ซ.วัดพระนอน ถ.ประชาอุทิศ ต.บางแม่นาง อ.บางใหญ่ จ.นนทบุรี
URL:https://boo.colorpack.net/event/%e0%b9%80%e0%b8%9e%e0%b8%ad%e0%b8%a3%e0%b9%8c%e0%b9%80%e0%b8%9f%e0%b8%84-%e0%b8%9e%e0%b8%b2%e0%b8%a3%e0%b9%8c%e0%b8%84-%e0%b8%9e%e0%b8%a3%e0%b8%b0%e0%b8%a3%e0%b8%b2%e0%b8%a1-5-%e0%b8%9a%e0%b8%b2-3/
LOCATION:เพอร์เฟค พาร์ค พระราม 5 – บางใหญ่\, เพอร์เฟค พาร์ค พระราม5 - บางใหญ่ 89/1710 ซ.วัดพระนอนประชาอุทิศ ต.บางแม่นาง อ.บางใหญ่ จ.นนทบุรี 11140
CATEGORIES:ปฏิทินตารางหน่วยเคลื่อนที่
END:VEVENT
BEGIN:VEVENT
DTSTART;TZID=Asia/Krasnoyarsk:20260125T110000
DTEND;TZID=Asia/Krasnoyarsk:20260125T150000
DTSTAMP:20260426T104923
CREATED:20260120T104635Z
LAST-MODIFIED:20260120T104635Z
UID:10005247-1769338800-1769353200@boo.colorpack.net
SUMMARY:นิติบุคคลอาคารชุด ลุมพินีคอนโดทาวน์ ร่มเกล้า-สุวรรณภูมิ []
DESCRIPTION:สถานที่เจาะ : ห้องสมุด \nที่อยู่ : 164/274 ถนนร่มเกล้า แขวงคลองสามประเวศ เขตลาดกระบัง กรุงเทพฯ 0 21717711-12
URL:https://boo.colorpack.net/event/%e0%b8%99%e0%b8%b4%e0%b8%95%e0%b8%b4%e0%b8%9a%e0%b8%b8%e0%b8%84%e0%b8%84%e0%b8%a5%e0%b8%ad%e0%b8%b2%e0%b8%84%e0%b8%b2%e0%b8%a3%e0%b8%8a%e0%b8%b8%e0%b8%94-%e0%b8%a5%e0%b8%b8%e0%b8%a1%e0%b8%9e-3/
LOCATION:นิติบุคคลอาคารชุด ลุมพินีคอนโดทาวน์ ร่มเกล้า-สุวรรณภูมิ\, ลุมพินี คอนโดทาวน์ ร่มเกล้า-สุวรรณภูมิ 164/274 ถนนร่มเกล้า แขวงคลองสามประเวศ เขตลาดกระบัง กรุงเทพมหานคร 10520
CATEGORIES:ปฏิทินตารางหน่วยเคลื่อนที่
END:VEVENT
BEGIN:VEVENT
DTSTART;TZID=Asia/Krasnoyarsk:20260125T110000
DTEND;TZID=Asia/Krasnoyarsk:20260125T150000
DTSTAMP:20260426T104923
CREATED:20260120T104625Z
LAST-MODIFIED:20260120T104625Z
UID:10005246-1769338800-1769353200@boo.colorpack.net
SUMMARY:บิ๊กซี ซูเปอร์เซ็นเตอร์ สาขาธนบุรี-ปากท่อ []
DESCRIPTION:สถานที่เจาะ : ด้านหน้าห้าง \nที่อยู่ : 127 ถนนพระราม 2 แขวงแสมดำ เขตบางขุนเทียน กรุงเทพฯ 0 2895 7600
URL:https://boo.colorpack.net/event/%e0%b8%9a%e0%b8%b4%e0%b9%8a%e0%b8%81%e0%b8%8b%e0%b8%b5-%e0%b8%8b%e0%b8%b9%e0%b9%80%e0%b8%9b%e0%b8%ad%e0%b8%a3%e0%b9%8c%e0%b9%80%e0%b8%8b%e0%b9%87%e0%b8%99%e0%b9%80%e0%b8%95%e0%b8%ad%e0%b8%a3-34/
LOCATION:บิ๊กซี ซูเปอร์เซ็นเตอร์ สาขาธนบุรี-ปากท่อ\, บิ๊กซี ซูเปอร์เซ็นเตอร์ สาขาธนบุรี-ปากท่อ 127 ถนนพระรามที่ 2 แขวงแสมดำ เขตบางขุนเทียน กรุงเทพมหานคร 10150
CATEGORIES:ปฏิทินตารางหน่วยเคลื่อนที่
END:VEVENT
BEGIN:VEVENT
DTSTART;TZID=Asia/Krasnoyarsk:20260125T100000
DTEND;TZID=Asia/Krasnoyarsk:20260125T130000
DTSTAMP:20260426T104923
CREATED:20260120T104637Z
LAST-MODIFIED:20260120T104637Z
UID:10005248-1769335200-1769346000@boo.colorpack.net
SUMMARY:สมาคมศรีคุรุสิงห์สภา []
DESCRIPTION:สถานที่เจาะ : ชั้น 3 \nที่อยู่ : 565 ถนนจักรเพชร แขวงวังบูรพา เขตพระนคร กรุงเทพฯ 0 2221 1011
URL:https://boo.colorpack.net/event/%e0%b8%aa%e0%b8%a1%e0%b8%b2%e0%b8%84%e0%b8%a1%e0%b8%a8%e0%b8%a3%e0%b8%b5%e0%b8%84%e0%b8%b8%e0%b8%a3%e0%b8%b8%e0%b8%aa%e0%b8%b4%e0%b8%87%e0%b8%ab%e0%b9%8c%e0%b8%aa%e0%b8%a0%e0%b8%b2-3/
LOCATION:สมาคมศรีคุรุสิงห์สภา
CATEGORIES:ปฏิทินตารางหน่วยเคลื่อนที่
END:VEVENT
BEGIN:VEVENT
DTSTART;TZID=Asia/Krasnoyarsk:20260125T090000
DTEND;TZID=Asia/Krasnoyarsk:20260125T150000
DTSTAMP:20260426T104923
CREATED:20260120T104621Z
LAST-MODIFIED:20260120T104621Z
UID:10005245-1769331600-1769353200@boo.colorpack.net
SUMMARY:บ้านทรงไทย (ย่านวงศ์สว่าง) []
DESCRIPTION:สถานที่เจาะ : (พัก 12.30-13.00 น.) \nที่อยู่ : 1423 ถนนกรุงเทพ – นนทบุรี แขวงวงศ์สว่าง เขตบางซื่อ กรุงเทพฯ 0 2256 4300
URL:https://boo.colorpack.net/event/%e0%b8%9a%e0%b9%89%e0%b8%b2%e0%b8%99%e0%b8%97%e0%b8%a3%e0%b8%87%e0%b9%84%e0%b8%97%e0%b8%a2-%e0%b8%a2%e0%b9%88%e0%b8%b2%e0%b8%99%e0%b8%a7%e0%b8%87%e0%b8%a8%e0%b9%8c%e0%b8%aa%e0%b8%a7%e0%b9%88-328/
LOCATION:บ้านทรงไทย (ย่านวงศ์สว่าง)\, หน่วยรับบริจาคโลหิต บ้านทรงไทย(ย่านวงศ์สว่าง) 1423 ถนนกรุงเทพ-นนทบุรี แขวงวงศ์สว่าง เขตบางซื่อ กรุงเทพมหานคร 10800
CATEGORIES:ปฏิทินตารางหน่วยเคลื่อนที่
END:VEVENT
BEGIN:VEVENT
DTSTART;TZID=Asia/Krasnoyarsk:20260125T083000
DTEND;TZID=Asia/Krasnoyarsk:20260125T153000
DTSTAMP:20260426T104923
CREATED:20260120T104617Z
LAST-MODIFIED:20260120T104617Z
UID:10005244-1769329800-1769355000@boo.colorpack.net
SUMMARY:สถานีกาชาด 11 วิเศษนิยม []
DESCRIPTION:สถานที่เจาะ : ชั้น 3 \nที่อยู่ : 33/3 ถนนเพชรเกษม แขวงบางหว้า เขตภาษีเจริญ กรุงเทพฯ 0633450711
URL:https://boo.colorpack.net/event/%e0%b8%aa%e0%b8%96%e0%b8%b2%e0%b8%99%e0%b8%b5%e0%b8%81%e0%b8%b2%e0%b8%8a%e0%b8%b2%e0%b8%94-11-%e0%b8%a7%e0%b8%b4%e0%b9%80%e0%b8%a8%e0%b8%a9%e0%b8%99%e0%b8%b4%e0%b8%a2%e0%b8%a1-145/
LOCATION:สถานีกาชาด 11 วิเศษนิยม\, สถานีกาชาด 11 วิเศษนิยม 605 ถ.เพชรเกษม แขวงบางหว้า เขตภาษีเจริญ กรุงเทพมหานคร 10160
CATEGORIES:ปฏิทินตารางหน่วยเคลื่อนที่
END:VEVENT
BEGIN:VEVENT
DTSTART;TZID=Asia/Krasnoyarsk:20260125T083000
DTEND;TZID=Asia/Krasnoyarsk:20260125T153000
DTSTAMP:20260426T104923
CREATED:20260120T104515Z
LAST-MODIFIED:20260120T104554Z
UID:10005238-1769329800-1769355000@boo.colorpack.net
SUMMARY:ศูนย์บริการโลหิตแห่งชาติ สภากาชาดไทย []
DESCRIPTION:ที่อยู่ : 1871 ถ. อังรีดูนังต์ แขวงปทุมวัน เขตปทุมวัน
URL:https://boo.colorpack.net/event/%e0%b8%a8%e0%b8%b9%e0%b8%99%e0%b8%a2%e0%b9%8c%e0%b8%9a%e0%b8%a3%e0%b8%b4%e0%b8%81%e0%b8%b2%e0%b8%a3%e0%b9%82%e0%b8%a5%e0%b8%ab%e0%b8%b4%e0%b8%95%e0%b9%81%e0%b8%ab%e0%b9%88%e0%b8%87%e0%b8%8a-410/
LOCATION:ศูนย์บริการโลหิตแห่งชาติ สภากาชาดไทย\, ศูนย์บริการโลหิตแห่งชาติ สภากาชาดไทย 1871 ถ. อังรีดูนังต์ แขวงปทุมวัน เขตปทุมวัน กรุงเทพมหานคร 10330
CATEGORIES:ปฏิทินตารางหน่วยเคลื่อนที่
END:VEVENT
BEGIN:VEVENT
DTSTART;TZID=Asia/Krasnoyarsk:20260124T120000
DTEND;TZID=Asia/Krasnoyarsk:20260124T180000
DTSTAMP:20260426T104923
CREATED:20260120T104431Z
LAST-MODIFIED:20260120T104431Z
UID:10005231-1769256000-1769277600@boo.colorpack.net
SUMMARY:ศูนย์การค้าเดอะมอลล์ไลฟ์สโตร์ ท่าพระ []
DESCRIPTION:สถานที่เจาะ : ชั้น 1 (ติดลานจอดรถ) \nที่อยู่ : 99 ถนนรัชดาท่าพระตัดใหม่ แขวงบุคคโล เขตธนบุรี กรุงเทพฯ 0 2469-1000
URL:https://boo.colorpack.net/event/%e0%b8%a8%e0%b8%b9%e0%b8%99%e0%b8%a2%e0%b9%8c%e0%b8%81%e0%b8%b2%e0%b8%a3%e0%b8%84%e0%b9%89%e0%b8%b2%e0%b9%80%e0%b8%94%e0%b8%ad%e0%b8%b0%e0%b8%a1%e0%b8%ad%e0%b8%a5%e0%b8%a5%e0%b9%8c%e0%b9%84-1318/
LOCATION:ศูนย์การค้าเดอะมอลล์ไลฟ์สโตร์ ท่าพระ\, เดอะมอลล์ไลฟ์สโตร์ ท่าพระ 129 ถ. รัชดาภิเษก แขวงบุคคโล เขตธนบุรี กรุงเทพมหานคร 10600
CATEGORIES:ปฏิทินตารางหน่วยเคลื่อนที่
END:VEVENT
BEGIN:VEVENT
DTSTART;TZID=Asia/Krasnoyarsk:20260124T120000
DTEND;TZID=Asia/Krasnoyarsk:20260124T180000
DTSTAMP:20260426T104923
CREATED:20260120T104427Z
LAST-MODIFIED:20260120T104427Z
UID:10005230-1769256000-1769277600@boo.colorpack.net
SUMMARY:ศูนย์การค้า เอ็มโพเรียม []
DESCRIPTION:สถานที่เจาะ : ชั้น M ศูนย์การค้า ดิ เอ็มโพเรียม เชื่อมลานจอดรถอาคาร B \nที่อยู่ : 622 ถนนสุขุมวิท แขวงคลองตัน เขตคลองเตย กรุงเทพฯ 0 2269 1515
URL:https://boo.colorpack.net/event/%e0%b8%a8%e0%b8%b9%e0%b8%99%e0%b8%a2%e0%b9%8c%e0%b8%81%e0%b8%b2%e0%b8%a3%e0%b8%84%e0%b9%89%e0%b8%b2-%e0%b9%80%e0%b8%ad%e0%b9%87%e0%b8%a1%e0%b9%82%e0%b8%9e%e0%b9%80%e0%b8%a3%e0%b8%b5%e0%b8%a2-325/
LOCATION:ศูนย์การค้า เอ็มโพเรียม\, เอ็มโพเรียม 622 ถ. สุขุมวิท แขวงคลองตัน เขตคลองเตย กรุงเทพมหานคร 10110
CATEGORIES:ปฏิทินตารางหน่วยเคลื่อนที่
END:VEVENT
BEGIN:VEVENT
DTSTART;TZID=Asia/Krasnoyarsk:20260124T120000
DTEND;TZID=Asia/Krasnoyarsk:20260124T180000
DTSTAMP:20260426T104923
CREATED:20260120T104416Z
LAST-MODIFIED:20260120T104416Z
UID:10005229-1769256000-1769277600@boo.colorpack.net
SUMMARY:ศูนย์การค้าเดอะมอลล์ไลฟ์สโตร์ งามวงศ์วาน []
DESCRIPTION:สถานที่เจาะ : ชั้น 5 โซน Government Center \nที่อยู่ : ถนนงามวงศ์วาน ต.บางเขน อ.เมือง จ.นนทบุรี 0 2555 1550
URL:https://boo.colorpack.net/event/%e0%b8%a8%e0%b8%b9%e0%b8%99%e0%b8%a2%e0%b9%8c%e0%b8%81%e0%b8%b2%e0%b8%a3%e0%b8%84%e0%b9%89%e0%b8%b2%e0%b9%80%e0%b8%94%e0%b8%ad%e0%b8%b0%e0%b8%a1%e0%b8%ad%e0%b8%a5%e0%b8%a5%e0%b9%8c%e0%b9%84-1317/
LOCATION:ศูนย์การค้าเดอะมอลล์ไลฟ์สโตร์ งามวงศ์วาน\, เดอะมอลล์ ไลฟ์สโตร์ งามวงศ์วาน 430 ถนน งามวงศ์วาน ตำบลบางเขน อำเภอเมืองนนทบุรี นนทบุรี 11000
CATEGORIES:ปฏิทินตารางหน่วยเคลื่อนที่
END:VEVENT
BEGIN:VEVENT
DTSTART;TZID=Asia/Krasnoyarsk:20260124T120000
DTEND;TZID=Asia/Krasnoyarsk:20260124T180000
DTSTAMP:20260426T104923
CREATED:20260120T104406Z
LAST-MODIFIED:20260120T104406Z
UID:10005228-1769256000-1769277600@boo.colorpack.net
SUMMARY:ศูนย์การค้าเดอะมอลล์ไลฟ์สโตร์ บางกะปิ []
DESCRIPTION:สถานที่เจาะ : ชั้น 2 ทางออกลานจอดรถ \nที่อยู่ : ถนนลาดพร้าว แขวงคลองจั่น เขตบางกะปิ กรุงเทพฯ 0 2310 2278
URL:https://boo.colorpack.net/event/%e0%b8%a8%e0%b8%b9%e0%b8%99%e0%b8%a2%e0%b9%8c%e0%b8%81%e0%b8%b2%e0%b8%a3%e0%b8%84%e0%b9%89%e0%b8%b2%e0%b9%80%e0%b8%94%e0%b8%ad%e0%b8%b0%e0%b8%a1%e0%b8%ad%e0%b8%a5%e0%b8%a5%e0%b9%8c%e0%b9%84-1316/
LOCATION:ศูนย์การค้าเดอะมอลล์ไลฟ์สโตร์ บางกะปิ\, เดอะมอลล์ไลฟ์สโตร์ บางกะปิ 3522 ถ. ลาดพร้าว แขวงคลองจั่น เขตบางกะปิ กรุงเทพมหานคร 10240
CATEGORIES:ปฏิทินตารางหน่วยเคลื่อนที่
END:VEVENT
BEGIN:VEVENT
DTSTART;TZID=Asia/Krasnoyarsk:20260124T120000
DTEND;TZID=Asia/Krasnoyarsk:20260124T180000
DTSTAMP:20260426T104923
CREATED:20260120T104356Z
LAST-MODIFIED:20260120T104356Z
UID:10005227-1769256000-1769277600@boo.colorpack.net
SUMMARY:ศูนย์การค้าเดอะมอลล์ไลฟ์สโตร์ บางแค []
DESCRIPTION:สถานที่เจาะ : ชั้น 3 ตรงข้ามร้านโอ้กะจู๋ \nที่อยู่ : ถนนเพชรเกษม แขวงบางแคเหนือ เขตภาษีเจริญ กรุงเทพฯ 02 487 1221
URL:https://boo.colorpack.net/event/%e0%b8%a8%e0%b8%b9%e0%b8%99%e0%b8%a2%e0%b9%8c%e0%b8%81%e0%b8%b2%e0%b8%a3%e0%b8%84%e0%b9%89%e0%b8%b2%e0%b9%80%e0%b8%94%e0%b8%ad%e0%b8%b0%e0%b8%a1%e0%b8%ad%e0%b8%a5%e0%b8%a5%e0%b9%8c%e0%b9%84-1315/
LOCATION:ศูนย์การค้าเดอะมอลล์ไลฟ์สโตร์ บางแค\, ศูนย์การค้าเดอะมอลล์ไลฟ์สโตร์ บางแค
CATEGORIES:ปฏิทินตารางหน่วยเคลื่อนที่
END:VEVENT
BEGIN:VEVENT
DTSTART;TZID=Asia/Krasnoyarsk:20260124T110000
DTEND;TZID=Asia/Krasnoyarsk:20260124T150000
DTSTAMP:20260426T104923
CREATED:20260120T104513Z
LAST-MODIFIED:20260120T104553Z
UID:10005237-1769252400-1769266800@boo.colorpack.net
SUMMARY:เพอร์เฟค เพลส รังสิต เลค รีสอร์ท []
DESCRIPTION:สถานที่เจาะ : หน้าสำนักงาน \nที่อยู่ : ม.1 ถ.รังสิต-ปทุมธานี ต.บ้านกลาง อ.เมือง ปทุมธานี
URL:https://boo.colorpack.net/event/%e0%b9%80%e0%b8%9e%e0%b8%ad%e0%b8%a3%e0%b9%8c%e0%b9%80%e0%b8%9f%e0%b8%84-%e0%b9%80%e0%b8%9e%e0%b8%a5%e0%b8%aa-%e0%b8%a3%e0%b8%b1%e0%b8%87%e0%b8%aa%e0%b8%b4%e0%b8%95-%e0%b9%80%e0%b8%a5%e0%b8%84-3/
LOCATION:เพอร์เฟค เพลส รังสิต เลค รีสอร์ท\, เพอร์เฟค เพลส รังสิต เลค รีสอร์ท ม.1 ถ.รังสิต-ปทุมธานี ต. บ้านกลาง อ.เมืองปทุมธานี จ.ปทุมธานี 12000
CATEGORIES:ปฏิทินตารางหน่วยเคลื่อนที่
END:VEVENT
BEGIN:VEVENT
DTSTART;TZID=Asia/Krasnoyarsk:20260124T110000
DTEND;TZID=Asia/Krasnoyarsk:20260124T150000
DTSTAMP:20260426T104923
CREATED:20260120T104507Z
LAST-MODIFIED:20260120T104507Z
UID:10005236-1769252400-1769266800@boo.colorpack.net
SUMMARY:ลุมพินี วิลล์ พัฒนาการ - ศรีนครินทร์ []
DESCRIPTION:สถานที่เจาะ : ด้านหน้าห้องอเนกประสงค์ \nที่อยู่ : 1663 ถนนพัฒนาการ แขวงสวนหลวง เขตสวนหลวง กรุงเทพฯ
URL:https://boo.colorpack.net/event/%e0%b8%a5%e0%b8%b8%e0%b8%a1%e0%b8%9e%e0%b8%b4%e0%b8%99%e0%b8%b5-%e0%b8%a7%e0%b8%b4%e0%b8%a5%e0%b8%a5%e0%b9%8c-%e0%b8%9e%e0%b8%b1%e0%b8%92%e0%b8%99%e0%b8%b2%e0%b8%81%e0%b8%b2%e0%b8%a3-%e0%b8%a8-5/
LOCATION:ลุมพินี วิลล์ พัฒนาการ – ศรีนครินทร์\, ลุมพินี วิลล์ พัฒนาการ - ศรีนครินทร์ 1663 ถ.พัฒนาการ แขวงสวนหลวง เขตสวนหลวง กรุงเทพมหานคร 10250
CATEGORIES:ปฏิทินตารางหน่วยเคลื่อนที่
END:VEVENT
BEGIN:VEVENT
DTSTART;TZID=Asia/Krasnoyarsk:20260124T110000
DTEND;TZID=Asia/Krasnoyarsk:20260124T150000
DTSTAMP:20260426T104923
CREATED:20260120T104504Z
LAST-MODIFIED:20260120T104504Z
UID:10005235-1769252400-1769266800@boo.colorpack.net
SUMMARY:ลุมพินี วิลล์ แจ้งวัฒนะ-ปากเกร็ด []
DESCRIPTION:สถานที่เจาะ : หน้าอาคาร B \nที่อยู่ : 175 ม.5 ถ.แจ้งวัฒนะ (ตรงข้ามเมเจอร์ปากเกร็ด) ต.ปากเกร็ด อ.ปากเกร็ด จ.นนทบุรี 0 2285 5011-16
URL:https://boo.colorpack.net/event/%e0%b8%a5%e0%b8%b8%e0%b8%a1%e0%b8%9e%e0%b8%b4%e0%b8%99%e0%b8%b5-%e0%b8%a7%e0%b8%b4%e0%b8%a5%e0%b8%a5%e0%b9%8c-%e0%b9%81%e0%b8%88%e0%b9%89%e0%b8%87%e0%b8%a7%e0%b8%b1%e0%b8%92%e0%b8%99%e0%b8%b0-4/
LOCATION:ลุมพินี วิลล์ แจ้งวัฒนะ-ปากเกร็ด\, ลุมพินี วิลล์ แจ้งวัฒนะ-ปากเกร็ด ถ.แจ้งวัฒนะ ต.ปากเกร็ด อ.ปากเกร็ด จ.นนทบุรี 11120
CATEGORIES:ปฏิทินตารางหน่วยเคลื่อนที่
END:VEVENT
BEGIN:VEVENT
DTSTART;TZID=Asia/Krasnoyarsk:20260124T110000
DTEND;TZID=Asia/Krasnoyarsk:20260124T150000
DTSTAMP:20260426T104923
CREATED:20260120T104502Z
LAST-MODIFIED:20260120T104502Z
UID:10005234-1769252400-1769266800@boo.colorpack.net
SUMMARY:เซ็นทรัลพลาซา บางนา []
DESCRIPTION:สถานที่เจาะ : ด้านหน้า KFC \nที่อยู่ : 1090 ถนนบางนา-ตราด แขวงบางนา เขตบางนา กรุงเทพฯ 0 2763 6000
URL:https://boo.colorpack.net/event/%e0%b9%80%e0%b8%8b%e0%b9%87%e0%b8%99%e0%b8%97%e0%b8%a3%e0%b8%b1%e0%b8%a5%e0%b8%9e%e0%b8%a5%e0%b8%b2%e0%b8%8b%e0%b8%b2-%e0%b8%9a%e0%b8%b2%e0%b8%87%e0%b8%99%e0%b8%b2-24/
LOCATION:เซ็นทรัลพลาซา บางนา\, เซ็นทรัล บางนา ทางคู่ขนาน ถนนบางนา-ตราด แขวงบางนาเหนือ เขตบางนา กรุงเทพมหานคร 10260
CATEGORIES:ปฏิทินตารางหน่วยเคลื่อนที่
END:VEVENT
BEGIN:VEVENT
DTSTART;TZID=Asia/Krasnoyarsk:20260124T090000
DTEND;TZID=Asia/Krasnoyarsk:20260124T150000
DTSTAMP:20260426T104923
CREATED:20260120T104457Z
LAST-MODIFIED:20260120T104457Z
UID:10005233-1769245200-1769266800@boo.colorpack.net
SUMMARY:บ้านทรงไทย (ย่านวงศ์สว่าง) []
DESCRIPTION:สถานที่เจาะ : (พัก 12.30-13.00 น.) \nที่อยู่ : 1423 ถนนกรุงเทพ – นนทบุรี แขวงวงศ์สว่าง เขตบางซื่อ กรุงเทพฯ 0 2256 4300
URL:https://boo.colorpack.net/event/%e0%b8%9a%e0%b9%89%e0%b8%b2%e0%b8%99%e0%b8%97%e0%b8%a3%e0%b8%87%e0%b9%84%e0%b8%97%e0%b8%a2-%e0%b8%a2%e0%b9%88%e0%b8%b2%e0%b8%99%e0%b8%a7%e0%b8%87%e0%b8%a8%e0%b9%8c%e0%b8%aa%e0%b8%a7%e0%b9%88-327/
LOCATION:บ้านทรงไทย (ย่านวงศ์สว่าง)\, หน่วยรับบริจาคโลหิต บ้านทรงไทย(ย่านวงศ์สว่าง) 1423 ถนนกรุงเทพ-นนทบุรี แขวงวงศ์สว่าง เขตบางซื่อ กรุงเทพมหานคร 10800
CATEGORIES:ปฏิทินตารางหน่วยเคลื่อนที่
END:VEVENT
BEGIN:VEVENT
DTSTART;TZID=Asia/Krasnoyarsk:20260124T083000
DTEND;TZID=Asia/Krasnoyarsk:20260124T153000
DTSTAMP:20260426T104923
CREATED:20260120T104453Z
LAST-MODIFIED:20260120T104453Z
UID:10005232-1769243400-1769268600@boo.colorpack.net
SUMMARY:สถานีกาชาด 11 วิเศษนิยม []
DESCRIPTION:สถานที่เจาะ : ชั้น 3 \nที่อยู่ : 33/3 ถนนเพชรเกษม แขวงบางหว้า เขตภาษีเจริญ กรุงเทพฯ 0633450711
URL:https://boo.colorpack.net/event/%e0%b8%aa%e0%b8%96%e0%b8%b2%e0%b8%99%e0%b8%b5%e0%b8%81%e0%b8%b2%e0%b8%8a%e0%b8%b2%e0%b8%94-11-%e0%b8%a7%e0%b8%b4%e0%b9%80%e0%b8%a8%e0%b8%a9%e0%b8%99%e0%b8%b4%e0%b8%a2%e0%b8%a1-144/
LOCATION:สถานีกาชาด 11 วิเศษนิยม\, สถานีกาชาด 11 วิเศษนิยม 605 ถ.เพชรเกษม แขวงบางหว้า เขตภาษีเจริญ กรุงเทพมหานคร 10160
CATEGORIES:ปฏิทินตารางหน่วยเคลื่อนที่
END:VEVENT
BEGIN:VEVENT
DTSTART;TZID=Asia/Krasnoyarsk:20260124T083000
DTEND;TZID=Asia/Krasnoyarsk:20260124T153000
DTSTAMP:20260426T104923
CREATED:20260120T104344Z
LAST-MODIFIED:20260120T104344Z
UID:10005226-1769243400-1769268600@boo.colorpack.net
SUMMARY:ศูนย์บริการโลหิตแห่งชาติ สภากาชาดไทย []
DESCRIPTION:ที่อยู่ : 1871 ถ. อังรีดูนังต์ แขวงปทุมวัน เขตปทุมวัน
URL:https://boo.colorpack.net/event/%e0%b8%a8%e0%b8%b9%e0%b8%99%e0%b8%a2%e0%b9%8c%e0%b8%9a%e0%b8%a3%e0%b8%b4%e0%b8%81%e0%b8%b2%e0%b8%a3%e0%b9%82%e0%b8%a5%e0%b8%ab%e0%b8%b4%e0%b8%95%e0%b9%81%e0%b8%ab%e0%b9%88%e0%b8%87%e0%b8%8a-409/
LOCATION:ศูนย์บริการโลหิตแห่งชาติ สภากาชาดไทย\, ศูนย์บริการโลหิตแห่งชาติ สภากาชาดไทย 1871 ถ. อังรีดูนังต์ แขวงปทุมวัน เขตปทุมวัน กรุงเทพมหานคร 10330
CATEGORIES:ปฏิทินตารางหน่วยเคลื่อนที่
END:VEVENT
BEGIN:VEVENT
DTSTART;TZID=Asia/Krasnoyarsk:20260123T120000
DTEND;TZID=Asia/Krasnoyarsk:20260123T180000
DTSTAMP:20260426T104923
CREATED:20260120T104238Z
LAST-MODIFIED:20260120T104238Z
UID:10005214-1769169600-1769191200@boo.colorpack.net
SUMMARY:ศูนย์การค้าเดอะมอลล์ไลฟ์สโตร์ ท่าพระ []
DESCRIPTION:สถานที่เจาะ : ชั้น 1 (ติดลานจอดรถ) \nที่อยู่ : 99 ถนนรัชดาท่าพระตัดใหม่ แขวงบุคคโล เขตธนบุรี กรุงเทพฯ 0 2469-1000
URL:https://boo.colorpack.net/event/%e0%b8%a8%e0%b8%b9%e0%b8%99%e0%b8%a2%e0%b9%8c%e0%b8%81%e0%b8%b2%e0%b8%a3%e0%b8%84%e0%b9%89%e0%b8%b2%e0%b9%80%e0%b8%94%e0%b8%ad%e0%b8%b0%e0%b8%a1%e0%b8%ad%e0%b8%a5%e0%b8%a5%e0%b9%8c%e0%b9%84-1314/
LOCATION:ศูนย์การค้าเดอะมอลล์ไลฟ์สโตร์ ท่าพระ\, เดอะมอลล์ไลฟ์สโตร์ ท่าพระ 129 ถ. รัชดาภิเษก แขวงบุคคโล เขตธนบุรี กรุงเทพมหานคร 10600
CATEGORIES:ปฏิทินตารางหน่วยเคลื่อนที่
END:VEVENT
BEGIN:VEVENT
DTSTART;TZID=Asia/Krasnoyarsk:20260123T120000
DTEND;TZID=Asia/Krasnoyarsk:20260123T180000
DTSTAMP:20260426T104923
CREATED:20260120T104233Z
LAST-MODIFIED:20260120T104233Z
UID:10005213-1769169600-1769191200@boo.colorpack.net
SUMMARY:ศูนย์การค้า เอ็มโพเรียม []
DESCRIPTION:สถานที่เจาะ : ชั้น M ศูนย์การค้า ดิ เอ็มโพเรียม เชื่อมลานจอดรถอาคาร B \nที่อยู่ : 622 ถนนสุขุมวิท แขวงคลองตัน เขตคลองเตย กรุงเทพฯ 0 2269 1515
URL:https://boo.colorpack.net/event/%e0%b8%a8%e0%b8%b9%e0%b8%99%e0%b8%a2%e0%b9%8c%e0%b8%81%e0%b8%b2%e0%b8%a3%e0%b8%84%e0%b9%89%e0%b8%b2-%e0%b9%80%e0%b8%ad%e0%b9%87%e0%b8%a1%e0%b9%82%e0%b8%9e%e0%b9%80%e0%b8%a3%e0%b8%b5%e0%b8%a2-324/
LOCATION:ศูนย์การค้า เอ็มโพเรียม\, เอ็มโพเรียม 622 ถ. สุขุมวิท แขวงคลองตัน เขตคลองเตย กรุงเทพมหานคร 10110
CATEGORIES:ปฏิทินตารางหน่วยเคลื่อนที่
END:VEVENT
BEGIN:VEVENT
DTSTART;TZID=Asia/Krasnoyarsk:20260123T120000
DTEND;TZID=Asia/Krasnoyarsk:20260123T180000
DTSTAMP:20260426T104923
CREATED:20260120T104220Z
LAST-MODIFIED:20260120T104220Z
UID:10005212-1769169600-1769191200@boo.colorpack.net
SUMMARY:ศูนย์การค้าเดอะมอลล์ไลฟ์สโตร์ งามวงศ์วาน []
DESCRIPTION:สถานที่เจาะ : ชั้น 5 โซน Government Center \nที่อยู่ : ถนนงามวงศ์วาน ต.บางเขน อ.เมือง จ.นนทบุรี 0 2555 1550
URL:https://boo.colorpack.net/event/%e0%b8%a8%e0%b8%b9%e0%b8%99%e0%b8%a2%e0%b9%8c%e0%b8%81%e0%b8%b2%e0%b8%a3%e0%b8%84%e0%b9%89%e0%b8%b2%e0%b9%80%e0%b8%94%e0%b8%ad%e0%b8%b0%e0%b8%a1%e0%b8%ad%e0%b8%a5%e0%b8%a5%e0%b9%8c%e0%b9%84-1313/
LOCATION:ศูนย์การค้าเดอะมอลล์ไลฟ์สโตร์ งามวงศ์วาน\, เดอะมอลล์ ไลฟ์สโตร์ งามวงศ์วาน 430 ถนน งามวงศ์วาน ตำบลบางเขน อำเภอเมืองนนทบุรี นนทบุรี 11000
CATEGORIES:ปฏิทินตารางหน่วยเคลื่อนที่
END:VEVENT
BEGIN:VEVENT
DTSTART;TZID=Asia/Krasnoyarsk:20260123T120000
DTEND;TZID=Asia/Krasnoyarsk:20260123T180000
DTSTAMP:20260426T104923
CREATED:20260120T104151Z
LAST-MODIFIED:20260120T104151Z
UID:10005211-1769169600-1769191200@boo.colorpack.net
SUMMARY:ศูนย์การค้าเดอะมอลล์ไลฟ์สโตร์ บางกะปิ []
DESCRIPTION:สถานที่เจาะ : ชั้น 2 ทางออกลานจอดรถ \nที่อยู่ : ถนนลาดพร้าว แขวงคลองจั่น เขตบางกะปิ กรุงเทพฯ 0 2310 2278
URL:https://boo.colorpack.net/event/%e0%b8%a8%e0%b8%b9%e0%b8%99%e0%b8%a2%e0%b9%8c%e0%b8%81%e0%b8%b2%e0%b8%a3%e0%b8%84%e0%b9%89%e0%b8%b2%e0%b9%80%e0%b8%94%e0%b8%ad%e0%b8%b0%e0%b8%a1%e0%b8%ad%e0%b8%a5%e0%b8%a5%e0%b9%8c%e0%b9%84-1312/
LOCATION:ศูนย์การค้าเดอะมอลล์ไลฟ์สโตร์ บางกะปิ\, เดอะมอลล์ไลฟ์สโตร์ บางกะปิ 3522 ถ. ลาดพร้าว แขวงคลองจั่น เขตบางกะปิ กรุงเทพมหานคร 10240
CATEGORIES:ปฏิทินตารางหน่วยเคลื่อนที่
END:VEVENT
BEGIN:VEVENT
DTSTART;TZID=Asia/Krasnoyarsk:20260123T120000
DTEND;TZID=Asia/Krasnoyarsk:20260123T180000
DTSTAMP:20260426T104923
CREATED:20260120T104139Z
LAST-MODIFIED:20260120T104139Z
UID:10005210-1769169600-1769191200@boo.colorpack.net
SUMMARY:ศูนย์การค้าเดอะมอลล์ไลฟ์สโตร์ บางแค []
DESCRIPTION:สถานที่เจาะ : ชั้น 3 ตรงข้ามร้านโอ้กะจู๋ \nที่อยู่ : ถนนเพชรเกษม แขวงบางแคเหนือ เขตภาษีเจริญ กรุงเทพฯ 02 487 1221
URL:https://boo.colorpack.net/event/%e0%b8%a8%e0%b8%b9%e0%b8%99%e0%b8%a2%e0%b9%8c%e0%b8%81%e0%b8%b2%e0%b8%a3%e0%b8%84%e0%b9%89%e0%b8%b2%e0%b9%80%e0%b8%94%e0%b8%ad%e0%b8%b0%e0%b8%a1%e0%b8%ad%e0%b8%a5%e0%b8%a5%e0%b9%8c%e0%b9%84-1311/
LOCATION:ศูนย์การค้าเดอะมอลล์ไลฟ์สโตร์ บางแค\, ศูนย์การค้าเดอะมอลล์ไลฟ์สโตร์ บางแค
CATEGORIES:ปฏิทินตารางหน่วยเคลื่อนที่
END:VEVENT
BEGIN:VEVENT
DTSTART;TZID=Asia/Krasnoyarsk:20260123T090000
DTEND;TZID=Asia/Krasnoyarsk:20260123T150000
DTSTAMP:20260426T104923
CREATED:20260120T104340Z
LAST-MODIFIED:20260120T104340Z
UID:10005225-1769158800-1769180400@boo.colorpack.net
SUMMARY:สำนักงานพัฒนาวิทยาศาสตร์และเทคโนโลยีแห่งชาติ []
DESCRIPTION:สถานที่เจาะ : ห้องประชุม CO-113 (พัก 12.00-13.00 น.) \nที่อยู่ : 111 ถ.พหลโยธิน (อยู่ใน มธ.ศูนย์รังสิต) ต.คลองหนึ่ง อ.คลองหลวง ปทุมธานี 0 2564 7000
URL:https://boo.colorpack.net/event/%e0%b8%aa%e0%b8%b3%e0%b8%99%e0%b8%b1%e0%b8%81%e0%b8%87%e0%b8%b2%e0%b8%99%e0%b8%9e%e0%b8%b1%e0%b8%92%e0%b8%99%e0%b8%b2%e0%b8%a7%e0%b8%b4%e0%b8%97%e0%b8%a2%e0%b8%b2%e0%b8%a8%e0%b8%b2%e0%b8%aa%e0%b8%95-3/
LOCATION:สำนักงานพัฒนาวิทยาศาสตร์และเทคโนโลยีแห่งชาติ\, อุทยานวิทยาศาสตร์ประเทศไทย 111 ถ.พหลโยธิน ต.คลองหนึ่ง อ.คลองหลวง จ.ปทุมธานี 12120
CATEGORIES:ปฏิทินตารางหน่วยเคลื่อนที่
END:VEVENT
BEGIN:VEVENT
DTSTART;TZID=Asia/Krasnoyarsk:20260123T090000
DTEND;TZID=Asia/Krasnoyarsk:20260123T150000
DTSTAMP:20260426T104923
CREATED:20260120T104338Z
LAST-MODIFIED:20260120T104338Z
UID:10005224-1769158800-1769180400@boo.colorpack.net
SUMMARY:โรงพยาบาลวิชัยเวช อินเตอร์เนชั่นแนล หนองแขม []
DESCRIPTION:สถานที่เจาะ : ห้องประชุมวนดุรงค์วรรณ ชั้น 2 อาคาร 3 (พัก 12.00-13.00 น.) \nที่อยู่ : 456-456/8 ถนนเพชรเกษม หนองค้างพลู เขตหนองแขม กรุงเทพฯ 0 2441 6999
URL:https://boo.colorpack.net/event/%e0%b9%82%e0%b8%a3%e0%b8%87%e0%b8%9e%e0%b8%a2%e0%b8%b2%e0%b8%9a%e0%b8%b2%e0%b8%a5%e0%b8%a7%e0%b8%b4%e0%b8%8a%e0%b8%b1%e0%b8%a2%e0%b9%80%e0%b8%a7%e0%b8%8a-%e0%b8%ad%e0%b8%b4%e0%b8%99%e0%b9%80-4/
LOCATION:โรงพยาบาลวิชัยเวช อินเตอร์เนชั่นแนล หนองแขม\, โรงพยาบาลวิชัยเวช อินเตอร์เนชั่นแนล หนองแขม 456-456/9 ถนนเพชรเกษม แขวงหนองค้างพลู เขตหนองแขม กรุงเทพฯ 10160
CATEGORIES:ปฏิทินตารางหน่วยเคลื่อนที่
END:VEVENT
BEGIN:VEVENT
DTSTART;TZID=Asia/Krasnoyarsk:20260123T090000
DTEND;TZID=Asia/Krasnoyarsk:20260123T150000
DTSTAMP:20260426T104923
CREATED:20260120T104336Z
LAST-MODIFIED:20260120T104336Z
UID:10005223-1769158800-1769180400@boo.colorpack.net
SUMMARY:โรงพยาบาลนครธน []
DESCRIPTION:สถานที่เจาะ : หน้าโรงพยาบาล (พัก 11.30-12.30 น.) \nที่อยู่ : 1 พระรามที่ 2 ซอย 56 แขวงแสมดำ เขตบางขุนเทียน กรุงเทพฯ 0 2450 9999
URL:https://boo.colorpack.net/event/%e0%b9%82%e0%b8%a3%e0%b8%87%e0%b8%9e%e0%b8%a2%e0%b8%b2%e0%b8%9a%e0%b8%b2%e0%b8%a5%e0%b8%99%e0%b8%84%e0%b8%a3%e0%b8%98%e0%b8%99-3/
LOCATION:โรงพยาบาลนครธน\, โรงพยาบาลนครธน 1 พระราม 2 ซอย 56 แขวงแสมดำ เขตบางขุนเทียน กรุงเทพมหานคร 10150
CATEGORIES:ปฏิทินตารางหน่วยเคลื่อนที่
END:VEVENT
END:VCALENDAR