BEGIN:VCALENDAR
VERSION:2.0
PRODID:-//เว็บไซต์ศูนย์บริการโลหิตแห่งชาติ - ECPv6.11.2.1//NONSGML v1.0//EN
CALSCALE:GREGORIAN
METHOD:PUBLISH
X-WR-CALNAME:เว็บไซต์ศูนย์บริการโลหิตแห่งชาติ
X-ORIGINAL-URL:https://boo.colorpack.net
X-WR-CALDESC:Events for เว็บไซต์ศูนย์บริการโลหิตแห่งชาติ
REFRESH-INTERVAL;VALUE=DURATION:PT1H
X-Robots-Tag:noindex
X-PUBLISHED-TTL:PT1H
BEGIN:VTIMEZONE
TZID:Asia/Krasnoyarsk
BEGIN:STANDARD
TZOFFSETFROM:+0700
TZOFFSETTO:+0700
TZNAME:+07
DTSTART:20260101T000000
END:STANDARD
END:VTIMEZONE
BEGIN:VEVENT
DTSTART;TZID=Asia/Krasnoyarsk:20260128T090000
DTEND;TZID=Asia/Krasnoyarsk:20260128T150000
DTSTAMP:20260426T092622
CREATED:20260120T105125Z
LAST-MODIFIED:20260120T105125Z
UID:10005287-1769590800-1769612400@boo.colorpack.net
SUMMARY:บ้านทรงไทย (ย่านวงศ์สว่าง) []
DESCRIPTION:สถานที่เจาะ : (พัก 12.30-13.00 น.) \nที่อยู่ : 1423 ถนนกรุงเทพ – นนทบุรี แขวงวงศ์สว่าง เขตบางซื่อ กรุงเทพฯ 0 2256 4300
URL:https://boo.colorpack.net/event/%e0%b8%9a%e0%b9%89%e0%b8%b2%e0%b8%99%e0%b8%97%e0%b8%a3%e0%b8%87%e0%b9%84%e0%b8%97%e0%b8%a2-%e0%b8%a2%e0%b9%88%e0%b8%b2%e0%b8%99%e0%b8%a7%e0%b8%87%e0%b8%a8%e0%b9%8c%e0%b8%aa%e0%b8%a7%e0%b9%88-331/
LOCATION:บ้านทรงไทย (ย่านวงศ์สว่าง)\, หน่วยรับบริจาคโลหิต บ้านทรงไทย(ย่านวงศ์สว่าง) 1423 ถนนกรุงเทพ-นนทบุรี แขวงวงศ์สว่าง เขตบางซื่อ กรุงเทพมหานคร 10800
CATEGORIES:ปฏิทินตารางหน่วยเคลื่อนที่
END:VEVENT
BEGIN:VEVENT
DTSTART;TZID=Asia/Krasnoyarsk:20260128T090000
DTEND;TZID=Asia/Krasnoyarsk:20260128T120000
DTSTAMP:20260426T092622
CREATED:20260120T105159Z
LAST-MODIFIED:20260120T105159Z
UID:10005295-1769590800-1769601600@boo.colorpack.net
SUMMARY:บริษัท อินเตอร์ไทย ฟาร์ม่าซูติเคิ้ล แมนูเฟคเจอริ่ง จำกัด []
DESCRIPTION:สถานที่เจาะ : ลานจอดรถ \nที่อยู่ : 1899 ถนนพหลโยธิน (ซอย 39) แขวงลาดยาว เขตจตุจักร กรุงเทพฯ 0 2941 2992
URL:https://boo.colorpack.net/event/%e0%b8%9a%e0%b8%a3%e0%b8%b4%e0%b8%a9%e0%b8%b1%e0%b8%97-%e0%b8%ad%e0%b8%b4%e0%b8%99%e0%b9%80%e0%b8%95%e0%b8%ad%e0%b8%a3%e0%b9%8c%e0%b9%84%e0%b8%97%e0%b8%a2-%e0%b8%9f%e0%b8%b2%e0%b8%a3%e0%b9%8c-4/
LOCATION:บริษัท อินเตอร์ไทย ฟาร์ม่าซูติเคิ้ล แมนูเฟคเจอริ่ง จำกัด\, อินเตอร์ไทย ฟาร์มาซูติเคิ้ล แมนูแฟคเจอริ่ง 1899 ถนนพหลโยธิน แขวงลาดยาว เขตจตุจักร กรุงเทพมหานคร 10900
CATEGORIES:ปฏิทินตารางหน่วยเคลื่อนที่
END:VEVENT
BEGIN:VEVENT
DTSTART;TZID=Asia/Krasnoyarsk:20260128T083000
DTEND;TZID=Asia/Krasnoyarsk:20260128T193000
DTSTAMP:20260426T092622
CREATED:20260120T105121Z
LAST-MODIFIED:20260120T105121Z
UID:10005286-1769589000-1769628600@boo.colorpack.net
SUMMARY:สถานีกาชาด 11 วิเศษนิยม []
DESCRIPTION:สถานที่เจาะ : ชั้น 3 \nที่อยู่ : 33/3 ถนนเพชรเกษม แขวงบางหว้า เขตภาษีเจริญ กรุงเทพฯ 0633450711
URL:https://boo.colorpack.net/event/%e0%b8%aa%e0%b8%96%e0%b8%b2%e0%b8%99%e0%b8%b5%e0%b8%81%e0%b8%b2%e0%b8%8a%e0%b8%b2%e0%b8%94-11-%e0%b8%a7%e0%b8%b4%e0%b9%80%e0%b8%a8%e0%b8%a9%e0%b8%99%e0%b8%b4%e0%b8%a2%e0%b8%a1-148/
LOCATION:สถานีกาชาด 11 วิเศษนิยม\, สถานีกาชาด 11 วิเศษนิยม 605 ถ.เพชรเกษม แขวงบางหว้า เขตภาษีเจริญ กรุงเทพมหานคร 10160
CATEGORIES:ปฏิทินตารางหน่วยเคลื่อนที่
END:VEVENT
BEGIN:VEVENT
DTSTART;TZID=Asia/Krasnoyarsk:20260128T073000
DTEND;TZID=Asia/Krasnoyarsk:20260128T193000
DTSTAMP:20260426T092622
CREATED:20260120T105020Z
LAST-MODIFIED:20260120T105020Z
UID:10005280-1769585400-1769628600@boo.colorpack.net
SUMMARY:ศูนย์บริการโลหิตแห่งชาติ สภากาชาดไทย []
DESCRIPTION:ที่อยู่ : 1871 ถ. อังรีดูนังต์ แขวงปทุมวัน เขตปทุมวัน
URL:https://boo.colorpack.net/event/%e0%b8%a8%e0%b8%b9%e0%b8%99%e0%b8%a2%e0%b9%8c%e0%b8%9a%e0%b8%a3%e0%b8%b4%e0%b8%81%e0%b8%b2%e0%b8%a3%e0%b9%82%e0%b8%a5%e0%b8%ab%e0%b8%b4%e0%b8%95%e0%b9%81%e0%b8%ab%e0%b9%88%e0%b8%87%e0%b8%8a-413/
LOCATION:ศูนย์บริการโลหิตแห่งชาติ สภากาชาดไทย\, ศูนย์บริการโลหิตแห่งชาติ สภากาชาดไทย 1871 ถ. อังรีดูนังต์ แขวงปทุมวัน เขตปทุมวัน กรุงเทพมหานคร 10330
CATEGORIES:ปฏิทินตารางหน่วยเคลื่อนที่
END:VEVENT
BEGIN:VEVENT
DTSTART;TZID=Asia/Krasnoyarsk:20260127T120000
DTEND;TZID=Asia/Krasnoyarsk:20260127T180000
DTSTAMP:20260426T092622
CREATED:20260120T104954Z
LAST-MODIFIED:20260120T104954Z
UID:10005277-1769515200-1769536800@boo.colorpack.net
SUMMARY:ศูนย์การค้าเดอะมอลล์ไลฟ์สโตร์ งามวงศ์วาน []
DESCRIPTION:สถานที่เจาะ : ชั้น 5 โซน Government Center \nที่อยู่ : ถนนงามวงศ์วาน ต.บางเขน อ.เมือง จ.นนทบุรี 0 2555 1550
URL:https://boo.colorpack.net/event/%e0%b8%a8%e0%b8%b9%e0%b8%99%e0%b8%a2%e0%b9%8c%e0%b8%81%e0%b8%b2%e0%b8%a3%e0%b8%84%e0%b9%89%e0%b8%b2%e0%b9%80%e0%b8%94%e0%b8%ad%e0%b8%b0%e0%b8%a1%e0%b8%ad%e0%b8%a5%e0%b8%a5%e0%b9%8c%e0%b9%84-1331/
LOCATION:ศูนย์การค้าเดอะมอลล์ไลฟ์สโตร์ งามวงศ์วาน\, เดอะมอลล์ ไลฟ์สโตร์ งามวงศ์วาน 430 ถนน งามวงศ์วาน ตำบลบางเขน อำเภอเมืองนนทบุรี นนทบุรี 11000
CATEGORIES:ปฏิทินตารางหน่วยเคลื่อนที่
END:VEVENT
BEGIN:VEVENT
DTSTART;TZID=Asia/Krasnoyarsk:20260127T120000
DTEND;TZID=Asia/Krasnoyarsk:20260127T180000
DTSTAMP:20260426T092622
CREATED:20260120T104937Z
LAST-MODIFIED:20260120T105008Z
UID:10005274-1769515200-1769536800@boo.colorpack.net
SUMMARY:ศูนย์การค้าเดอะมอลล์ไลฟ์สโตร์ ท่าพระ []
DESCRIPTION:สถานที่เจาะ : ชั้น 1 (ติดลานจอดรถ) \nที่อยู่ : 99 ถนนรัชดาท่าพระตัดใหม่ แขวงบุคคโล เขตธนบุรี กรุงเทพฯ 0 2469-1000
URL:https://boo.colorpack.net/event/%e0%b8%a8%e0%b8%b9%e0%b8%99%e0%b8%a2%e0%b9%8c%e0%b8%81%e0%b8%b2%e0%b8%a3%e0%b8%84%e0%b9%89%e0%b8%b2%e0%b9%80%e0%b8%94%e0%b8%ad%e0%b8%b0%e0%b8%a1%e0%b8%ad%e0%b8%a5%e0%b8%a5%e0%b9%8c%e0%b9%84-1330/
LOCATION:ศูนย์การค้าเดอะมอลล์ไลฟ์สโตร์ ท่าพระ\, เดอะมอลล์ไลฟ์สโตร์ ท่าพระ 129 ถ. รัชดาภิเษก แขวงบุคคโล เขตธนบุรี กรุงเทพมหานคร 10600
CATEGORIES:ปฏิทินตารางหน่วยเคลื่อนที่
END:VEVENT
BEGIN:VEVENT
DTSTART;TZID=Asia/Krasnoyarsk:20260127T120000
DTEND;TZID=Asia/Krasnoyarsk:20260127T180000
DTSTAMP:20260426T092622
CREATED:20260120T104933Z
LAST-MODIFIED:20260120T105006Z
UID:10005273-1769515200-1769536800@boo.colorpack.net
SUMMARY:ศูนย์การค้า เอ็มโพเรียม []
DESCRIPTION:สถานที่เจาะ : ชั้น M ศูนย์การค้า ดิ เอ็มโพเรียม เชื่อมลานจอดรถอาคาร B \nที่อยู่ : 622 ถนนสุขุมวิท แขวงคลองตัน เขตคลองเตย กรุงเทพฯ 0 2269 1515
URL:https://boo.colorpack.net/event/%e0%b8%a8%e0%b8%b9%e0%b8%99%e0%b8%a2%e0%b9%8c%e0%b8%81%e0%b8%b2%e0%b8%a3%e0%b8%84%e0%b9%89%e0%b8%b2-%e0%b9%80%e0%b8%ad%e0%b9%87%e0%b8%a1%e0%b9%82%e0%b8%9e%e0%b9%80%e0%b8%a3%e0%b8%b5%e0%b8%a2-328/
LOCATION:ศูนย์การค้า เอ็มโพเรียม\, เอ็มโพเรียม 622 ถ. สุขุมวิท แขวงคลองตัน เขตคลองเตย กรุงเทพมหานคร 10110
CATEGORIES:ปฏิทินตารางหน่วยเคลื่อนที่
END:VEVENT
BEGIN:VEVENT
DTSTART;TZID=Asia/Krasnoyarsk:20260127T120000
DTEND;TZID=Asia/Krasnoyarsk:20260127T180000
DTSTAMP:20260426T092622
CREATED:20260120T104923Z
LAST-MODIFIED:20260120T104923Z
UID:10005272-1769515200-1769536800@boo.colorpack.net
SUMMARY:ศูนย์การค้าเดอะมอลล์ไลฟ์สโตร์ งามวงศ์วาน []
DESCRIPTION:สถานที่เจาะ : ชั้น 5 โซน Government Center \nที่อยู่ : ถนนงามวงศ์วาน ต.บางเขน อ.เมือง จ.นนทบุรี 0 2555 1550
URL:https://boo.colorpack.net/event/%e0%b8%a8%e0%b8%b9%e0%b8%99%e0%b8%a2%e0%b9%8c%e0%b8%81%e0%b8%b2%e0%b8%a3%e0%b8%84%e0%b9%89%e0%b8%b2%e0%b9%80%e0%b8%94%e0%b8%ad%e0%b8%b0%e0%b8%a1%e0%b8%ad%e0%b8%a5%e0%b8%a5%e0%b9%8c%e0%b9%84-1329/
LOCATION:ศูนย์การค้าเดอะมอลล์ไลฟ์สโตร์ งามวงศ์วาน\, เดอะมอลล์ ไลฟ์สโตร์ งามวงศ์วาน 430 ถนน งามวงศ์วาน ตำบลบางเขน อำเภอเมืองนนทบุรี นนทบุรี 11000
CATEGORIES:ปฏิทินตารางหน่วยเคลื่อนที่
END:VEVENT
BEGIN:VEVENT
DTSTART;TZID=Asia/Krasnoyarsk:20260127T120000
DTEND;TZID=Asia/Krasnoyarsk:20260127T180000
DTSTAMP:20260426T092622
CREATED:20260120T104859Z
LAST-MODIFIED:20260120T104914Z
UID:10005271-1769515200-1769536800@boo.colorpack.net
SUMMARY:ศูนย์การค้าเดอะมอลล์ไลฟ์สโตร์ บางกะปิ []
DESCRIPTION:สถานที่เจาะ : ชั้น 2 ทางออกลานจอดรถ \nที่อยู่ : ถนนลาดพร้าว แขวงคลองจั่น เขตบางกะปิ กรุงเทพฯ 0 2310 2278
URL:https://boo.colorpack.net/event/%e0%b8%a8%e0%b8%b9%e0%b8%99%e0%b8%a2%e0%b9%8c%e0%b8%81%e0%b8%b2%e0%b8%a3%e0%b8%84%e0%b9%89%e0%b8%b2%e0%b9%80%e0%b8%94%e0%b8%ad%e0%b8%b0%e0%b8%a1%e0%b8%ad%e0%b8%a5%e0%b8%a5%e0%b9%8c%e0%b9%84-1328/
LOCATION:ศูนย์การค้าเดอะมอลล์ไลฟ์สโตร์ บางกะปิ\, เดอะมอลล์ไลฟ์สโตร์ บางกะปิ 3522 ถ. ลาดพร้าว แขวงคลองจั่น เขตบางกะปิ กรุงเทพมหานคร 10240
CATEGORIES:ปฏิทินตารางหน่วยเคลื่อนที่
END:VEVENT
BEGIN:VEVENT
DTSTART;TZID=Asia/Krasnoyarsk:20260127T120000
DTEND;TZID=Asia/Krasnoyarsk:20260127T180000
DTSTAMP:20260426T092622
CREATED:20260120T104849Z
LAST-MODIFIED:20260120T104913Z
UID:10005270-1769515200-1769536800@boo.colorpack.net
SUMMARY:ศูนย์การค้าเดอะมอลล์ไลฟ์สโตร์ บางแค []
DESCRIPTION:สถานที่เจาะ : ชั้น 3 ตรงข้ามร้านโอ้กะจู๋ \nที่อยู่ : ถนนเพชรเกษม แขวงบางแคเหนือ เขตภาษีเจริญ กรุงเทพฯ 02 487 1221
URL:https://boo.colorpack.net/event/%e0%b8%a8%e0%b8%b9%e0%b8%99%e0%b8%a2%e0%b9%8c%e0%b8%81%e0%b8%b2%e0%b8%a3%e0%b8%84%e0%b9%89%e0%b8%b2%e0%b9%80%e0%b8%94%e0%b8%ad%e0%b8%b0%e0%b8%a1%e0%b8%ad%e0%b8%a5%e0%b8%a5%e0%b9%8c%e0%b9%84-1327/
LOCATION:ศูนย์การค้าเดอะมอลล์ไลฟ์สโตร์ บางแค\, ศูนย์การค้าเดอะมอลล์ไลฟ์สโตร์ บางแค
CATEGORIES:ปฏิทินตารางหน่วยเคลื่อนที่
END:VEVENT
BEGIN:VEVENT
DTSTART;TZID=Asia/Krasnoyarsk:20260127T120000
DTEND;TZID=Asia/Krasnoyarsk:20260127T160000
DTSTAMP:20260426T092622
CREATED:20260120T105014Z
LAST-MODIFIED:20260120T105014Z
UID:10005278-1769515200-1769529600@boo.colorpack.net
SUMMARY:คณะแพทย์ศาสตร์ จุฬาลงกรณ์มหาวิทยาลัย []
DESCRIPTION:สถานที่เจาะ : ลานอเนกประสงค์ชั้น 1 อาคารอานันทมหิดล \nที่อยู่ : 1873 ถนนพระรามที่ 4 แขวงปทุมวัน เขตปทุมวัน กรุงเทพฯ 0 2256 4183
URL:https://boo.colorpack.net/event/%e0%b8%84%e0%b8%93%e0%b8%b0%e0%b9%81%e0%b8%9e%e0%b8%97%e0%b8%a2%e0%b9%8c%e0%b8%a8%e0%b8%b2%e0%b8%aa%e0%b8%95%e0%b8%a3%e0%b9%8c-%e0%b8%88%e0%b8%b8%e0%b8%ac%e0%b8%b2%e0%b8%a5%e0%b8%87%e0%b8%81-10/
LOCATION:คณะแพทย์ศาสตร์ จุฬาลงกรณ์มหาวิทยาลัย\, คณะแพทย์ศาสตร์ จุฬาลงกรณ์มหาวิทยาลัย 1873 ถ. พระรามที่ 4 แขวงปทุมวัน เขตปทุมวัน กรุงเทพมหานคร 10330
CATEGORIES:ปฏิทินตารางหน่วยเคลื่อนที่
END:VEVENT
BEGIN:VEVENT
DTSTART;TZID=Asia/Krasnoyarsk:20260127T090000
DTEND;TZID=Asia/Krasnoyarsk:20260127T150000
DTSTAMP:20260426T092622
CREATED:20260120T105017Z
LAST-MODIFIED:20260120T105017Z
UID:10005279-1769504400-1769526000@boo.colorpack.net
SUMMARY:มหาวิทยาลัยธรรมศาสตร์ ศูนย์รังสิต []
DESCRIPTION:สถานที่เจาะ : อาคารหอสมุดเก่า (พัก 11.00-12.00 น.) \nที่อยู่ : 99 ม.18 ถ.พหลโยธิน ต.คลองหนึ่ง อ.คลองหลวง ปทุมธานี
URL:https://boo.colorpack.net/event/%e0%b8%a1%e0%b8%ab%e0%b8%b2%e0%b8%a7%e0%b8%b4%e0%b8%97%e0%b8%a2%e0%b8%b2%e0%b8%a5%e0%b8%b1%e0%b8%a2%e0%b8%98%e0%b8%a3%e0%b8%a3%e0%b8%a1%e0%b8%a8%e0%b8%b2%e0%b8%aa%e0%b8%95%e0%b8%a3%e0%b9%8c-%e0%b8%a8/
LOCATION:มหาวิทยาลัยธรรมศาสตร์ ศูนย์รังสิต\, มหาวิทยาลัยธรรมศาสตร์ ศูนย์รังสิต 99 ม.18 ถ.พหลโยธิน ต.คลองหนึ่ง อ.คลองหลวง จ.ปทุมธานี 12120
CATEGORIES:ปฏิทินตารางหน่วยเคลื่อนที่
END:VEVENT
BEGIN:VEVENT
DTSTART;TZID=Asia/Krasnoyarsk:20260127T090000
DTEND;TZID=Asia/Krasnoyarsk:20260127T150000
DTSTAMP:20260426T092622
CREATED:20260120T104950Z
LAST-MODIFIED:20260120T105009Z
UID:10005276-1769504400-1769526000@boo.colorpack.net
SUMMARY:บ้านทรงไทย (ย่านวงศ์สว่าง) []
DESCRIPTION:สถานที่เจาะ : (พัก 12.30-13.00 น.) \nที่อยู่ : 1423 ถนนกรุงเทพ – นนทบุรี แขวงวงศ์สว่าง เขตบางซื่อ กรุงเทพฯ 0 2256 4300
URL:https://boo.colorpack.net/event/%e0%b8%9a%e0%b9%89%e0%b8%b2%e0%b8%99%e0%b8%97%e0%b8%a3%e0%b8%87%e0%b9%84%e0%b8%97%e0%b8%a2-%e0%b8%a2%e0%b9%88%e0%b8%b2%e0%b8%99%e0%b8%a7%e0%b8%87%e0%b8%a8%e0%b9%8c%e0%b8%aa%e0%b8%a7%e0%b9%88-330/
LOCATION:บ้านทรงไทย (ย่านวงศ์สว่าง)\, หน่วยรับบริจาคโลหิต บ้านทรงไทย(ย่านวงศ์สว่าง) 1423 ถนนกรุงเทพ-นนทบุรี แขวงวงศ์สว่าง เขตบางซื่อ กรุงเทพมหานคร 10800
CATEGORIES:ปฏิทินตารางหน่วยเคลื่อนที่
END:VEVENT
BEGIN:VEVENT
DTSTART;TZID=Asia/Krasnoyarsk:20260127T083000
DTEND;TZID=Asia/Krasnoyarsk:20260127T193000
DTSTAMP:20260426T092622
CREATED:20260120T104947Z
LAST-MODIFIED:20260120T105008Z
UID:10005275-1769502600-1769542200@boo.colorpack.net
SUMMARY:สถานีกาชาด 11 วิเศษนิยม []
DESCRIPTION:สถานที่เจาะ : ชั้น 3 \nที่อยู่ : 33/3 ถนนเพชรเกษม แขวงบางหว้า เขตภาษีเจริญ กรุงเทพฯ 0633450711
URL:https://boo.colorpack.net/event/%e0%b8%aa%e0%b8%96%e0%b8%b2%e0%b8%99%e0%b8%b5%e0%b8%81%e0%b8%b2%e0%b8%8a%e0%b8%b2%e0%b8%94-11-%e0%b8%a7%e0%b8%b4%e0%b9%80%e0%b8%a8%e0%b8%a9%e0%b8%99%e0%b8%b4%e0%b8%a2%e0%b8%a1-147/
LOCATION:สถานีกาชาด 11 วิเศษนิยม\, สถานีกาชาด 11 วิเศษนิยม 605 ถ.เพชรเกษม แขวงบางหว้า เขตภาษีเจริญ กรุงเทพมหานคร 10160
CATEGORIES:ปฏิทินตารางหน่วยเคลื่อนที่
END:VEVENT
BEGIN:VEVENT
DTSTART;TZID=Asia/Krasnoyarsk:20260127T073000
DTEND;TZID=Asia/Krasnoyarsk:20260127T193000
DTSTAMP:20260426T092622
CREATED:20260120T104844Z
LAST-MODIFIED:20260120T104912Z
UID:10005269-1769499000-1769542200@boo.colorpack.net
SUMMARY:ศูนย์บริการโลหิตแห่งชาติ สภากาชาดไทย []
DESCRIPTION:ที่อยู่ : 1871 ถ. อังรีดูนังต์ แขวงปทุมวัน เขตปทุมวัน
URL:https://boo.colorpack.net/event/%e0%b8%a8%e0%b8%b9%e0%b8%99%e0%b8%a2%e0%b9%8c%e0%b8%9a%e0%b8%a3%e0%b8%b4%e0%b8%81%e0%b8%b2%e0%b8%a3%e0%b9%82%e0%b8%a5%e0%b8%ab%e0%b8%b4%e0%b8%95%e0%b9%81%e0%b8%ab%e0%b9%88%e0%b8%87%e0%b8%8a-412/
LOCATION:ศูนย์บริการโลหิตแห่งชาติ สภากาชาดไทย\, ศูนย์บริการโลหิตแห่งชาติ สภากาชาดไทย 1871 ถ. อังรีดูนังต์ แขวงปทุมวัน เขตปทุมวัน กรุงเทพมหานคร 10330
CATEGORIES:ปฏิทินตารางหน่วยเคลื่อนที่
END:VEVENT
BEGIN:VEVENT
DTSTART;TZID=Asia/Krasnoyarsk:20260126T120000
DTEND;TZID=Asia/Krasnoyarsk:20260126T180000
DTSTAMP:20260426T092622
CREATED:20260120T104731Z
LAST-MODIFIED:20260120T104731Z
UID:10005255-1769428800-1769450400@boo.colorpack.net
SUMMARY:ศูนย์การค้าเดอะมอลล์ไลฟ์สโตร์ ท่าพระ []
DESCRIPTION:สถานที่เจาะ : ชั้น 1 (ติดลานจอดรถ) \nที่อยู่ : 99 ถนนรัชดาท่าพระตัดใหม่ แขวงบุคคโล เขตธนบุรี กรุงเทพฯ 0 2469-1000
URL:https://boo.colorpack.net/event/%e0%b8%a8%e0%b8%b9%e0%b8%99%e0%b8%a2%e0%b9%8c%e0%b8%81%e0%b8%b2%e0%b8%a3%e0%b8%84%e0%b9%89%e0%b8%b2%e0%b9%80%e0%b8%94%e0%b8%ad%e0%b8%b0%e0%b8%a1%e0%b8%ad%e0%b8%a5%e0%b8%a5%e0%b9%8c%e0%b9%84-1326/
LOCATION:ศูนย์การค้าเดอะมอลล์ไลฟ์สโตร์ ท่าพระ\, เดอะมอลล์ไลฟ์สโตร์ ท่าพระ 129 ถ. รัชดาภิเษก แขวงบุคคโล เขตธนบุรี กรุงเทพมหานคร 10600
CATEGORIES:ปฏิทินตารางหน่วยเคลื่อนที่
END:VEVENT
BEGIN:VEVENT
DTSTART;TZID=Asia/Krasnoyarsk:20260126T120000
DTEND;TZID=Asia/Krasnoyarsk:20260126T180000
DTSTAMP:20260426T092622
CREATED:20260120T104726Z
LAST-MODIFIED:20260120T104726Z
UID:10005254-1769428800-1769450400@boo.colorpack.net
SUMMARY:ศูนย์การค้า เอ็มโพเรียม []
DESCRIPTION:สถานที่เจาะ : ชั้น M ศูนย์การค้า ดิ เอ็มโพเรียม เชื่อมลานจอดรถอาคาร B \nที่อยู่ : 622 ถนนสุขุมวิท แขวงคลองตัน เขตคลองเตย กรุงเทพฯ 0 2269 1515
URL:https://boo.colorpack.net/event/%e0%b8%a8%e0%b8%b9%e0%b8%99%e0%b8%a2%e0%b9%8c%e0%b8%81%e0%b8%b2%e0%b8%a3%e0%b8%84%e0%b9%89%e0%b8%b2-%e0%b9%80%e0%b8%ad%e0%b9%87%e0%b8%a1%e0%b9%82%e0%b8%9e%e0%b9%80%e0%b8%a3%e0%b8%b5%e0%b8%a2-327/
LOCATION:ศูนย์การค้า เอ็มโพเรียม\, เอ็มโพเรียม 622 ถ. สุขุมวิท แขวงคลองตัน เขตคลองเตย กรุงเทพมหานคร 10110
CATEGORIES:ปฏิทินตารางหน่วยเคลื่อนที่
END:VEVENT
BEGIN:VEVENT
DTSTART;TZID=Asia/Krasnoyarsk:20260126T120000
DTEND;TZID=Asia/Krasnoyarsk:20260126T180000
DTSTAMP:20260426T092622
CREATED:20260120T104715Z
LAST-MODIFIED:20260120T104715Z
UID:10005253-1769428800-1769450400@boo.colorpack.net
SUMMARY:ศูนย์การค้าเดอะมอลล์ไลฟ์สโตร์ งามวงศ์วาน []
DESCRIPTION:สถานที่เจาะ : ชั้น 5 โซน Government Center \nที่อยู่ : ถนนงามวงศ์วาน ต.บางเขน อ.เมือง จ.นนทบุรี 0 2555 1550
URL:https://boo.colorpack.net/event/%e0%b8%a8%e0%b8%b9%e0%b8%99%e0%b8%a2%e0%b9%8c%e0%b8%81%e0%b8%b2%e0%b8%a3%e0%b8%84%e0%b9%89%e0%b8%b2%e0%b9%80%e0%b8%94%e0%b8%ad%e0%b8%b0%e0%b8%a1%e0%b8%ad%e0%b8%a5%e0%b8%a5%e0%b9%8c%e0%b9%84-1325/
LOCATION:ศูนย์การค้าเดอะมอลล์ไลฟ์สโตร์ งามวงศ์วาน\, เดอะมอลล์ ไลฟ์สโตร์ งามวงศ์วาน 430 ถนน งามวงศ์วาน ตำบลบางเขน อำเภอเมืองนนทบุรี นนทบุรี 11000
CATEGORIES:ปฏิทินตารางหน่วยเคลื่อนที่
END:VEVENT
BEGIN:VEVENT
DTSTART;TZID=Asia/Krasnoyarsk:20260126T120000
DTEND;TZID=Asia/Krasnoyarsk:20260126T180000
DTSTAMP:20260426T092622
CREATED:20260120T104705Z
LAST-MODIFIED:20260120T104705Z
UID:10005252-1769428800-1769450400@boo.colorpack.net
SUMMARY:ศูนย์การค้าเดอะมอลล์ไลฟ์สโตร์ บางกะปิ []
DESCRIPTION:สถานที่เจาะ : ชั้น 2 ทางออกลานจอดรถ \nที่อยู่ : ถนนลาดพร้าว แขวงคลองจั่น เขตบางกะปิ กรุงเทพฯ 0 2310 2278
URL:https://boo.colorpack.net/event/%e0%b8%a8%e0%b8%b9%e0%b8%99%e0%b8%a2%e0%b9%8c%e0%b8%81%e0%b8%b2%e0%b8%a3%e0%b8%84%e0%b9%89%e0%b8%b2%e0%b9%80%e0%b8%94%e0%b8%ad%e0%b8%b0%e0%b8%a1%e0%b8%ad%e0%b8%a5%e0%b8%a5%e0%b9%8c%e0%b9%84-1324/
LOCATION:ศูนย์การค้าเดอะมอลล์ไลฟ์สโตร์ บางกะปิ\, เดอะมอลล์ไลฟ์สโตร์ บางกะปิ 3522 ถ. ลาดพร้าว แขวงคลองจั่น เขตบางกะปิ กรุงเทพมหานคร 10240
CATEGORIES:ปฏิทินตารางหน่วยเคลื่อนที่
END:VEVENT
BEGIN:VEVENT
DTSTART;TZID=Asia/Krasnoyarsk:20260126T120000
DTEND;TZID=Asia/Krasnoyarsk:20260126T180000
DTSTAMP:20260426T092622
CREATED:20260120T104646Z
LAST-MODIFIED:20260120T104646Z
UID:10005251-1769428800-1769450400@boo.colorpack.net
SUMMARY:ศูนย์การค้าเดอะมอลล์ไลฟ์สโตร์ บางแค []
DESCRIPTION:สถานที่เจาะ : ชั้น 3 ตรงข้ามร้านโอ้กะจู๋ \nที่อยู่ : ถนนเพชรเกษม แขวงบางแคเหนือ เขตภาษีเจริญ กรุงเทพฯ 02 487 1221
URL:https://boo.colorpack.net/event/%e0%b8%a8%e0%b8%b9%e0%b8%99%e0%b8%a2%e0%b9%8c%e0%b8%81%e0%b8%b2%e0%b8%a3%e0%b8%84%e0%b9%89%e0%b8%b2%e0%b9%80%e0%b8%94%e0%b8%ad%e0%b8%b0%e0%b8%a1%e0%b8%ad%e0%b8%a5%e0%b8%a5%e0%b9%8c%e0%b9%84-1323/
LOCATION:ศูนย์การค้าเดอะมอลล์ไลฟ์สโตร์ บางแค\, ศูนย์การค้าเดอะมอลล์ไลฟ์สโตร์ บางแค
CATEGORIES:ปฏิทินตารางหน่วยเคลื่อนที่
END:VEVENT
BEGIN:VEVENT
DTSTART;TZID=Asia/Krasnoyarsk:20260126T110000
DTEND;TZID=Asia/Krasnoyarsk:20260126T150000
DTSTAMP:20260426T092622
CREATED:20260120T104823Z
LAST-MODIFIED:20260120T104823Z
UID:10005262-1769425200-1769439600@boo.colorpack.net
SUMMARY:บริษัท สยาม มัลติ คอน จำกัด []
DESCRIPTION:สถานที่เจาะ : ลานจอดรถหน้าบริษัท \nที่อยู่ : 1319 ถนนพัฒนาการ แขวงประเวศ เขตประเวศ กรุงเทพฯ 0 2029 1555
URL:https://boo.colorpack.net/event/%e0%b8%9a%e0%b8%a3%e0%b8%b4%e0%b8%a9%e0%b8%b1%e0%b8%97-%e0%b8%aa%e0%b8%a2%e0%b8%b2%e0%b8%a1-%e0%b8%a1%e0%b8%b1%e0%b8%a5%e0%b8%95%e0%b8%b4-%e0%b8%84%e0%b8%ad%e0%b8%99-%e0%b8%88%e0%b8%b3%e0%b8%81-3/
LOCATION:บริษัท สยาม มัลติ คอน จำกัด\, บริษัท สยาม มัลติ คอน จำกัด 1319 ถนนพัฒนาการ แขวงประเวศ เขตประเวศ กรุงเทพมหานคร 10250
CATEGORIES:ปฏิทินตารางหน่วยเคลื่อนที่
END:VEVENT
BEGIN:VEVENT
DTSTART;TZID=Asia/Krasnoyarsk:20260126T110000
DTEND;TZID=Asia/Krasnoyarsk:20260126T150000
DTSTAMP:20260426T092622
CREATED:20260120T104801Z
LAST-MODIFIED:20260120T104801Z
UID:10005258-1769425200-1769439600@boo.colorpack.net
SUMMARY:บริษัท พาราไดซ์ พาร์ค จำกัด []
DESCRIPTION:สถานที่เจาะ : โซน Beauty&Health ชั้น 3 \nที่อยู่ : 59/5 ถนนศรีนครินทร์ แขวงหนองบอน เขตประเวศ กรุงเทพฯ 0 2780 1000
URL:https://boo.colorpack.net/event/%e0%b8%9a%e0%b8%a3%e0%b8%b4%e0%b8%a9%e0%b8%b1%e0%b8%97-%e0%b8%9e%e0%b8%b2%e0%b8%a3%e0%b8%b2%e0%b9%84%e0%b8%94%e0%b8%8b%e0%b9%8c-%e0%b8%9e%e0%b8%b2%e0%b8%a3%e0%b9%8c%e0%b8%84-%e0%b8%88%e0%b8%b3-11/
LOCATION:บริษัท พาราไดซ์ พาร์ค จำกัด\, บริษัท พาราไดซ์ พาร์ค จำกัด 61 ศรีนครินทร์ ซอย ศรีนครินทร์ 61 แขวงหนองบอน เขตประเวศ กรุงเทพมหานคร 10250
CATEGORIES:ปฏิทินตารางหน่วยเคลื่อนที่
END:VEVENT
BEGIN:VEVENT
DTSTART;TZID=Asia/Krasnoyarsk:20260126T090000
DTEND;TZID=Asia/Krasnoyarsk:20260126T150000
DTSTAMP:20260426T092622
CREATED:20260120T104842Z
LAST-MODIFIED:20260120T104911Z
UID:10005268-1769418000-1769439600@boo.colorpack.net
SUMMARY:กองสถานพักผ่อน กรมพลาธิการทหารบก []
DESCRIPTION:สถานที่เจาะ : ห้องบางปู 3 (พัก 12.00-13.00 น.) \nที่อยู่ : 164 ม. 2 ถ.สุขุมวิท ต.บางปูใหม่ อ.เมือง จ.สมุทรปราการ 0 2323 1213
URL:https://boo.colorpack.net/event/%e0%b8%81%e0%b8%ad%e0%b8%87%e0%b8%aa%e0%b8%96%e0%b8%b2%e0%b8%99%e0%b8%9e%e0%b8%b1%e0%b8%81%e0%b8%9c%e0%b9%88%e0%b8%ad%e0%b8%99-%e0%b8%81%e0%b8%a3%e0%b8%a1%e0%b8%9e%e0%b8%a5%e0%b8%b2%e0%b8%98-3/
LOCATION:กองสถานพักผ่อน กรมพลาธิการทหารบก\, กองสถานพักผ่อน กรมพลาธิการทหารบก 164 ม.2 ถ.สุขุมวิทต.บางปูใหม่ อ.เมือง จ.สมุทรปราการ 10280
CATEGORIES:ปฏิทินตารางหน่วยเคลื่อนที่
END:VEVENT
BEGIN:VEVENT
DTSTART;TZID=Asia/Krasnoyarsk:20260126T090000
DTEND;TZID=Asia/Krasnoyarsk:20260126T150000
DTSTAMP:20260426T092622
CREATED:20260120T104839Z
LAST-MODIFIED:20260120T104909Z
UID:10005267-1769418000-1769439600@boo.colorpack.net
SUMMARY:อาคารโอเนส ทาวเวอร์ []
DESCRIPTION:สถานที่เจาะ : ห้องประชุม A 1-3 ชั้น 6 (พัก 11.00-12.00 น.) \nที่อยู่ : 6 สุขุมวิท 6 แขวงคลองเตย เขตคลองเตย กรุงเทพฯ
URL:https://boo.colorpack.net/event/%e0%b8%ad%e0%b8%b2%e0%b8%84%e0%b8%b2%e0%b8%a3%e0%b9%82%e0%b8%ad%e0%b9%80%e0%b8%99%e0%b8%aa-%e0%b8%97%e0%b8%b2%e0%b8%a7%e0%b9%80%e0%b8%a7%e0%b8%ad%e0%b8%a3%e0%b9%8c-2/
LOCATION:อาคารโอเนส ทาวเวอร์\, อาคารโอเนส ทาวเวอร์ 6 ซ.สุขุมวิท 6 แขวงคลองเตย เขตคลองเตย กรุงเทพมหานคร 10110
CATEGORIES:ปฏิทินตารางหน่วยเคลื่อนที่
END:VEVENT
BEGIN:VEVENT
DTSTART;TZID=Asia/Krasnoyarsk:20260126T090000
DTEND;TZID=Asia/Krasnoyarsk:20260126T150000
DTSTAMP:20260426T092622
CREATED:20260120T104834Z
LAST-MODIFIED:20260120T104834Z
UID:10005266-1769418000-1769439600@boo.colorpack.net
SUMMARY:ธนาคารอิสลามแห่งประเทศไทย []
DESCRIPTION:สถานที่เจาะ : ด้านทางเข้าอาคารนวม (พัก 12.00-13.00 น.) \nที่อยู่ : 66 อาคารนวม ชั้น 21 ถนนสุขุมวิท 21 แขวงคลองเตยเหนือ เขตวัฒนา กรุงเทพฯ 0 2650 6999
URL:https://boo.colorpack.net/event/%e0%b8%98%e0%b8%99%e0%b8%b2%e0%b8%84%e0%b8%b2%e0%b8%a3%e0%b8%ad%e0%b8%b4%e0%b8%aa%e0%b8%a5%e0%b8%b2%e0%b8%a1%e0%b9%81%e0%b8%ab%e0%b9%88%e0%b8%87%e0%b8%9b%e0%b8%a3%e0%b8%b0%e0%b9%80%e0%b8%97%e0%b8%a8-3/
LOCATION:ธนาคารอิสลามแห่งประเทศไทย\, อาคารคิวเฮ้าส์ 66 ชั้น M\,21\,22 อาคารคิวเฮ้าส์ ถนนสุขุมวิท 21 แขวงคลองเตยเหนือ เขตวัฒนา กรุงเทพมหานคร 10110
CATEGORIES:ปฏิทินตารางหน่วยเคลื่อนที่
END:VEVENT
BEGIN:VEVENT
DTSTART;TZID=Asia/Krasnoyarsk:20260126T090000
DTEND;TZID=Asia/Krasnoyarsk:20260126T150000
DTSTAMP:20260426T092622
CREATED:20260120T104831Z
LAST-MODIFIED:20260120T104831Z
UID:10005265-1769418000-1769439600@boo.colorpack.net
SUMMARY:บริษัท ไทยแอร์เอเชีย จำกัด []
DESCRIPTION:สถานที่เจาะ : โถงชั้น 3 เอเชีย เอวิเอชั่น อะคาเดมี่ (พัก 12.00-13.00 น.) \nที่อยู่ : ตรงข้ามวิภาวดีรังสิต 35 แขวงสนามบิน เขตดอนเมือง กรุงเทพฯ
URL:https://boo.colorpack.net/event/%e0%b8%9a%e0%b8%a3%e0%b8%b4%e0%b8%a9%e0%b8%b1%e0%b8%97-%e0%b9%84%e0%b8%97%e0%b8%a2%e0%b9%81%e0%b8%ad%e0%b8%a3%e0%b9%8c%e0%b9%80%e0%b8%ad%e0%b9%80%e0%b8%8a%e0%b8%b5%e0%b8%a2-%e0%b8%88%e0%b8%b3-4/
LOCATION:บริษัท ไทยแอร์เอเชีย จำกัด\, บริษัท ไทยแอร์เอเชีย จำกัด 222 ท่าอากาศยานดอนเมือง อาคารส่วนกลางชั้น 3 ห้องหมายเลข 3200 ถนนวิภาวดีรังสิต แขวงสนามบิน เขตดอนเมือง กรุงเทพฯ 10210
CATEGORIES:ปฏิทินตารางหน่วยเคลื่อนที่
END:VEVENT
BEGIN:VEVENT
DTSTART;TZID=Asia/Krasnoyarsk:20260126T090000
DTEND;TZID=Asia/Krasnoyarsk:20260126T150000
DTSTAMP:20260426T092622
CREATED:20260120T104828Z
LAST-MODIFIED:20260120T104828Z
UID:10005264-1769418000-1769439600@boo.colorpack.net
SUMMARY:มหาวิทยาลัยเกษตรศาสตร์ []
DESCRIPTION:สถานที่เจาะ : ชั้น 1 อาคารระพี สาคริก (ตรงข้าม ศร. 1) \nที่อยู่ : 50 ถนนงามวงศ์วาน แขวงลาดยาว เขตจตุจักร กรุงเทพฯ 0 2118 0150
URL:https://boo.colorpack.net/event/%e0%b8%a1%e0%b8%ab%e0%b8%b2%e0%b8%a7%e0%b8%b4%e0%b8%97%e0%b8%a2%e0%b8%b2%e0%b8%a5%e0%b8%b1%e0%b8%a2%e0%b9%80%e0%b8%81%e0%b8%a9%e0%b8%95%e0%b8%a3%e0%b8%a8%e0%b8%b2%e0%b8%aa%e0%b8%95%e0%b8%a3%e0%b9%8c-6/
LOCATION:มหาวิทยาลัยเกษตรศาสตร์\, มหาวิทยาลัยเกษตรศาสตร์ 50 ถนนงามวงศ์วาน แขวงลาดยาว เขตจตุจักร กรุงเทพมหานคร 10900
CATEGORIES:ปฏิทินตารางหน่วยเคลื่อนที่
END:VEVENT
BEGIN:VEVENT
DTSTART;TZID=Asia/Krasnoyarsk:20260126T090000
DTEND;TZID=Asia/Krasnoyarsk:20260126T150000
DTSTAMP:20260426T092622
CREATED:20260120T104826Z
LAST-MODIFIED:20260120T104826Z
UID:10005263-1769418000-1769439600@boo.colorpack.net
SUMMARY:โรงเรียนรัตนโกสินทร์สมโภชลาดกระบัง []
DESCRIPTION:สถานที่เจาะ : หอประชุม (พัก 12.00-13.00 น.) \nที่อยู่ : 121 ถนนร่มเกล้าแยก 31 แขวงคลองสองต้นนุ่น เขตลาดกระบัง กรุงเทพฯ 0 2543 9044
URL:https://boo.colorpack.net/event/%e0%b9%82%e0%b8%a3%e0%b8%87%e0%b9%80%e0%b8%a3%e0%b8%b5%e0%b8%a2%e0%b8%99%e0%b8%a3%e0%b8%b1%e0%b8%95%e0%b8%99%e0%b9%82%e0%b8%81%e0%b8%aa%e0%b8%b4%e0%b8%99%e0%b8%97%e0%b8%a3%e0%b9%8c%e0%b8%aa%e0%b8%a1/
LOCATION:โรงเรียนรัตนโกสินทร์สมโภชลาดกระบัง\, โรงเรียนรัตนโกสินทร์สมโภชลาดกระบัง 121 ถนนเคหะร่มเกล้า แขวงคลองสองต้นนุ่น เขตลาดกระบัง กรุงเทพมหานคร 10520
CATEGORIES:ปฏิทินตารางหน่วยเคลื่อนที่
END:VEVENT
BEGIN:VEVENT
DTSTART;TZID=Asia/Krasnoyarsk:20260126T090000
DTEND;TZID=Asia/Krasnoyarsk:20260126T150000
DTSTAMP:20260426T092622
CREATED:20260120T104811Z
LAST-MODIFIED:20260120T104811Z
UID:10005261-1769418000-1769439600@boo.colorpack.net
SUMMARY:บริษัท สมบูรณ์แอ๊ดวานซ์เทคโนโลยี จำกัด (มหาชน) []
DESCRIPTION:สถานที่เจาะ : หน้าโรงอาหาร (พัก 12.00-13.00 น.) \nที่อยู่ : 215 ม. 2 ถ.เทพรัตน ต.บางโฉลง อ.บางพลี จ.สมุทรปราการ 0 2080 8213
URL:https://boo.colorpack.net/event/%e0%b8%9a%e0%b8%a3%e0%b8%b4%e0%b8%a9%e0%b8%b1%e0%b8%97-%e0%b8%aa%e0%b8%a1%e0%b8%9a%e0%b8%b9%e0%b8%a3%e0%b8%93%e0%b9%8c%e0%b9%81%e0%b8%ad%e0%b9%8a%e0%b8%94%e0%b8%a7%e0%b8%b2%e0%b8%99%e0%b8%8b-3/
LOCATION:บริษัท สมบูรณ์แอ๊ดวานซ์เทคโนโลยี จำกัด (มหาชน)\, บริษัท สมบูรณ์ แอ๊ดวานซ์ เทคโนโลยี จำกัด (มหาชน) 215 ม.2 ถ.เทพรัตน ต.บางโฉลง อ.บางพลี จ.สมุทรปราการ 10540
CATEGORIES:ปฏิทินตารางหน่วยเคลื่อนที่
END:VEVENT
BEGIN:VEVENT
DTSTART;TZID=Asia/Krasnoyarsk:20260126T090000
DTEND;TZID=Asia/Krasnoyarsk:20260126T150000
DTSTAMP:20260426T092622
CREATED:20260120T104807Z
LAST-MODIFIED:20260120T104807Z
UID:10005260-1769418000-1769439600@boo.colorpack.net
SUMMARY:นิติบุคคลอาคารชุด RS ทาวเวอร์ []
DESCRIPTION:สถานที่เจาะ : หน้าอาคาร (พัก 11.00-12.00 น.) \nที่อยู่ : 121 ถนนรัชดาภิเษก แขวงดินแดง เขตดินแดง กรุงเทพฯ 0 2641 2174-5
URL:https://boo.colorpack.net/event/%e0%b8%99%e0%b8%b4%e0%b8%95%e0%b8%b4%e0%b8%9a%e0%b8%b8%e0%b8%84%e0%b8%84%e0%b8%a5%e0%b8%ad%e0%b8%b2%e0%b8%84%e0%b8%b2%e0%b8%a3%e0%b8%8a%e0%b8%b8%e0%b8%94-rs-%e0%b8%97%e0%b8%b2%e0%b8%a7%e0%b9%80-3/
LOCATION:นิติบุคคลอาคารชุด RS ทาวเวอร์\, RS Tower 121 ถนนรัชดาภิเษก แขวงดินแดง เขตดินแดง กรุงเทพมหานคร 10400
CATEGORIES:ปฏิทินตารางหน่วยเคลื่อนที่
END:VEVENT
END:VCALENDAR