BEGIN:VCALENDAR
VERSION:2.0
PRODID:-//เว็บไซต์ศูนย์บริการโลหิตแห่งชาติ - ECPv6.11.2.1//NONSGML v1.0//EN
CALSCALE:GREGORIAN
METHOD:PUBLISH
X-ORIGINAL-URL:https://boo.colorpack.net
X-WR-CALDESC:Events for เว็บไซต์ศูนย์บริการโลหิตแห่งชาติ
REFRESH-INTERVAL;VALUE=DURATION:PT1H
X-Robots-Tag:noindex
X-PUBLISHED-TTL:PT1H
BEGIN:VTIMEZONE
TZID:Asia/Krasnoyarsk
BEGIN:STANDARD
TZOFFSETFROM:+0700
TZOFFSETTO:+0700
TZNAME:+07
DTSTART:20260101T000000
END:STANDARD
END:VTIMEZONE
BEGIN:VEVENT
DTSTART;TZID=Asia/Krasnoyarsk:20260130T110000
DTEND;TZID=Asia/Krasnoyarsk:20260130T150000
DTSTAMP:20260426T042305
CREATED:20260127T115249Z
LAST-MODIFIED:20260127T115249Z
UID:10005317-1769770800-1769785200@boo.colorpack.net
SUMMARY:ศูนย์การค้าทรี ออน ธรี พระราม 3 []
DESCRIPTION:สถานที่เจาะ : ชั้น 1 \nที่อยู่ : 295 ถนนพระราม 3 แขวงบางคอแหลม เขตบางคอแหลม กรุงเทพฯ 0 2689 0917-9
URL:https://boo.colorpack.net/event/%e0%b8%a8%e0%b8%b9%e0%b8%99%e0%b8%a2%e0%b9%8c%e0%b8%81%e0%b8%b2%e0%b8%a3%e0%b8%84%e0%b9%89%e0%b8%b2%e0%b8%97%e0%b8%a3%e0%b8%b5-%e0%b8%ad%e0%b8%ad%e0%b8%99-%e0%b8%98%e0%b8%a3%e0%b8%b5-%e0%b8%9e-10/
LOCATION:ศูนย์การค้าทรี ออน ธรี พระราม 3\, ทรี ออน ธรี 295 ถนนพระรามที่ 3 แขวงบางคอแหลม เขตบางคอแหลม กรุงเทพมหานคร 10120
CATEGORIES:ปฏิทินตารางหน่วยเคลื่อนที่
END:VEVENT
BEGIN:VEVENT
DTSTART;TZID=Asia/Krasnoyarsk:20260130T090000
DTEND;TZID=Asia/Krasnoyarsk:20260130T150000
DTSTAMP:20260426T042305
CREATED:20260127T115501Z
LAST-MODIFIED:20260127T115501Z
UID:10005326-1769763600-1769785200@boo.colorpack.net
SUMMARY:บริษัท ทเวนตี้โฟร์ ช้อปปิ้ง จำกัด []
DESCRIPTION:สถานที่เจาะ : ภายในพื้นที่คลังสินค้า 24 Shopping (พัก 11.00-12.00 น.) \nที่อยู่ : 9/19 ม.5 ถ.ตลิ่งชัน-สุพรรณบุรี ต.ละหาร อ.บางบัวทอง จ.นนทบุรี 0 2925 6613
URL:https://boo.colorpack.net/event/%e0%b8%9a%e0%b8%a3%e0%b8%b4%e0%b8%a9%e0%b8%b1%e0%b8%97-%e0%b8%97%e0%b9%80%e0%b8%a7%e0%b8%99%e0%b8%95%e0%b8%b5%e0%b9%89%e0%b9%82%e0%b8%9f%e0%b8%a3%e0%b9%8c-%e0%b8%8a%e0%b9%89%e0%b8%ad%e0%b8%9b-3/
LOCATION:บริษัท ทเวนตี้โฟร์ ช้อปปิ้ง จำกัด\, คลังสินค้า ทเวนตี้โฟร์ช้อปปิ้ง 9/19 ม.5 ถ.ตลิ่งชัน-สุพรรณบุรี ต.ละหาร อ.บางบัวทอง จ.นนทบุรี 11110
CATEGORIES:ปฏิทินตารางหน่วยเคลื่อนที่
END:VEVENT
BEGIN:VEVENT
DTSTART;TZID=Asia/Krasnoyarsk:20260130T090000
DTEND;TZID=Asia/Krasnoyarsk:20260130T150000
DTSTAMP:20260426T042305
CREATED:20260127T115459Z
LAST-MODIFIED:20260127T115459Z
UID:10005325-1769763600-1769785200@boo.colorpack.net
SUMMARY:มหาวิทยาลัยเทคโนโลยีพระจอมเกล้าธนบุรี []
DESCRIPTION:สถานที่เจาะ : โรงยิม \nที่อยู่ : กลุ่มงานช่วยเหลือทางการเงินแก่นักศึกษา 126 ถนนประชาอุทิศ แขวงบางมด เขตทุ่งครุ กรุงเทพฯ 0 2470 8098
URL:https://boo.colorpack.net/event/%e0%b8%a1%e0%b8%ab%e0%b8%b2%e0%b8%a7%e0%b8%b4%e0%b8%97%e0%b8%a2%e0%b8%b2%e0%b8%a5%e0%b8%b1%e0%b8%a2%e0%b9%80%e0%b8%97%e0%b8%84%e0%b9%82%e0%b8%99%e0%b9%82%e0%b8%a5%e0%b8%a2%e0%b8%b5%e0%b8%9e%e0%b8%a3-3/
LOCATION:มหาวิทยาลัยเทคโนโลยีพระจอมเกล้าธนบุรี\, มหาวิทยาลัยเทคโนโลยีพระจอมเกล้าธนบุรี 126 ถ.ประชาอุทิศ แขวงบางมด เขตทุ่งครุ กรุงเทพมหานคร 10140
CATEGORIES:ปฏิทินตารางหน่วยเคลื่อนที่
END:VEVENT
BEGIN:VEVENT
DTSTART;TZID=Asia/Krasnoyarsk:20260130T090000
DTEND;TZID=Asia/Krasnoyarsk:20260130T150000
DTSTAMP:20260426T042305
CREATED:20260127T115450Z
LAST-MODIFIED:20260127T115450Z
UID:10005322-1769763600-1769785200@boo.colorpack.net
SUMMARY:โรงพยาบาลบางปะกอก 8 []
DESCRIPTION:สถานที่เจาะ : หน้าอาคาร 2 (พัก 11.00-12.00 น.) \nที่อยู่ : 1055 ถนนเอกชัยบางบอน แขวงคลองบางบอน เขตบางบอน กรุงเทพฯ
URL:https://boo.colorpack.net/event/%e0%b9%82%e0%b8%a3%e0%b8%87%e0%b8%9e%e0%b8%a2%e0%b8%b2%e0%b8%9a%e0%b8%b2%e0%b8%a5%e0%b8%9a%e0%b8%b2%e0%b8%87%e0%b8%9b%e0%b8%b0%e0%b8%81%e0%b8%ad%e0%b8%81-8-3/
LOCATION:โรงพยาบาลบางปะกอก 8\, โรงพยาบาลบางปะกอก 8 1055 ถนนเอกชัย แขวงคลองบางบอน เขตบางบอน กรุงเทพมหานคร 10150
CATEGORIES:ปฏิทินตารางหน่วยเคลื่อนที่
END:VEVENT
BEGIN:VEVENT
DTSTART;TZID=Asia/Krasnoyarsk:20260130T090000
DTEND;TZID=Asia/Krasnoyarsk:20260130T150000
DTSTAMP:20260426T042305
CREATED:20260127T115255Z
LAST-MODIFIED:20260127T115255Z
UID:10005319-1769763600-1769785200@boo.colorpack.net
SUMMARY:โรงพยาบาลสำโรงการแพทย์ []
DESCRIPTION:สถานที่เจาะ : ด้านหน้าโรงพยาบาล (พัก 11.00-12.00 น.) \nที่อยู่ : 1748 สุขุมวิท 78 ต.สำโรงเหนือ อ.เมือง จ.สมุทรปราการ 0 2361 1111
URL:https://boo.colorpack.net/event/%e0%b9%82%e0%b8%a3%e0%b8%87%e0%b8%9e%e0%b8%a2%e0%b8%b2%e0%b8%9a%e0%b8%b2%e0%b8%a5%e0%b8%aa%e0%b8%b3%e0%b9%82%e0%b8%a3%e0%b8%87%e0%b8%81%e0%b8%b2%e0%b8%a3%e0%b9%81%e0%b8%9e%e0%b8%97%e0%b8%a2%e0%b9%8c-4/
LOCATION:โรงพยาบาลสำโรงการแพทย์
CATEGORIES:ปฏิทินตารางหน่วยเคลื่อนที่
END:VEVENT
BEGIN:VEVENT
DTSTART;TZID=Asia/Krasnoyarsk:20260130T090000
DTEND;TZID=Asia/Krasnoyarsk:20260130T150000
DTSTAMP:20260426T042305
CREATED:20260127T115252Z
LAST-MODIFIED:20260127T115252Z
UID:10005318-1769763600-1769785200@boo.colorpack.net
SUMMARY:โรงเรียนสตรีศรีสุริโยทัย []
DESCRIPTION:สถานที่เจาะ : ชั้น 1 อาคารเฉลิมพระเกียรติ (พัก 12.00-13.00 น.) \nที่อยู่ : 1 เจริญกรุง 57 แขวงยานนาวา เขตสาทร กรุงเทพฯ 0 2211 9850
URL:https://boo.colorpack.net/event/%e0%b9%82%e0%b8%a3%e0%b8%87%e0%b9%80%e0%b8%a3%e0%b8%b5%e0%b8%a2%e0%b8%99%e0%b8%aa%e0%b8%95%e0%b8%a3%e0%b8%b5%e0%b8%a8%e0%b8%a3%e0%b8%b5%e0%b8%aa%e0%b8%b8%e0%b8%a3%e0%b8%b4%e0%b9%82%e0%b8%a2%e0%b8%97/
LOCATION:โรงเรียนสตรีศรีสุริโยทัย\, โรงเรียนสตรีศรีสุริโยทัย 1 เจริญกรุง 57 แขวงยานนาวา เขตสาทร กรุงเทพมหานคร 10120
CATEGORIES:ปฏิทินตารางหน่วยเคลื่อนที่
END:VEVENT
BEGIN:VEVENT
DTSTART;TZID=Asia/Krasnoyarsk:20260130T090000
DTEND;TZID=Asia/Krasnoyarsk:20260130T150000
DTSTAMP:20260426T042305
CREATED:20260127T115104Z
LAST-MODIFIED:20260127T115104Z
UID:10005316-1769763600-1769785200@boo.colorpack.net
SUMMARY:บ้านทรงไทย (ย่านวงศ์สว่าง) []
DESCRIPTION:สถานที่เจาะ : (พัก 12.30-13.00 น.) \nที่อยู่ : 1423 ถนนกรุงเทพ – นนทบุรี แขวงวงศ์สว่าง เขตบางซื่อ กรุงเทพฯ 0 2256 4300
URL:https://boo.colorpack.net/event/%e0%b8%9a%e0%b9%89%e0%b8%b2%e0%b8%99%e0%b8%97%e0%b8%a3%e0%b8%87%e0%b9%84%e0%b8%97%e0%b8%a2-%e0%b8%a2%e0%b9%88%e0%b8%b2%e0%b8%99%e0%b8%a7%e0%b8%87%e0%b8%a8%e0%b9%8c%e0%b8%aa%e0%b8%a7%e0%b9%88-333/
LOCATION:บ้านทรงไทย (ย่านวงศ์สว่าง)\, หน่วยรับบริจาคโลหิต บ้านทรงไทย(ย่านวงศ์สว่าง) 1423 ถนนกรุงเทพ-นนทบุรี แขวงวงศ์สว่าง เขตบางซื่อ กรุงเทพมหานคร 10800
CATEGORIES:ปฏิทินตารางหน่วยเคลื่อนที่
END:VEVENT
BEGIN:VEVENT
DTSTART;TZID=Asia/Krasnoyarsk:20260130T090000
DTEND;TZID=Asia/Krasnoyarsk:20260130T120000
DTSTAMP:20260426T042305
CREATED:20260127T115257Z
LAST-MODIFIED:20260127T115257Z
UID:10005320-1769763600-1769774400@boo.colorpack.net
SUMMARY:องค์การพิพิธภัณฑ์วิทยาศาสตร์แห่งชาติ []
DESCRIPTION:สถานที่เจาะ : หน้าพิพิธภัณฑ์วิทยาศาสตร์แห่งชาติ พระราม 9 \nที่อยู่ : เทคโนธานี ต.คลองห้า อ.คลองหลวง ปทุมธานี 0 2577 9999
URL:https://boo.colorpack.net/event/%e0%b8%ad%e0%b8%87%e0%b8%84%e0%b9%8c%e0%b8%81%e0%b8%b2%e0%b8%a3%e0%b8%9e%e0%b8%b4%e0%b8%9e%e0%b8%b4%e0%b8%98%e0%b8%a0%e0%b8%b1%e0%b8%93%e0%b8%91%e0%b9%8c%e0%b8%a7%e0%b8%b4%e0%b8%97%e0%b8%a2%e0%b8%b2-4/
LOCATION:องค์การพิพิธภัณฑ์วิทยาศาสตร์แห่งชาติ\, องค์การพิพิธภัณฑ์วิทยาศาสตร์แห่งชาติ 39 ม.3 ถ.เลียบคลองห้า ต.คลองห้า อ.คลองหลวง จ.ปทุมธานี 12120
CATEGORIES:ปฏิทินตารางหน่วยเคลื่อนที่
END:VEVENT
BEGIN:VEVENT
DTSTART;TZID=Asia/Krasnoyarsk:20260130T090000
DTEND;TZID=Asia/Krasnoyarsk:20260130T113000
DTSTAMP:20260426T042305
CREATED:20260127T115454Z
LAST-MODIFIED:20260127T115454Z
UID:10005323-1769763600-1769772600@boo.colorpack.net
SUMMARY:ทีวายเค กลาส []
DESCRIPTION:สถานที่เจาะ : บริเวณศาลา \nที่อยู่ : 35/6 ม.6 ถ.ตลิ่งชัน-สุพรรณบุรี ต.เสาธงหิน อ.บางใหญ่ จ.นนทบุรี 0 2960 2682-4
URL:https://boo.colorpack.net/event/%e0%b8%97%e0%b8%b5%e0%b8%a7%e0%b8%b2%e0%b8%a2%e0%b9%80%e0%b8%84-%e0%b8%81%e0%b8%a5%e0%b8%b2%e0%b8%aa/
LOCATION:ทีวายเค กลาส
CATEGORIES:ปฏิทินตารางหน่วยเคลื่อนที่
END:VEVENT
BEGIN:VEVENT
DTSTART;TZID=Asia/Krasnoyarsk:20260130T083000
DTEND;TZID=Asia/Krasnoyarsk:20260130T193000
DTSTAMP:20260426T042305
CREATED:20260127T115059Z
LAST-MODIFIED:20260127T115059Z
UID:10005315-1769761800-1769801400@boo.colorpack.net
SUMMARY:สถานีกาชาด 11 วิเศษนิยม []
DESCRIPTION:สถานที่เจาะ : ชั้น 3 \nที่อยู่ : 33/3 ถนนเพชรเกษม แขวงบางหว้า เขตภาษีเจริญ กรุงเทพฯ 633450711
URL:https://boo.colorpack.net/event/%e0%b8%aa%e0%b8%96%e0%b8%b2%e0%b8%99%e0%b8%b5%e0%b8%81%e0%b8%b2%e0%b8%8a%e0%b8%b2%e0%b8%94-11-%e0%b8%a7%e0%b8%b4%e0%b9%80%e0%b8%a8%e0%b8%a9%e0%b8%99%e0%b8%b4%e0%b8%a2%e0%b8%a1-150/
LOCATION:สถานีกาชาด 11 วิเศษนิยม\, สถานีกาชาด 11 วิเศษนิยม 605 ถ.เพชรเกษม แขวงบางหว้า เขตภาษีเจริญ กรุงเทพมหานคร 10160
CATEGORIES:ปฏิทินตารางหน่วยเคลื่อนที่
END:VEVENT
BEGIN:VEVENT
DTSTART;TZID=Asia/Krasnoyarsk:20260130T073000
DTEND;TZID=Asia/Krasnoyarsk:20260130T193000
DTSTAMP:20260426T042305
CREATED:20260127T114843Z
LAST-MODIFIED:20260127T114843Z
UID:10005309-1769758200-1769801400@boo.colorpack.net
SUMMARY:ศูนย์บริการโลหิตแห่งชาติ สภากาชาดไทย []
DESCRIPTION:ที่อยู่ : 1871 ถ. อังรีดูนังต์ แขวงปทุมวัน เขตปทุมวัน
URL:https://boo.colorpack.net/event/%e0%b8%a8%e0%b8%b9%e0%b8%99%e0%b8%a2%e0%b9%8c%e0%b8%9a%e0%b8%a3%e0%b8%b4%e0%b8%81%e0%b8%b2%e0%b8%a3%e0%b9%82%e0%b8%a5%e0%b8%ab%e0%b8%b4%e0%b8%95%e0%b9%81%e0%b8%ab%e0%b9%88%e0%b8%87%e0%b8%8a-415/
LOCATION:ศูนย์บริการโลหิตแห่งชาติ สภากาชาดไทย\, ศูนย์บริการโลหิตแห่งชาติ สภากาชาดไทย 1871 ถ. อังรีดูนังต์ แขวงปทุมวัน เขตปทุมวัน กรุงเทพมหานคร 10330
CATEGORIES:ปฏิทินตารางหน่วยเคลื่อนที่
END:VEVENT
BEGIN:VEVENT
DTSTART;TZID=Asia/Krasnoyarsk:20260129T120000
DTEND;TZID=Asia/Krasnoyarsk:20260129T180000
DTSTAMP:20260426T042305
CREATED:20260127T114431Z
LAST-MODIFIED:20260127T114431Z
UID:10005297-1769688000-1769709600@boo.colorpack.net
SUMMARY:ศูนย์การค้าเดอะมอลล์ไลฟ์สโตร์ ท่าพระ []
DESCRIPTION:สถานที่เจาะ : ชั้น 1 (ติดลานจอดรถ) \nที่อยู่ : 99 ถนนรัชดาท่าพระตัดใหม่ แขวงบุคคโล เขตธนบุรี กรุงเทพฯ 0 2469-1000
URL:https://boo.colorpack.net/event/%e0%b8%a8%e0%b8%b9%e0%b8%99%e0%b8%a2%e0%b9%8c%e0%b8%81%e0%b8%b2%e0%b8%a3%e0%b8%84%e0%b9%89%e0%b8%b2%e0%b9%80%e0%b8%94%e0%b8%ad%e0%b8%b0%e0%b8%a1%e0%b8%ad%e0%b8%a5%e0%b8%a5%e0%b9%8c%e0%b9%84-1339/
LOCATION:ศูนย์การค้าเดอะมอลล์ไลฟ์สโตร์ ท่าพระ\, เดอะมอลล์ไลฟ์สโตร์ ท่าพระ 129 ถ. รัชดาภิเษก แขวงบุคคโล เขตธนบุรี กรุงเทพมหานคร 10600
CATEGORIES:ปฏิทินตารางหน่วยเคลื่อนที่
END:VEVENT
BEGIN:VEVENT
DTSTART;TZID=Asia/Krasnoyarsk:20260129T120000
DTEND;TZID=Asia/Krasnoyarsk:20260129T160000
DTSTAMP:20260426T042305
CREATED:20260127T114642Z
LAST-MODIFIED:20260127T114642Z
UID:10005306-1769688000-1769702400@boo.colorpack.net
SUMMARY:คณะแพทย์ศาสตร์ จุฬาลงกรณ์มหาวิทยาลัย []
DESCRIPTION:สถานที่เจาะ : ลานอเนกประสงค์ชั้น 1 อาคารอานันทมหิดล \nที่อยู่ : 1873 ถนนพระรามที่ 4 แขวงปทุมวัน เขตปทุมวัน กรุงเทพฯ 0 2256 4183
URL:https://boo.colorpack.net/event/%e0%b8%84%e0%b8%93%e0%b8%b0%e0%b9%81%e0%b8%9e%e0%b8%97%e0%b8%a2%e0%b9%8c%e0%b8%a8%e0%b8%b2%e0%b8%aa%e0%b8%95%e0%b8%a3%e0%b9%8c-%e0%b8%88%e0%b8%b8%e0%b8%ac%e0%b8%b2%e0%b8%a5%e0%b8%87%e0%b8%81-12/
LOCATION:คณะแพทย์ศาสตร์ จุฬาลงกรณ์มหาวิทยาลัย\, คณะแพทย์ศาสตร์ จุฬาลงกรณ์มหาวิทยาลัย 1873 ถ. พระรามที่ 4 แขวงปทุมวัน เขตปทุมวัน กรุงเทพมหานคร 10330
CATEGORIES:ปฏิทินตารางหน่วยเคลื่อนที่
END:VEVENT
BEGIN:VEVENT
DTSTART;TZID=Asia/Krasnoyarsk:20260129T120000
DTEND;TZID=Asia/Krasnoyarsk:20260129T150000
DTSTAMP:20260426T042305
CREATED:20260127T114839Z
LAST-MODIFIED:20260127T114839Z
UID:10005308-1769688000-1769698800@boo.colorpack.net
SUMMARY:บริษัท วนวิทย์ แมนูแฟคเจอริ่ง จำกัด (พระราม 2) []
DESCRIPTION:สถานที่เจาะ : หน้าคลังวัตถุดิบ \nที่อยู่ : 10 ถนนพระราม 2 ซอย 94 แขวงแสมดำ เขตบางขุนเทียน กรุงเทพฯ 0 2896 2390
URL:https://boo.colorpack.net/event/%e0%b8%9a%e0%b8%a3%e0%b8%b4%e0%b8%a9%e0%b8%b1%e0%b8%97-%e0%b8%a7%e0%b8%99%e0%b8%a7%e0%b8%b4%e0%b8%97%e0%b8%a2%e0%b9%8c-%e0%b9%81%e0%b8%a1%e0%b8%99%e0%b8%b9%e0%b9%81%e0%b8%9f%e0%b8%84%e0%b9%80-7/
LOCATION:บริษัท วนวิทย์ แมนูแฟคเจอริ่ง จำกัด (พระราม 2)\, บริษัท วนวิทย์ แมนูแฟคเจอริ่ง จำกัด ( Hatari ) 10 ซอยพระรามที่ 2 ซอย 94 แขวงแสมดำ เขตบางขุนเทียน กรุงเทพมหานคร 10150
CATEGORIES:ปฏิทินตารางหน่วยเคลื่อนที่
END:VEVENT
BEGIN:VEVENT
DTSTART;TZID=Asia/Krasnoyarsk:20260129T090000
DTEND;TZID=Asia/Krasnoyarsk:20260129T150000
DTSTAMP:20260426T042305
CREATED:20260127T114640Z
LAST-MODIFIED:20260127T114640Z
UID:10005305-1769677200-1769698800@boo.colorpack.net
SUMMARY:การไฟฟ้าฝ่ายผลิตแห่งประเทศไทย []
DESCRIPTION:สถานที่เจาะ : ห้องเฟื่องฟ้า 1 อาคารนันทนาการ กฟผ. \nที่อยู่ : 53 ม. 2 ถ.จรัญสนิทวงศ์ อ.บางกรวย จ.นนทบุรี 0 2436 5845
URL:https://boo.colorpack.net/event/%e0%b8%81%e0%b8%b2%e0%b8%a3%e0%b9%84%e0%b8%9f%e0%b8%9f%e0%b9%89%e0%b8%b2%e0%b8%9d%e0%b9%88%e0%b8%b2%e0%b8%a2%e0%b8%9c%e0%b8%a5%e0%b8%b4%e0%b8%95%e0%b9%81%e0%b8%ab%e0%b9%88%e0%b8%87%e0%b8%9b%e0%b8%a3-4/
LOCATION:การไฟฟ้าฝ่ายผลิตแห่งประเทศไทย
CATEGORIES:ปฏิทินตารางหน่วยเคลื่อนที่
END:VEVENT
BEGIN:VEVENT
DTSTART;TZID=Asia/Krasnoyarsk:20260129T090000
DTEND;TZID=Asia/Krasnoyarsk:20260129T150000
DTSTAMP:20260426T042305
CREATED:20260127T114638Z
LAST-MODIFIED:20260127T114638Z
UID:10005304-1769677200-1769698800@boo.colorpack.net
SUMMARY:บริษัท สแตนดาร์ด แมนูแฟคเจอริ่ง จำกัด []
DESCRIPTION:สถานที่เจาะ : ด้านหน้าบริษัท (พัก 12.00-13.00 น.) \nที่อยู่ : 844 ม.4 นิคมอุตสาหกรรมบางปู ซอย 12 บี ถ.สุขุมวิท ต.แพรกษา อ.เมืองสมุทรปราการ จ.สมุทรปราการ 0 2709 3709
URL:https://boo.colorpack.net/event/%e0%b8%9a%e0%b8%a3%e0%b8%b4%e0%b8%a9%e0%b8%b1%e0%b8%97-%e0%b8%aa%e0%b9%81%e0%b8%95%e0%b8%99%e0%b8%94%e0%b8%b2%e0%b8%a3%e0%b9%8c%e0%b8%94-%e0%b9%81%e0%b8%a1%e0%b8%99%e0%b8%b9%e0%b9%81%e0%b8%9f-3/
LOCATION:บริษัท สแตนดาร์ด แมนูแฟคเจอริ่ง จำกัด
CATEGORIES:ปฏิทินตารางหน่วยเคลื่อนที่
END:VEVENT
BEGIN:VEVENT
DTSTART;TZID=Asia/Krasnoyarsk:20260129T090000
DTEND;TZID=Asia/Krasnoyarsk:20260129T150000
DTSTAMP:20260426T042305
CREATED:20260127T114635Z
LAST-MODIFIED:20260127T114635Z
UID:10005303-1769677200-1769698800@boo.colorpack.net
SUMMARY:มหาวิทยาลัยหอการค้าไทย []
DESCRIPTION:สถานที่เจาะ : ห้อง Blissful อาคาร 10 ชั้น 1 (พัก 11.30-12.30 น.) \nที่อยู่ : 126/1 วิภาวดีรังสิต 2 แขวงดินแดง เขตดินแดง กรุงเทพฯ 0 2697 6911
URL:https://boo.colorpack.net/event/%e0%b8%a1%e0%b8%ab%e0%b8%b2%e0%b8%a7%e0%b8%b4%e0%b8%97%e0%b8%a2%e0%b8%b2%e0%b8%a5%e0%b8%b1%e0%b8%a2%e0%b8%ab%e0%b8%ad%e0%b8%81%e0%b8%b2%e0%b8%a3%e0%b8%84%e0%b9%89%e0%b8%b2%e0%b9%84%e0%b8%97%e0%b8%a2-8/
LOCATION:มหาวิทยาลัยหอการค้าไทย\, มหาวิทยาลัยหอการค้าไทย 126/1 ซ.วิภาวดิรังสิต2 แยก 6 แขวง รัชดาภิเษก เขตดินแดง กรุงเทพมหานคร 10400
CATEGORIES:ปฏิทินตารางหน่วยเคลื่อนที่
END:VEVENT
BEGIN:VEVENT
DTSTART;TZID=Asia/Krasnoyarsk:20260129T090000
DTEND;TZID=Asia/Krasnoyarsk:20260129T150000
DTSTAMP:20260426T042305
CREATED:20260127T114632Z
LAST-MODIFIED:20260127T114632Z
UID:10005302-1769677200-1769698800@boo.colorpack.net
SUMMARY:มหาวิทยาลัยรัตนบัณฑิต []
DESCRIPTION:สถานที่เจาะ : ใต้อาคาร C (พัก 12.00-13.00 น.) \nที่อยู่ : 306 ลาดพร้าว 107 แขวงคลองจั่น เขตบางกะปิ กรุงเทพฯ 0 2375 4480
URL:https://boo.colorpack.net/event/%e0%b8%a1%e0%b8%ab%e0%b8%b2%e0%b8%a7%e0%b8%b4%e0%b8%97%e0%b8%a2%e0%b8%b2%e0%b8%a5%e0%b8%b1%e0%b8%a2%e0%b8%a3%e0%b8%b1%e0%b8%95%e0%b8%99%e0%b8%9a%e0%b8%b1%e0%b8%93%e0%b8%91%e0%b8%b4%e0%b8%95-2/
LOCATION:มหาวิทยาลัยรัตนบัณฑิต
CATEGORIES:ปฏิทินตารางหน่วยเคลื่อนที่
END:VEVENT
BEGIN:VEVENT
DTSTART;TZID=Asia/Krasnoyarsk:20260129T090000
DTEND;TZID=Asia/Krasnoyarsk:20260129T150000
DTSTAMP:20260426T042305
CREATED:20260127T114450Z
LAST-MODIFIED:20260127T114450Z
UID:10005301-1769677200-1769698800@boo.colorpack.net
SUMMARY:วิทยาลัยเทคโนโลยีอรรถวิทย์พณิชยการ []
DESCRIPTION:สถานที่เจาะ : หอประชุม SBU (พัก 12.00-13.00 น.) \nที่อยู่ : 280 ถนนสรรพาวุธ แขวงบางนา เขตบางนา กรุงเทพฯ 0 2744 8450-5
URL:https://boo.colorpack.net/event/%e0%b8%a7%e0%b8%b4%e0%b8%97%e0%b8%a2%e0%b8%b2%e0%b8%a5%e0%b8%b1%e0%b8%a2%e0%b9%80%e0%b8%97%e0%b8%84%e0%b9%82%e0%b8%99%e0%b9%82%e0%b8%a5%e0%b8%a2%e0%b8%b5%e0%b8%ad%e0%b8%a3%e0%b8%a3%e0%b8%96%e0%b8%a7-2/
LOCATION:วิทยาลัยเทคโนโลยีอรรถวิทย์พณิชยการ
CATEGORIES:ปฏิทินตารางหน่วยเคลื่อนที่
END:VEVENT
BEGIN:VEVENT
DTSTART;TZID=Asia/Krasnoyarsk:20260129T090000
DTEND;TZID=Asia/Krasnoyarsk:20260129T150000
DTSTAMP:20260426T042305
CREATED:20260127T114448Z
LAST-MODIFIED:20260127T114448Z
UID:10005300-1769677200-1769698800@boo.colorpack.net
SUMMARY:วิทยาลัยเทคนิคสมุทรปราการ []
DESCRIPTION:สถานที่เจาะ : ห้องประชุมชั้น 1 อาคาร 9 (พัก 11.00-12.00 น.) \nที่อยู่ : 336 ถนนสุขุมวิท ต.บางปูใหม่ อ.เมือง จ.สมุทรปราการ 0 2323 9009
URL:https://boo.colorpack.net/event/%e0%b8%a7%e0%b8%b4%e0%b8%97%e0%b8%a2%e0%b8%b2%e0%b8%a5%e0%b8%b1%e0%b8%a2%e0%b9%80%e0%b8%97%e0%b8%84%e0%b8%99%e0%b8%b4%e0%b8%84%e0%b8%aa%e0%b8%a1%e0%b8%b8%e0%b8%97%e0%b8%a3%e0%b8%9b%e0%b8%a3%e0%b8%b2-2/
LOCATION:วิทยาลัยเทคนิคสมุทรปราการ
CATEGORIES:ปฏิทินตารางหน่วยเคลื่อนที่
END:VEVENT
BEGIN:VEVENT
DTSTART;TZID=Asia/Krasnoyarsk:20260129T090000
DTEND;TZID=Asia/Krasnoyarsk:20260129T150000
DTSTAMP:20260426T042305
CREATED:20260127T114444Z
LAST-MODIFIED:20260127T114444Z
UID:10005299-1769677200-1769698800@boo.colorpack.net
SUMMARY:บ้านทรงไทย (ย่านวงศ์สว่าง) []
DESCRIPTION:สถานที่เจาะ : (พัก 12.30-13.00 น.) \nที่อยู่ : 1423 ถนนกรุงเทพ – นนทบุรี แขวงวงศ์สว่าง เขตบางซื่อ กรุงเทพฯ 0 2256 4300
URL:https://boo.colorpack.net/event/%e0%b8%9a%e0%b9%89%e0%b8%b2%e0%b8%99%e0%b8%97%e0%b8%a3%e0%b8%87%e0%b9%84%e0%b8%97%e0%b8%a2-%e0%b8%a2%e0%b9%88%e0%b8%b2%e0%b8%99%e0%b8%a7%e0%b8%87%e0%b8%a8%e0%b9%8c%e0%b8%aa%e0%b8%a7%e0%b9%88-332/
LOCATION:บ้านทรงไทย (ย่านวงศ์สว่าง)\, หน่วยรับบริจาคโลหิต บ้านทรงไทย(ย่านวงศ์สว่าง) 1423 ถนนกรุงเทพ-นนทบุรี แขวงวงศ์สว่าง เขตบางซื่อ กรุงเทพมหานคร 10800
CATEGORIES:ปฏิทินตารางหน่วยเคลื่อนที่
END:VEVENT
BEGIN:VEVENT
DTSTART;TZID=Asia/Krasnoyarsk:20260129T090000
DTEND;TZID=Asia/Krasnoyarsk:20260129T103000
DTSTAMP:20260426T042305
CREATED:20260127T114834Z
LAST-MODIFIED:20260127T114834Z
UID:10005307-1769677200-1769682600@boo.colorpack.net
SUMMARY:บริษัท วนวิทย์ แมนูแฟคเจอริ่ง จำกัด (สะแกงาม) []
DESCRIPTION:สถานที่เจาะ : หน้าห้องฝ่ายบริหารทรัพยากรมนุษย์ \nที่อยู่ : 4/632 ซอยวัดสะแกงาม ถนนพระราม 2 แขวงแสมดำ เขตบางขุนเทียน กรุงเทพฯ 0 2896 2390
URL:https://boo.colorpack.net/event/%e0%b8%9a%e0%b8%a3%e0%b8%b4%e0%b8%a9%e0%b8%b1%e0%b8%97-%e0%b8%a7%e0%b8%99%e0%b8%a7%e0%b8%b4%e0%b8%97%e0%b8%a2%e0%b9%8c-%e0%b9%81%e0%b8%a1%e0%b8%99%e0%b8%b9%e0%b9%81%e0%b8%9f%e0%b8%84%e0%b9%80-6/
LOCATION:บริษัท วนวิทย์ แมนูแฟคเจอริ่ง จำกัด (สะแกงาม)\, บจก. วนวิทย์ แมนูแฟคเจอริ่ง 10 ซอยพระรามที่2ซอย94 ถนนพระรามที่2 แขวงแสมดำ เขตบางขุนเทียน กรุงเทพมหานคร 10150
CATEGORIES:ปฏิทินตารางหน่วยเคลื่อนที่
END:VEVENT
BEGIN:VEVENT
DTSTART;TZID=Asia/Krasnoyarsk:20260129T083000
DTEND;TZID=Asia/Krasnoyarsk:20260129T193000
DTSTAMP:20260426T042305
CREATED:20260127T114441Z
LAST-MODIFIED:20260127T114441Z
UID:10005298-1769675400-1769715000@boo.colorpack.net
SUMMARY:สถานีกาชาด 11 วิเศษนิยม []
DESCRIPTION:สถานที่เจาะ : ชั้น 3 \nที่อยู่ : 33/3 ถนนเพชรเกษม แขวงบางหว้า เขตภาษีเจริญ กรุงเทพฯ 633450711
URL:https://boo.colorpack.net/event/%e0%b8%aa%e0%b8%96%e0%b8%b2%e0%b8%99%e0%b8%b5%e0%b8%81%e0%b8%b2%e0%b8%8a%e0%b8%b2%e0%b8%94-11-%e0%b8%a7%e0%b8%b4%e0%b9%80%e0%b8%a8%e0%b8%a9%e0%b8%99%e0%b8%b4%e0%b8%a2%e0%b8%a1-149/
LOCATION:สถานีกาชาด 11 วิเศษนิยม\, สถานีกาชาด 11 วิเศษนิยม 605 ถ.เพชรเกษม แขวงบางหว้า เขตภาษีเจริญ กรุงเทพมหานคร 10160
CATEGORIES:ปฏิทินตารางหน่วยเคลื่อนที่
END:VEVENT
BEGIN:VEVENT
DTSTART;TZID=Asia/Krasnoyarsk:20260128T130000
DTEND;TZID=Asia/Krasnoyarsk:20260128T150000
DTSTAMP:20260426T042305
CREATED:20260120T105202Z
LAST-MODIFIED:20260120T105202Z
UID:10005296-1769605200-1769612400@boo.colorpack.net
SUMMARY:กรมฝนหลวงและการบินเกษตร []
DESCRIPTION:สถานที่เจาะ : หน้าอาคารหม่อมเทพฤทธิ์ เทวกุล (อาคารเก่า) \nที่อยู่ : 50 ถนนพหลโยธิน แขวงลาดยาว เขตจตุจักร กรุงเทพฯ 0 2109 5100-18
URL:https://boo.colorpack.net/event/%e0%b8%81%e0%b8%a3%e0%b8%a1%e0%b8%9d%e0%b8%99%e0%b8%ab%e0%b8%a5%e0%b8%a7%e0%b8%87%e0%b9%81%e0%b8%a5%e0%b8%b0%e0%b8%81%e0%b8%b2%e0%b8%a3%e0%b8%9a%e0%b8%b4%e0%b8%99%e0%b9%80%e0%b8%81%e0%b8%a9%e0%b8%95-4/
LOCATION:กรมฝนหลวงและการบินเกษตร\, กรมฝนหลวงและการบินเกษตร 2345 ถนนพหลโยธิน แขวงลาดยาว เขตจตุจักร กรุงเทพมหานคร 10900
CATEGORIES:ปฏิทินตารางหน่วยเคลื่อนที่
END:VEVENT
BEGIN:VEVENT
DTSTART;TZID=Asia/Krasnoyarsk:20260128T120000
DTEND;TZID=Asia/Krasnoyarsk:20260128T180000
DTSTAMP:20260426T042305
CREATED:20260120T105109Z
LAST-MODIFIED:20260120T105109Z
UID:10005285-1769601600-1769623200@boo.colorpack.net
SUMMARY:ศูนย์การค้าเดอะมอลล์ไลฟ์สโตร์ ท่าพระ []
DESCRIPTION:สถานที่เจาะ : ชั้น 1 (ติดลานจอดรถ) \nที่อยู่ : 99 ถนนรัชดาท่าพระตัดใหม่ แขวงบุคคโล เขตธนบุรี กรุงเทพฯ 0 2469-1000
URL:https://boo.colorpack.net/event/%e0%b8%a8%e0%b8%b9%e0%b8%99%e0%b8%a2%e0%b9%8c%e0%b8%81%e0%b8%b2%e0%b8%a3%e0%b8%84%e0%b9%89%e0%b8%b2%e0%b9%80%e0%b8%94%e0%b8%ad%e0%b8%b0%e0%b8%a1%e0%b8%ad%e0%b8%a5%e0%b8%a5%e0%b9%8c%e0%b9%84-1335/
LOCATION:ศูนย์การค้าเดอะมอลล์ไลฟ์สโตร์ ท่าพระ\, เดอะมอลล์ไลฟ์สโตร์ ท่าพระ 129 ถ. รัชดาภิเษก แขวงบุคคโล เขตธนบุรี กรุงเทพมหานคร 10600
CATEGORIES:ปฏิทินตารางหน่วยเคลื่อนที่
END:VEVENT
BEGIN:VEVENT
DTSTART;TZID=Asia/Krasnoyarsk:20260128T120000
DTEND;TZID=Asia/Krasnoyarsk:20260128T180000
DTSTAMP:20260426T042305
CREATED:20260120T105105Z
LAST-MODIFIED:20260120T105105Z
UID:10005284-1769601600-1769623200@boo.colorpack.net
SUMMARY:ศูนย์การค้า เอ็มโพเรียม []
DESCRIPTION:สถานที่เจาะ : ชั้น M ศูนย์การค้า ดิ เอ็มโพเรียม เชื่อมลานจอดรถอาคาร B \nที่อยู่ : 622 ถนนสุขุมวิท แขวงคลองตัน เขตคลองเตย กรุงเทพฯ 0 2269 1515
URL:https://boo.colorpack.net/event/%e0%b8%a8%e0%b8%b9%e0%b8%99%e0%b8%a2%e0%b9%8c%e0%b8%81%e0%b8%b2%e0%b8%a3%e0%b8%84%e0%b9%89%e0%b8%b2-%e0%b9%80%e0%b8%ad%e0%b9%87%e0%b8%a1%e0%b9%82%e0%b8%9e%e0%b9%80%e0%b8%a3%e0%b8%b5%e0%b8%a2-329/
LOCATION:ศูนย์การค้า เอ็มโพเรียม\, เอ็มโพเรียม 622 ถ. สุขุมวิท แขวงคลองตัน เขตคลองเตย กรุงเทพมหานคร 10110
CATEGORIES:ปฏิทินตารางหน่วยเคลื่อนที่
END:VEVENT
BEGIN:VEVENT
DTSTART;TZID=Asia/Krasnoyarsk:20260128T120000
DTEND;TZID=Asia/Krasnoyarsk:20260128T180000
DTSTAMP:20260426T042305
CREATED:20260120T105054Z
LAST-MODIFIED:20260120T105054Z
UID:10005283-1769601600-1769623200@boo.colorpack.net
SUMMARY:ศูนย์การค้าเดอะมอลล์ไลฟ์สโตร์ งามวงศ์วาน []
DESCRIPTION:สถานที่เจาะ : ชั้น 5 โซน Government Center \nที่อยู่ : ถนนงามวงศ์วาน ต.บางเขน อ.เมือง จ.นนทบุรี 0 2555 1550
URL:https://boo.colorpack.net/event/%e0%b8%a8%e0%b8%b9%e0%b8%99%e0%b8%a2%e0%b9%8c%e0%b8%81%e0%b8%b2%e0%b8%a3%e0%b8%84%e0%b9%89%e0%b8%b2%e0%b9%80%e0%b8%94%e0%b8%ad%e0%b8%b0%e0%b8%a1%e0%b8%ad%e0%b8%a5%e0%b8%a5%e0%b9%8c%e0%b9%84-1334/
LOCATION:ศูนย์การค้าเดอะมอลล์ไลฟ์สโตร์ งามวงศ์วาน\, เดอะมอลล์ ไลฟ์สโตร์ งามวงศ์วาน 430 ถนน งามวงศ์วาน ตำบลบางเขน อำเภอเมืองนนทบุรี นนทบุรี 11000
CATEGORIES:ปฏิทินตารางหน่วยเคลื่อนที่
END:VEVENT
BEGIN:VEVENT
DTSTART;TZID=Asia/Krasnoyarsk:20260128T120000
DTEND;TZID=Asia/Krasnoyarsk:20260128T180000
DTSTAMP:20260426T042305
CREATED:20260120T105034Z
LAST-MODIFIED:20260120T105034Z
UID:10005282-1769601600-1769623200@boo.colorpack.net
SUMMARY:ศูนย์การค้าเดอะมอลล์ไลฟ์สโตร์ บางกะปิ []
DESCRIPTION:สถานที่เจาะ : ชั้น 2 ทางออกลานจอดรถ \nที่อยู่ : ถนนลาดพร้าว แขวงคลองจั่น เขตบางกะปิ กรุงเทพฯ 0 2310 2278
URL:https://boo.colorpack.net/event/%e0%b8%a8%e0%b8%b9%e0%b8%99%e0%b8%a2%e0%b9%8c%e0%b8%81%e0%b8%b2%e0%b8%a3%e0%b8%84%e0%b9%89%e0%b8%b2%e0%b9%80%e0%b8%94%e0%b8%ad%e0%b8%b0%e0%b8%a1%e0%b8%ad%e0%b8%a5%e0%b8%a5%e0%b9%8c%e0%b9%84-1333/
LOCATION:ศูนย์การค้าเดอะมอลล์ไลฟ์สโตร์ บางกะปิ\, เดอะมอลล์ไลฟ์สโตร์ บางกะปิ 3522 ถ. ลาดพร้าว แขวงคลองจั่น เขตบางกะปิ กรุงเทพมหานคร 10240
CATEGORIES:ปฏิทินตารางหน่วยเคลื่อนที่
END:VEVENT
BEGIN:VEVENT
DTSTART;TZID=Asia/Krasnoyarsk:20260128T120000
DTEND;TZID=Asia/Krasnoyarsk:20260128T180000
DTSTAMP:20260426T042305
CREATED:20260120T105024Z
LAST-MODIFIED:20260120T105024Z
UID:10005281-1769601600-1769623200@boo.colorpack.net
SUMMARY:ศูนย์การค้าเดอะมอลล์ไลฟ์สโตร์ บางแค []
DESCRIPTION:สถานที่เจาะ : ชั้น 3 ตรงข้ามร้านโอ้กะจู๋ \nที่อยู่ : ถนนเพชรเกษม แขวงบางแคเหนือ เขตภาษีเจริญ กรุงเทพฯ 02 487 1221
URL:https://boo.colorpack.net/event/%e0%b8%a8%e0%b8%b9%e0%b8%99%e0%b8%a2%e0%b9%8c%e0%b8%81%e0%b8%b2%e0%b8%a3%e0%b8%84%e0%b9%89%e0%b8%b2%e0%b9%80%e0%b8%94%e0%b8%ad%e0%b8%b0%e0%b8%a1%e0%b8%ad%e0%b8%a5%e0%b8%a5%e0%b9%8c%e0%b9%84-1332/
LOCATION:ศูนย์การค้าเดอะมอลล์ไลฟ์สโตร์ บางแค\, ศูนย์การค้าเดอะมอลล์ไลฟ์สโตร์ บางแค
CATEGORIES:ปฏิทินตารางหน่วยเคลื่อนที่
END:VEVENT
BEGIN:VEVENT
DTSTART;TZID=Asia/Krasnoyarsk:20260128T120000
DTEND;TZID=Asia/Krasnoyarsk:20260128T160000
DTSTAMP:20260426T042305
CREATED:20260120T105157Z
LAST-MODIFIED:20260120T105157Z
UID:10005294-1769601600-1769616000@boo.colorpack.net
SUMMARY:คณะแพทย์ศาสตร์ จุฬาลงกรณ์มหาวิทยาลัย []
DESCRIPTION:สถานที่เจาะ : ลานอเนกประสงค์ชั้น 1 อาคารอานันทมหิดล \nที่อยู่ : 1873 ถนนพระรามที่ 4 แขวงปทุมวัน เขตปทุมวัน กรุงเทพฯ 0 2256 4183
URL:https://boo.colorpack.net/event/%e0%b8%84%e0%b8%93%e0%b8%b0%e0%b9%81%e0%b8%9e%e0%b8%97%e0%b8%a2%e0%b9%8c%e0%b8%a8%e0%b8%b2%e0%b8%aa%e0%b8%95%e0%b8%a3%e0%b9%8c-%e0%b8%88%e0%b8%b8%e0%b8%ac%e0%b8%b2%e0%b8%a5%e0%b8%87%e0%b8%81-11/
LOCATION:คณะแพทย์ศาสตร์ จุฬาลงกรณ์มหาวิทยาลัย\, คณะแพทย์ศาสตร์ จุฬาลงกรณ์มหาวิทยาลัย 1873 ถ. พระรามที่ 4 แขวงปทุมวัน เขตปทุมวัน กรุงเทพมหานคร 10330
CATEGORIES:ปฏิทินตารางหน่วยเคลื่อนที่
END:VEVENT
END:VCALENDAR