BEGIN:VCALENDAR
VERSION:2.0
PRODID:-//เว็บไซต์ศูนย์บริการโลหิตแห่งชาติ - ECPv6.11.2.1//NONSGML v1.0//EN
CALSCALE:GREGORIAN
METHOD:PUBLISH
X-WR-CALNAME:เว็บไซต์ศูนย์บริการโลหิตแห่งชาติ
X-ORIGINAL-URL:https://boo.colorpack.net
X-WR-CALDESC:Events for เว็บไซต์ศูนย์บริการโลหิตแห่งชาติ
REFRESH-INTERVAL;VALUE=DURATION:PT1H
X-Robots-Tag:noindex
X-PUBLISHED-TTL:PT1H
BEGIN:VTIMEZONE
TZID:Asia/Krasnoyarsk
BEGIN:STANDARD
TZOFFSETFROM:+0700
TZOFFSETTO:+0700
TZNAME:+07
DTSTART:20260101T000000
END:STANDARD
END:VTIMEZONE
BEGIN:VEVENT
DTSTART;TZID=Asia/Krasnoyarsk:20260204T120000
DTEND;TZID=Asia/Krasnoyarsk:20260204T180000
DTSTAMP:20260420T191321
CREATED:20260127T121021Z
LAST-MODIFIED:20260127T121021Z
UID:10005382-1770206400-1770228000@boo.colorpack.net
SUMMARY:ศูนย์การค้า เอ็มโพเรียม []
DESCRIPTION:สถานที่เจาะ : ชั้น M ศูนย์การค้า ดิ เอ็มโพเรียม เชื่อมลานจอดรถอาคาร B \nที่อยู่ : 622 ถนนสุขุมวิท แขวงคลองตัน เขตคลองเตย กรุงเทพฯ 0 2269 1515
URL:https://boo.colorpack.net/event/%e0%b8%a8%e0%b8%b9%e0%b8%99%e0%b8%a2%e0%b9%8c%e0%b8%81%e0%b8%b2%e0%b8%a3%e0%b8%84%e0%b9%89%e0%b8%b2-%e0%b9%80%e0%b8%ad%e0%b9%87%e0%b8%a1%e0%b9%82%e0%b8%9e%e0%b9%80%e0%b8%a3%e0%b8%b5%e0%b8%a2-336/
LOCATION:ศูนย์การค้า เอ็มโพเรียม\, เอ็มโพเรียม 622 ถ. สุขุมวิท แขวงคลองตัน เขตคลองเตย กรุงเทพมหานคร 10110
CATEGORIES:ปฏิทินตารางหน่วยเคลื่อนที่
END:VEVENT
BEGIN:VEVENT
DTSTART;TZID=Asia/Krasnoyarsk:20260204T120000
DTEND;TZID=Asia/Krasnoyarsk:20260204T180000
DTSTAMP:20260420T191321
CREATED:20260127T120957Z
LAST-MODIFIED:20260127T121015Z
UID:10005381-1770206400-1770228000@boo.colorpack.net
SUMMARY:ศูนย์การค้าเดอะมอลล์ไลฟ์สโตร์ งามวงศ์วาน []
DESCRIPTION:สถานที่เจาะ : ชั้น 5 โซน Government Center \nที่อยู่ : ถนนงามวงศ์วาน ต.บางเขน อ.เมือง จ.นนทบุรี 0 2555 1550
URL:https://boo.colorpack.net/event/%e0%b8%a8%e0%b8%b9%e0%b8%99%e0%b8%a2%e0%b9%8c%e0%b8%81%e0%b8%b2%e0%b8%a3%e0%b8%84%e0%b9%89%e0%b8%b2%e0%b9%80%e0%b8%94%e0%b8%ad%e0%b8%b0%e0%b8%a1%e0%b8%ad%e0%b8%a5%e0%b8%a5%e0%b9%8c%e0%b9%84-1362/
LOCATION:ศูนย์การค้าเดอะมอลล์ไลฟ์สโตร์ งามวงศ์วาน\, เดอะมอลล์ ไลฟ์สโตร์ งามวงศ์วาน 430 ถนน งามวงศ์วาน ตำบลบางเขน อำเภอเมืองนนทบุรี นนทบุรี 11000
CATEGORIES:ปฏิทินตารางหน่วยเคลื่อนที่
END:VEVENT
BEGIN:VEVENT
DTSTART;TZID=Asia/Krasnoyarsk:20260204T120000
DTEND;TZID=Asia/Krasnoyarsk:20260204T180000
DTSTAMP:20260420T191321
CREATED:20260127T120944Z
LAST-MODIFIED:20260127T121014Z
UID:10005380-1770206400-1770228000@boo.colorpack.net
SUMMARY:ศูนย์การค้าเดอะมอลล์ไลฟ์สโตร์ บางกะปิ []
DESCRIPTION:สถานที่เจาะ : ชั้น 2 ทางออกลานจอดรถ \nที่อยู่ : ถนนลาดพร้าว แขวงคลองจั่น เขตบางกะปิ กรุงเทพฯ 0 2310 2278
URL:https://boo.colorpack.net/event/%e0%b8%a8%e0%b8%b9%e0%b8%99%e0%b8%a2%e0%b9%8c%e0%b8%81%e0%b8%b2%e0%b8%a3%e0%b8%84%e0%b9%89%e0%b8%b2%e0%b9%80%e0%b8%94%e0%b8%ad%e0%b8%b0%e0%b8%a1%e0%b8%ad%e0%b8%a5%e0%b8%a5%e0%b9%8c%e0%b9%84-1361/
LOCATION:ศูนย์การค้าเดอะมอลล์ไลฟ์สโตร์ บางกะปิ\, เดอะมอลล์ไลฟ์สโตร์ บางกะปิ 3522 ถ. ลาดพร้าว แขวงคลองจั่น เขตบางกะปิ กรุงเทพมหานคร 10240
CATEGORIES:ปฏิทินตารางหน่วยเคลื่อนที่
END:VEVENT
BEGIN:VEVENT
DTSTART;TZID=Asia/Krasnoyarsk:20260204T120000
DTEND;TZID=Asia/Krasnoyarsk:20260204T180000
DTSTAMP:20260420T191321
CREATED:20260127T120932Z
LAST-MODIFIED:20260127T121013Z
UID:10005379-1770206400-1770228000@boo.colorpack.net
SUMMARY:ศูนย์การค้าเดอะมอลล์ไลฟ์สโตร์ บางแค []
DESCRIPTION:สถานที่เจาะ : ชั้น 3 ตรงข้ามร้านโอ้กะจู๋ \nที่อยู่ : ถนนเพชรเกษม แขวงบางแคเหนือ เขตภาษีเจริญ กรุงเทพฯ 02 487 1221
URL:https://boo.colorpack.net/event/%e0%b8%a8%e0%b8%b9%e0%b8%99%e0%b8%a2%e0%b9%8c%e0%b8%81%e0%b8%b2%e0%b8%a3%e0%b8%84%e0%b9%89%e0%b8%b2%e0%b9%80%e0%b8%94%e0%b8%ad%e0%b8%b0%e0%b8%a1%e0%b8%ad%e0%b8%a5%e0%b8%a5%e0%b9%8c%e0%b9%84-1360/
LOCATION:ศูนย์การค้าเดอะมอลล์ไลฟ์สโตร์ บางแค\, ศูนย์การค้าเดอะมอลล์ไลฟ์สโตร์ บางแค
CATEGORIES:ปฏิทินตารางหน่วยเคลื่อนที่
END:VEVENT
BEGIN:VEVENT
DTSTART;TZID=Asia/Krasnoyarsk:20260204T110000
DTEND;TZID=Asia/Krasnoyarsk:20260204T150000
DTSTAMP:20260420T191321
CREATED:20260127T121047Z
LAST-MODIFIED:20260127T121047Z
UID:10005386-1770202800-1770217200@boo.colorpack.net
SUMMARY:เซ็นทรัลพลาซา เวสต์เกต []
DESCRIPTION:สถานที่เจาะ : จุดจอดรถประตูยูนิโคล่ \nที่อยู่ : 199\,199/1\,199/2 ถ.กาญจนาภิเษก ต.เสาธงหิน อ.บางใหญ่ จ.นนทบุรี 0 2101 7999
URL:https://boo.colorpack.net/event/%e0%b9%80%e0%b8%8b%e0%b9%87%e0%b8%99%e0%b8%97%e0%b8%a3%e0%b8%b1%e0%b8%a5%e0%b8%9e%e0%b8%a5%e0%b8%b2%e0%b8%8b%e0%b8%b2-%e0%b9%80%e0%b8%a7%e0%b8%aa%e0%b8%95%e0%b9%8c%e0%b9%80%e0%b8%81%e0%b8%95-9/
LOCATION:เซ็นทรัลพลาซา เวสต์เกต\, เซ็นทรัลพลาซา เวสต์เกต 199\, 199/1 199/2 ถ. กาญจนาภิเษก ตำบล เสาธงหิน อำเภอบางใหญ่ นนทบุรี 11140
CATEGORIES:ปฏิทินตารางหน่วยเคลื่อนที่
END:VEVENT
BEGIN:VEVENT
DTSTART;TZID=Asia/Krasnoyarsk:20260204T090000
DTEND;TZID=Asia/Krasnoyarsk:20260204T150000
DTSTAMP:20260420T191321
CREATED:20260127T121133Z
LAST-MODIFIED:20260127T121133Z
UID:10005390-1770195600-1770217200@boo.colorpack.net
SUMMARY:บริษัท โทรคมนาคมแห่งชาติ จำกัด (มหาชน) (สำนักงานแจ้งวัฒนะ) []
DESCRIPTION:สถานที่เจาะ : อาคาร 9 ชั้น 1 \nที่อยู่ : 89/2 ถนนแจ้งวัฒนะ แขวงทุ่งสองห้อง เขตหลักสี่ กรุงเทพฯ 0 2575 7054
URL:https://boo.colorpack.net/event/%e0%b8%9a%e0%b8%a3%e0%b8%b4%e0%b8%a9%e0%b8%b1%e0%b8%97-%e0%b9%82%e0%b8%97%e0%b8%a3%e0%b8%84%e0%b8%a1%e0%b8%99%e0%b8%b2%e0%b8%84%e0%b8%a1%e0%b9%81%e0%b8%ab%e0%b9%88%e0%b8%87%e0%b8%8a%e0%b8%b2-12/
LOCATION:บริษัท โทรคมนาคมแห่งชาติ จำกัด (มหาชน) (สำนักงานแจ้งวัฒนะ)
CATEGORIES:ปฏิทินตารางหน่วยเคลื่อนที่
END:VEVENT
BEGIN:VEVENT
DTSTART;TZID=Asia/Krasnoyarsk:20260204T090000
DTEND;TZID=Asia/Krasnoyarsk:20260204T150000
DTSTAMP:20260420T191321
CREATED:20260127T121131Z
LAST-MODIFIED:20260127T121131Z
UID:10005389-1770195600-1770217200@boo.colorpack.net
SUMMARY:อาคารศูนย์ปฏิบัติการ (OPC) บริษัท การบินไทย จำกัด (มหาชน) []
DESCRIPTION:สถานที่เจาะ : ชั้น 1 (พัก 12.00-13.00 น.)
URL:https://boo.colorpack.net/event/%e0%b8%ad%e0%b8%b2%e0%b8%84%e0%b8%b2%e0%b8%a3%e0%b8%a8%e0%b8%b9%e0%b8%99%e0%b8%a2%e0%b9%8c%e0%b8%9b%e0%b8%8f%e0%b8%b4%e0%b8%9a%e0%b8%b1%e0%b8%95%e0%b8%b4%e0%b8%81%e0%b8%b2%e0%b8%a3-opc-%e0%b8%9a/
LOCATION:อาคารศูนย์ปฏิบัติการ (OPC) บริษัท การบินไทย จำกัด (มหาชน)\, ศูนย์ปฏิบัติการ การบินไทย ท่าอากาศยานสุวรรณภูมิ 333 ม.1 ต.หนองปรือ อ.บางพลี จ.สมุทรปราการ 10540
CATEGORIES:ปฏิทินตารางหน่วยเคลื่อนที่
END:VEVENT
BEGIN:VEVENT
DTSTART;TZID=Asia/Krasnoyarsk:20260204T090000
DTEND;TZID=Asia/Krasnoyarsk:20260204T150000
DTSTAMP:20260420T191321
CREATED:20260127T121128Z
LAST-MODIFIED:20260127T121128Z
UID:10005388-1770195600-1770217200@boo.colorpack.net
SUMMARY:บริษัท มิตซูบิชิ มอเตอร์ส (ประเทศไทย) จำกัด []
DESCRIPTION:สถานที่เจาะ : Victor Club ชั้น 2 อาคาร FYI Center (พัก 12.00-13.00 น.) \nที่อยู่ : 2525 ถนนพระราม 4 แขวงคลองเตย  เขตคลองเตย กรุงเทพฯ 038 401 566
URL:https://boo.colorpack.net/event/%e0%b8%9a%e0%b8%a3%e0%b8%b4%e0%b8%a9%e0%b8%b1%e0%b8%97-%e0%b8%a1%e0%b8%b4%e0%b8%95%e0%b8%8b%e0%b8%b9%e0%b8%9a%e0%b8%b4%e0%b8%8a%e0%b8%b4-%e0%b8%a1%e0%b8%ad%e0%b9%80%e0%b8%95%e0%b8%ad%e0%b8%a3-4/
LOCATION:บริษัท มิตซูบิชิ มอเตอร์ส (ประเทศไทย) จำกัด
CATEGORIES:ปฏิทินตารางหน่วยเคลื่อนที่
END:VEVENT
BEGIN:VEVENT
DTSTART;TZID=Asia/Krasnoyarsk:20260204T090000
DTEND;TZID=Asia/Krasnoyarsk:20260204T150000
DTSTAMP:20260420T191321
CREATED:20260127T121125Z
LAST-MODIFIED:20260129T112239Z
UID:10005387-1770195600-1770217200@boo.colorpack.net
SUMMARY:ธนาคารเพื่อการเกษตรและสหกรณ์การเกษตร []
DESCRIPTION:สถานที่เจาะ : ห้องประชุมชั้น 24 อาคารทาวเวอร์ ธนาคารเพื่อการเกษตรฯ \nที่อยู่ : 2346 ถนนพหลโยธิน แขวงเสนานิคม เขตจตุจักร กรุงเทพฯ 0 2558 6555
URL:https://boo.colorpack.net/event/%e0%b8%98%e0%b8%99%e0%b8%b2%e0%b8%84%e0%b8%b2%e0%b8%a3%e0%b9%80%e0%b8%9e%e0%b8%b7%e0%b9%88%e0%b8%ad%e0%b8%81%e0%b8%b2%e0%b8%a3%e0%b9%80%e0%b8%81%e0%b8%a9%e0%b8%95%e0%b8%a3%e0%b9%81%e0%b8%a5%e0%b8%b0-5/
LOCATION:ธนาคารเพื่อการเกษตรและสหกรณ์การเกษตร
CATEGORIES:ปฏิทินตารางหน่วยเคลื่อนที่
END:VEVENT
BEGIN:VEVENT
DTSTART;TZID=Asia/Krasnoyarsk:20260204T090000
DTEND;TZID=Asia/Krasnoyarsk:20260204T150000
DTSTAMP:20260420T191321
CREATED:20260127T121042Z
LAST-MODIFIED:20260127T121042Z
UID:10005385-1770195600-1770217200@boo.colorpack.net
SUMMARY:บ้านทรงไทย (ย่านวงศ์สว่าง) []
DESCRIPTION:สถานที่เจาะ : (พัก 12.30-13.00 น.) \nที่อยู่ : 1423 ถนนกรุงเทพ – นนทบุรี แขวงวงศ์สว่าง เขตบางซื่อ กรุงเทพฯ 0 2256 4300
URL:https://boo.colorpack.net/event/%e0%b8%9a%e0%b9%89%e0%b8%b2%e0%b8%99%e0%b8%97%e0%b8%a3%e0%b8%87%e0%b9%84%e0%b8%97%e0%b8%a2-%e0%b8%a2%e0%b9%88%e0%b8%b2%e0%b8%99%e0%b8%a7%e0%b8%87%e0%b8%a8%e0%b9%8c%e0%b8%aa%e0%b8%a7%e0%b9%88-338/
LOCATION:บ้านทรงไทย (ย่านวงศ์สว่าง)\, หน่วยรับบริจาคโลหิต บ้านทรงไทย(ย่านวงศ์สว่าง) 1423 ถนนกรุงเทพ-นนทบุรี แขวงวงศ์สว่าง เขตบางซื่อ กรุงเทพมหานคร 10800
CATEGORIES:ปฏิทินตารางหน่วยเคลื่อนที่
END:VEVENT
BEGIN:VEVENT
DTSTART;TZID=Asia/Krasnoyarsk:20260204T083000
DTEND;TZID=Asia/Krasnoyarsk:20260204T193000
DTSTAMP:20260420T191321
CREATED:20260127T121038Z
LAST-MODIFIED:20260127T121038Z
UID:10005384-1770193800-1770233400@boo.colorpack.net
SUMMARY:สถานีกาชาด 11 วิเศษนิยม []
DESCRIPTION:สถานที่เจาะ : ชั้น 3 \nที่อยู่ : 33/3 ถนนเพชรเกษม แขวงบางหว้า เขตภาษีเจริญ กรุงเทพฯ 0633450711
URL:https://boo.colorpack.net/event/%e0%b8%aa%e0%b8%96%e0%b8%b2%e0%b8%99%e0%b8%b5%e0%b8%81%e0%b8%b2%e0%b8%8a%e0%b8%b2%e0%b8%94-11-%e0%b8%a7%e0%b8%b4%e0%b9%80%e0%b8%a8%e0%b8%a9%e0%b8%99%e0%b8%b4%e0%b8%a2%e0%b8%a1-155/
LOCATION:สถานีกาชาด 11 วิเศษนิยม\, สถานีกาชาด 11 วิเศษนิยม 605 ถ.เพชรเกษม แขวงบางหว้า เขตภาษีเจริญ กรุงเทพมหานคร 10160
CATEGORIES:ปฏิทินตารางหน่วยเคลื่อนที่
END:VEVENT
BEGIN:VEVENT
DTSTART;TZID=Asia/Krasnoyarsk:20260204T073000
DTEND;TZID=Asia/Krasnoyarsk:20260204T193000
DTSTAMP:20260420T191321
CREATED:20260127T120927Z
LAST-MODIFIED:20260127T121012Z
UID:10005378-1770190200-1770233400@boo.colorpack.net
SUMMARY:ศูนย์บริการโลหิตแห่งชาติ สภากาชาดไทย []
DESCRIPTION:ที่อยู่ : 1871 ถ. อังรีดูนังต์ แขวงปทุมวัน เขตปทุมวัน
URL:https://boo.colorpack.net/event/%e0%b8%a8%e0%b8%b9%e0%b8%99%e0%b8%a2%e0%b9%8c%e0%b8%9a%e0%b8%a3%e0%b8%b4%e0%b8%81%e0%b8%b2%e0%b8%a3%e0%b9%82%e0%b8%a5%e0%b8%ab%e0%b8%b4%e0%b8%95%e0%b9%81%e0%b8%ab%e0%b9%88%e0%b8%87%e0%b8%8a-420/
LOCATION:ศูนย์บริการโลหิตแห่งชาติ สภากาชาดไทย\, ศูนย์บริการโลหิตแห่งชาติ สภากาชาดไทย 1871 ถ. อังรีดูนังต์ แขวงปทุมวัน เขตปทุมวัน กรุงเทพมหานคร 10330
CATEGORIES:ปฏิทินตารางหน่วยเคลื่อนที่
END:VEVENT
BEGIN:VEVENT
DTSTART;TZID=Asia/Krasnoyarsk:20260203T120000
DTEND;TZID=Asia/Krasnoyarsk:20260203T180000
DTSTAMP:20260420T191321
CREATED:20260127T120630Z
LAST-MODIFIED:20260127T120630Z
UID:10005367-1770120000-1770141600@boo.colorpack.net
SUMMARY:ศูนย์การค้าเดอะมอลล์ไลฟ์สโตร์ ท่าพระ []
DESCRIPTION:สถานที่เจาะ : ชั้น 1 (ติดลานจอดรถ) \nที่อยู่ : 99 ถนนรัชดาท่าพระตัดใหม่ แขวงบุคคโล เขตธนบุรี กรุงเทพฯ 0 2469-1000
URL:https://boo.colorpack.net/event/%e0%b8%a8%e0%b8%b9%e0%b8%99%e0%b8%a2%e0%b9%8c%e0%b8%81%e0%b8%b2%e0%b8%a3%e0%b8%84%e0%b9%89%e0%b8%b2%e0%b9%80%e0%b8%94%e0%b8%ad%e0%b8%b0%e0%b8%a1%e0%b8%ad%e0%b8%a5%e0%b8%a5%e0%b9%8c%e0%b9%84-1359/
LOCATION:ศูนย์การค้าเดอะมอลล์ไลฟ์สโตร์ ท่าพระ\, เดอะมอลล์ไลฟ์สโตร์ ท่าพระ 129 ถ. รัชดาภิเษก แขวงบุคคโล เขตธนบุรี กรุงเทพมหานคร 10600
CATEGORIES:ปฏิทินตารางหน่วยเคลื่อนที่
END:VEVENT
BEGIN:VEVENT
DTSTART;TZID=Asia/Krasnoyarsk:20260203T120000
DTEND;TZID=Asia/Krasnoyarsk:20260203T180000
DTSTAMP:20260420T191321
CREATED:20260127T120509Z
LAST-MODIFIED:20260127T120509Z
UID:10005366-1770120000-1770141600@boo.colorpack.net
SUMMARY:ศูนย์การค้า เอ็มโพเรียม []
DESCRIPTION:สถานที่เจาะ : ชั้น M ศูนย์การค้า ดิ เอ็มโพเรียม เชื่อมลานจอดรถอาคาร B \nที่อยู่ : 622 ถนนสุขุมวิท แขวงคลองตัน เขตคลองเตย กรุงเทพฯ 0 2269 1515
URL:https://boo.colorpack.net/event/%e0%b8%a8%e0%b8%b9%e0%b8%99%e0%b8%a2%e0%b9%8c%e0%b8%81%e0%b8%b2%e0%b8%a3%e0%b8%84%e0%b9%89%e0%b8%b2-%e0%b9%80%e0%b8%ad%e0%b9%87%e0%b8%a1%e0%b9%82%e0%b8%9e%e0%b9%80%e0%b8%a3%e0%b8%b5%e0%b8%a2-335/
LOCATION:ศูนย์การค้า เอ็มโพเรียม\, เอ็มโพเรียม 622 ถ. สุขุมวิท แขวงคลองตัน เขตคลองเตย กรุงเทพมหานคร 10110
CATEGORIES:ปฏิทินตารางหน่วยเคลื่อนที่
END:VEVENT
BEGIN:VEVENT
DTSTART;TZID=Asia/Krasnoyarsk:20260203T120000
DTEND;TZID=Asia/Krasnoyarsk:20260203T180000
DTSTAMP:20260420T191321
CREATED:20260127T120458Z
LAST-MODIFIED:20260127T120458Z
UID:10005365-1770120000-1770141600@boo.colorpack.net
SUMMARY:ศูนย์การค้าเดอะมอลล์ไลฟ์สโตร์ งามวงศ์วาน []
DESCRIPTION:สถานที่เจาะ : ชั้น 5 โซน Government Center \nที่อยู่ : ถนนงามวงศ์วาน ต.บางเขน อ.เมือง จ.นนทบุรี 0 2555 1550
URL:https://boo.colorpack.net/event/%e0%b8%a8%e0%b8%b9%e0%b8%99%e0%b8%a2%e0%b9%8c%e0%b8%81%e0%b8%b2%e0%b8%a3%e0%b8%84%e0%b9%89%e0%b8%b2%e0%b9%80%e0%b8%94%e0%b8%ad%e0%b8%b0%e0%b8%a1%e0%b8%ad%e0%b8%a5%e0%b8%a5%e0%b9%8c%e0%b9%84-1358/
LOCATION:ศูนย์การค้าเดอะมอลล์ไลฟ์สโตร์ งามวงศ์วาน\, เดอะมอลล์ ไลฟ์สโตร์ งามวงศ์วาน 430 ถนน งามวงศ์วาน ตำบลบางเขน อำเภอเมืองนนทบุรี นนทบุรี 11000
CATEGORIES:ปฏิทินตารางหน่วยเคลื่อนที่
END:VEVENT
BEGIN:VEVENT
DTSTART;TZID=Asia/Krasnoyarsk:20260203T120000
DTEND;TZID=Asia/Krasnoyarsk:20260203T180000
DTSTAMP:20260420T191321
CREATED:20260127T120447Z
LAST-MODIFIED:20260127T120447Z
UID:10005364-1770120000-1770141600@boo.colorpack.net
SUMMARY:ศูนย์การค้าเดอะมอลล์ไลฟ์สโตร์ บางกะปิ []
DESCRIPTION:สถานที่เจาะ : ชั้น 2 ทางออกลานจอดรถ \nที่อยู่ : ถนนลาดพร้าว แขวงคลองจั่น เขตบางกะปิ กรุงเทพฯ 0 2310 2278
URL:https://boo.colorpack.net/event/%e0%b8%a8%e0%b8%b9%e0%b8%99%e0%b8%a2%e0%b9%8c%e0%b8%81%e0%b8%b2%e0%b8%a3%e0%b8%84%e0%b9%89%e0%b8%b2%e0%b9%80%e0%b8%94%e0%b8%ad%e0%b8%b0%e0%b8%a1%e0%b8%ad%e0%b8%a5%e0%b8%a5%e0%b9%8c%e0%b9%84-1357/
LOCATION:ศูนย์การค้าเดอะมอลล์ไลฟ์สโตร์ บางกะปิ\, เดอะมอลล์ไลฟ์สโตร์ บางกะปิ 3522 ถ. ลาดพร้าว แขวงคลองจั่น เขตบางกะปิ กรุงเทพมหานคร 10240
CATEGORIES:ปฏิทินตารางหน่วยเคลื่อนที่
END:VEVENT
BEGIN:VEVENT
DTSTART;TZID=Asia/Krasnoyarsk:20260203T120000
DTEND;TZID=Asia/Krasnoyarsk:20260203T180000
DTSTAMP:20260420T191321
CREATED:20260127T120435Z
LAST-MODIFIED:20260127T120435Z
UID:10005363-1770120000-1770141600@boo.colorpack.net
SUMMARY:ศูนย์การค้าเดอะมอลล์ไลฟ์สโตร์ บางแค []
DESCRIPTION:สถานที่เจาะ : ชั้น 3 ตรงข้ามร้านโอ้กะจู๋ \nที่อยู่ : ถนนเพชรเกษม แขวงบางแคเหนือ เขตภาษีเจริญ กรุงเทพฯ 02 487 1221
URL:https://boo.colorpack.net/event/%e0%b8%a8%e0%b8%b9%e0%b8%99%e0%b8%a2%e0%b9%8c%e0%b8%81%e0%b8%b2%e0%b8%a3%e0%b8%84%e0%b9%89%e0%b8%b2%e0%b9%80%e0%b8%94%e0%b8%ad%e0%b8%b0%e0%b8%a1%e0%b8%ad%e0%b8%a5%e0%b8%a5%e0%b9%8c%e0%b9%84-1356/
LOCATION:ศูนย์การค้าเดอะมอลล์ไลฟ์สโตร์ บางแค\, ศูนย์การค้าเดอะมอลล์ไลฟ์สโตร์ บางแค
CATEGORIES:ปฏิทินตารางหน่วยเคลื่อนที่
END:VEVENT
BEGIN:VEVENT
DTSTART;TZID=Asia/Krasnoyarsk:20260203T110000
DTEND;TZID=Asia/Krasnoyarsk:20260203T150000
DTSTAMP:20260420T191321
CREATED:20260127T120838Z
LAST-MODIFIED:20260127T120838Z
UID:10005374-1770116400-1770130800@boo.colorpack.net
SUMMARY:ศูนย์การค้า ริเวอร์ไซด์ พลาซ่า []
DESCRIPTION:สถานที่เจาะ : ลานกิจกรรมชั้น 3 \nที่อยู่ : 257/6 ถนนเจริญนคร แขวงสำเหร่ เขตธนบุรี กรุงเทพฯ 0 2431 9200
URL:https://boo.colorpack.net/event/%e0%b8%a8%e0%b8%b9%e0%b8%99%e0%b8%a2%e0%b9%8c%e0%b8%81%e0%b8%b2%e0%b8%a3%e0%b8%84%e0%b9%89%e0%b8%b2-%e0%b8%a3%e0%b8%b4%e0%b9%80%e0%b8%a7%e0%b8%ad%e0%b8%a3%e0%b9%8c%e0%b9%84%e0%b8%8b%e0%b8%94-6/
LOCATION:ศูนย์การค้า ริเวอร์ไซด์ พลาซ่า\, ศูนย์การค้า ริเวอร์ไซด์ พลาซ่า
CATEGORIES:ปฏิทินตารางหน่วยเคลื่อนที่
END:VEVENT
BEGIN:VEVENT
DTSTART;TZID=Asia/Krasnoyarsk:20260203T110000
DTEND;TZID=Asia/Krasnoyarsk:20260203T150000
DTSTAMP:20260420T191321
CREATED:20260127T120834Z
LAST-MODIFIED:20260127T120834Z
UID:10005373-1770116400-1770130800@boo.colorpack.net
SUMMARY:อาคาร รสา ทู []
DESCRIPTION:สถานที่เจาะ : ด้านข้างอาคาร (ฝั่งทางออก) \nที่อยู่ : 1818 อาคาร รสา ทู ถนนเพชรบุรี แขวงมักกะสัน เขตราชเทวี กรุงเทพฯ
URL:https://boo.colorpack.net/event/%e0%b8%ad%e0%b8%b2%e0%b8%84%e0%b8%b2%e0%b8%a3-%e0%b8%a3%e0%b8%aa%e0%b8%b2-%e0%b8%97%e0%b8%b9-2/
LOCATION:อาคาร รสา ทู\, อาคาร รสา ทู
CATEGORIES:ปฏิทินตารางหน่วยเคลื่อนที่
END:VEVENT
BEGIN:VEVENT
DTSTART;TZID=Asia/Krasnoyarsk:20260203T090000
DTEND;TZID=Asia/Krasnoyarsk:20260203T150000
DTSTAMP:20260420T191321
CREATED:20260127T120924Z
LAST-MODIFIED:20260127T121011Z
UID:10005377-1770109200-1770130800@boo.colorpack.net
SUMMARY:บริษัท เชลล์แห่งประเทศไทย จำกัด []
DESCRIPTION:สถานที่เจาะ : ชั้น 3 ตึก 1 (พัก 11.30-12.30 น.) \nที่อยู่ : 10 ถนนสุนทรโกษา แขวงคลองเตย เขตคลองเตย กรุงเทพฯ 0 2262 6689
URL:https://boo.colorpack.net/event/%e0%b8%9a%e0%b8%a3%e0%b8%b4%e0%b8%a9%e0%b8%b1%e0%b8%97-%e0%b9%80%e0%b8%8a%e0%b8%a5%e0%b8%a5%e0%b9%8c%e0%b9%81%e0%b8%ab%e0%b9%88%e0%b8%87%e0%b8%9b%e0%b8%a3%e0%b8%b0%e0%b9%80%e0%b8%97%e0%b8%a8-2/
LOCATION:บริษัท เชลล์แห่งประเทศไทย จำกัด
CATEGORIES:ปฏิทินตารางหน่วยเคลื่อนที่
END:VEVENT
BEGIN:VEVENT
DTSTART;TZID=Asia/Krasnoyarsk:20260203T090000
DTEND;TZID=Asia/Krasnoyarsk:20260203T150000
DTSTAMP:20260420T191321
CREATED:20260127T120844Z
LAST-MODIFIED:20260127T120844Z
UID:10005376-1770109200-1770130800@boo.colorpack.net
SUMMARY:โรงพยาบาลพริ้นซ์ สุวรรณภูมิ []
DESCRIPTION:สถานที่เจาะ : ห้องประชุม ชั้น 5 อาคาร A (พัก 11.00-12.00 น.) \nที่อยู่ : 35/2 หมู่ 12 ถนนบางนา-ตราด กม.6 ตำบลบางแก้ว อำเภอบางพลี จ.สมุทรปราการ
URL:https://boo.colorpack.net/event/%e0%b9%82%e0%b8%a3%e0%b8%87%e0%b8%9e%e0%b8%a2%e0%b8%b2%e0%b8%9a%e0%b8%b2%e0%b8%a5%e0%b8%9e%e0%b8%a3%e0%b8%b4%e0%b9%89%e0%b8%99%e0%b8%8b%e0%b9%8c-%e0%b8%aa%e0%b8%b8%e0%b8%a7%e0%b8%a3%e0%b8%a3-5/
LOCATION:โรงพยาบาลพริ้นซ์ สุวรรณภูมิ
CATEGORIES:ปฏิทินตารางหน่วยเคลื่อนที่
END:VEVENT
BEGIN:VEVENT
DTSTART;TZID=Asia/Krasnoyarsk:20260203T090000
DTEND;TZID=Asia/Krasnoyarsk:20260203T150000
DTSTAMP:20260420T191321
CREATED:20260127T120841Z
LAST-MODIFIED:20260127T120841Z
UID:10005375-1770109200-1770130800@boo.colorpack.net
SUMMARY:บริษัท ลีดเดอร์ กรุ๊ป จำกัด (มหาชน) []
DESCRIPTION:สถานที่เจาะ : ลานจอดรถ (พัก 12.00-13.00 น.) \nที่อยู่ : 238-244 ซ.รามอินทรา 65 (ซอย ลีดเดอร์) ถ.รามอินทรา แขวงท่าแร้ง เขตบางเขน กรุงเทพฯ 0 2793 6888
URL:https://boo.colorpack.net/event/%e0%b8%9a%e0%b8%a3%e0%b8%b4%e0%b8%a9%e0%b8%b1%e0%b8%97-%e0%b8%a5%e0%b8%b5%e0%b8%94%e0%b9%80%e0%b8%94%e0%b8%ad%e0%b8%a3%e0%b9%8c-%e0%b8%81%e0%b8%a3%e0%b8%b8%e0%b9%8a%e0%b8%9b-%e0%b8%88%e0%b8%b3-4/
LOCATION:บริษัท ลีดเดอร์ กรุ๊ป จำกัด (มหาชน)\, บมจ. ลีดเดอร์ กรุ๊ป
CATEGORIES:ปฏิทินตารางหน่วยเคลื่อนที่
END:VEVENT
BEGIN:VEVENT
DTSTART;TZID=Asia/Krasnoyarsk:20260203T090000
DTEND;TZID=Asia/Krasnoyarsk:20260203T150000
DTSTAMP:20260420T191321
CREATED:20260127T120831Z
LAST-MODIFIED:20260127T120831Z
UID:10005372-1770109200-1770130800@boo.colorpack.net
SUMMARY:ศูนย์การแพทย์ โรงพยาบาลบางโพ []
DESCRIPTION:สถานที่เจาะ : ห้องประชุมชั้น 6 อาคาร 2 (พัก 11.30-12.30 น.) \nที่อยู่ : 95 ถนนประชาราษฎร์ 2 แขวงบางซื่อ เขตบางซื่อ กรุงเทพฯ 0 2587 0136
URL:https://boo.colorpack.net/event/%e0%b8%a8%e0%b8%b9%e0%b8%99%e0%b8%a2%e0%b9%8c%e0%b8%81%e0%b8%b2%e0%b8%a3%e0%b9%81%e0%b8%9e%e0%b8%97%e0%b8%a2%e0%b9%8c-%e0%b9%82%e0%b8%a3%e0%b8%87%e0%b8%9e%e0%b8%a2%e0%b8%b2%e0%b8%9a%e0%b8%b2-5/
LOCATION:ศูนย์การแพทย์ โรงพยาบาลบางโพ\, ศูนย์การแพทย์ โรงพยาบาลบางโพ โรงพยาบาลบางโพ (Bangpo Hospital 95 ถ. ประชาราษฎร์ สาย 2 แขวงบางซื่อ เขตบางซื่อ กรุงเทพมหานคร 10800
CATEGORIES:ปฏิทินตารางหน่วยเคลื่อนที่
END:VEVENT
BEGIN:VEVENT
DTSTART;TZID=Asia/Krasnoyarsk:20260203T090000
DTEND;TZID=Asia/Krasnoyarsk:20260203T150000
DTSTAMP:20260420T191321
CREATED:20260127T120654Z
LAST-MODIFIED:20260127T120654Z
UID:10005371-1770109200-1770130800@boo.colorpack.net
SUMMARY:บริษัท กลุ่มปาล์มธรรมชาติ จำกัด (สาขา 00002) []
DESCRIPTION:สถานที่เจาะ : จุดโหลดน้ำมัน (พัก 12.00-13.00 น.) \nที่อยู่ : 182 ม.2 ต.บางครุ อ.พระประแดง จ.สมุทรปราการ 0 2818 3252-6
URL:https://boo.colorpack.net/event/%e0%b8%9a%e0%b8%a3%e0%b8%b4%e0%b8%a9%e0%b8%b1%e0%b8%97-%e0%b8%81%e0%b8%a5%e0%b8%b8%e0%b9%88%e0%b8%a1%e0%b8%9b%e0%b8%b2%e0%b8%a5%e0%b9%8c%e0%b8%a1%e0%b8%98%e0%b8%a3%e0%b8%a3%e0%b8%a1%e0%b8%8a-2/
LOCATION:บริษัท กลุ่มปาล์มธรรมชาติ จำกัด (สาขา 00002)\, บริษัท กลุ่มปาล์มธรรมชาติ จำกัด 18 ม.2 ถ.สุขสวัสดิ์ 45 ต.บางครุ อ.พระประแดง สมุทรปราการ 10130
CATEGORIES:ปฏิทินตารางหน่วยเคลื่อนที่
END:VEVENT
BEGIN:VEVENT
DTSTART;TZID=Asia/Krasnoyarsk:20260203T090000
DTEND;TZID=Asia/Krasnoyarsk:20260203T150000
DTSTAMP:20260420T191321
CREATED:20260127T120652Z
LAST-MODIFIED:20260127T120652Z
UID:10005370-1770109200-1770130800@boo.colorpack.net
SUMMARY:กระทรวงพาณิชย์ []
DESCRIPTION:สถานที่เจาะ : ห้องบุรฉัตรไชยากร ชั้น 4 อาคาร สป. \nที่อยู่ : 563 ถ.นนทบุรี ต.บางกระสอ อ.เมือง จ.นนทบุรี 0 2507 6389
URL:https://boo.colorpack.net/event/%e0%b8%81%e0%b8%a3%e0%b8%b0%e0%b8%97%e0%b8%a3%e0%b8%a7%e0%b8%87%e0%b8%9e%e0%b8%b2%e0%b8%93%e0%b8%b4%e0%b8%8a%e0%b8%a2%e0%b9%8c-2/
LOCATION:กระทรวงพาณิชย์
CATEGORIES:ปฏิทินตารางหน่วยเคลื่อนที่
END:VEVENT
BEGIN:VEVENT
DTSTART;TZID=Asia/Krasnoyarsk:20260203T090000
DTEND;TZID=Asia/Krasnoyarsk:20260203T150000
DTSTAMP:20260420T191321
CREATED:20260127T120646Z
LAST-MODIFIED:20260127T120646Z
UID:10005369-1770109200-1770130800@boo.colorpack.net
SUMMARY:บ้านทรงไทย (ย่านวงศ์สว่าง) []
DESCRIPTION:สถานที่เจาะ : (พัก 12.30-13.00 น.) \nที่อยู่ : 1423 ถนนกรุงเทพ – นนทบุรี แขวงวงศ์สว่าง เขตบางซื่อ กรุงเทพฯ 0 2256 4300
URL:https://boo.colorpack.net/event/%e0%b8%9a%e0%b9%89%e0%b8%b2%e0%b8%99%e0%b8%97%e0%b8%a3%e0%b8%87%e0%b9%84%e0%b8%97%e0%b8%a2-%e0%b8%a2%e0%b9%88%e0%b8%b2%e0%b8%99%e0%b8%a7%e0%b8%87%e0%b8%a8%e0%b9%8c%e0%b8%aa%e0%b8%a7%e0%b9%88-337/
LOCATION:บ้านทรงไทย (ย่านวงศ์สว่าง)\, หน่วยรับบริจาคโลหิต บ้านทรงไทย(ย่านวงศ์สว่าง) 1423 ถนนกรุงเทพ-นนทบุรี แขวงวงศ์สว่าง เขตบางซื่อ กรุงเทพมหานคร 10800
CATEGORIES:ปฏิทินตารางหน่วยเคลื่อนที่
END:VEVENT
BEGIN:VEVENT
DTSTART;TZID=Asia/Krasnoyarsk:20260203T083000
DTEND;TZID=Asia/Krasnoyarsk:20260203T193000
DTSTAMP:20260420T191321
CREATED:20260127T120642Z
LAST-MODIFIED:20260127T120642Z
UID:10005368-1770107400-1770147000@boo.colorpack.net
SUMMARY:สถานีกาชาด 11 วิเศษนิยม []
DESCRIPTION:สถานที่เจาะ : ชั้น 3 \nที่อยู่ : 33/3 ถนนเพชรเกษม แขวงบางหว้า เขตภาษีเจริญ กรุงเทพฯ 0633450711
URL:https://boo.colorpack.net/event/%e0%b8%aa%e0%b8%96%e0%b8%b2%e0%b8%99%e0%b8%b5%e0%b8%81%e0%b8%b2%e0%b8%8a%e0%b8%b2%e0%b8%94-11-%e0%b8%a7%e0%b8%b4%e0%b9%80%e0%b8%a8%e0%b8%a9%e0%b8%99%e0%b8%b4%e0%b8%a2%e0%b8%a1-154/
LOCATION:สถานีกาชาด 11 วิเศษนิยม\, สถานีกาชาด 11 วิเศษนิยม 605 ถ.เพชรเกษม แขวงบางหว้า เขตภาษีเจริญ กรุงเทพมหานคร 10160
CATEGORIES:ปฏิทินตารางหน่วยเคลื่อนที่
END:VEVENT
BEGIN:VEVENT
DTSTART;TZID=Asia/Krasnoyarsk:20260203T073000
DTEND;TZID=Asia/Krasnoyarsk:20260203T193000
DTSTAMP:20260420T191321
CREATED:20260127T120430Z
LAST-MODIFIED:20260127T120430Z
UID:10005362-1770103800-1770147000@boo.colorpack.net
SUMMARY:ศูนย์บริการโลหิตแห่งชาติ สภากาชาดไทย []
DESCRIPTION:ที่อยู่ : 1871 ถ. อังรีดูนังต์ แขวงปทุมวัน เขตปทุมวัน
URL:https://boo.colorpack.net/event/%e0%b8%a8%e0%b8%b9%e0%b8%99%e0%b8%a2%e0%b9%8c%e0%b8%9a%e0%b8%a3%e0%b8%b4%e0%b8%81%e0%b8%b2%e0%b8%a3%e0%b9%82%e0%b8%a5%e0%b8%ab%e0%b8%b4%e0%b8%95%e0%b9%81%e0%b8%ab%e0%b9%88%e0%b8%87%e0%b8%8a-419/
LOCATION:ศูนย์บริการโลหิตแห่งชาติ สภากาชาดไทย\, ศูนย์บริการโลหิตแห่งชาติ สภากาชาดไทย 1871 ถ. อังรีดูนังต์ แขวงปทุมวัน เขตปทุมวัน กรุงเทพมหานคร 10330
CATEGORIES:ปฏิทินตารางหน่วยเคลื่อนที่
END:VEVENT
BEGIN:VEVENT
DTSTART;TZID=Asia/Krasnoyarsk:20260202T120000
DTEND;TZID=Asia/Krasnoyarsk:20260202T180000
DTSTAMP:20260420T191321
CREATED:20260127T120319Z
LAST-MODIFIED:20260127T120319Z
UID:10005351-1770033600-1770055200@boo.colorpack.net
SUMMARY:ศูนย์การค้าเดอะมอลล์ไลฟ์สโตร์ ท่าพระ []
DESCRIPTION:สถานที่เจาะ : ชั้น 1 (ติดลานจอดรถ) \nที่อยู่ : 99 ถนนรัชดาท่าพระตัดใหม่ แขวงบุคคโล เขตธนบุรี กรุงเทพฯ 0 2469-1000
URL:https://boo.colorpack.net/event/%e0%b8%a8%e0%b8%b9%e0%b8%99%e0%b8%a2%e0%b9%8c%e0%b8%81%e0%b8%b2%e0%b8%a3%e0%b8%84%e0%b9%89%e0%b8%b2%e0%b9%80%e0%b8%94%e0%b8%ad%e0%b8%b0%e0%b8%a1%e0%b8%ad%e0%b8%a5%e0%b8%a5%e0%b9%8c%e0%b9%84-1355/
LOCATION:ศูนย์การค้าเดอะมอลล์ไลฟ์สโตร์ ท่าพระ\, เดอะมอลล์ไลฟ์สโตร์ ท่าพระ 129 ถ. รัชดาภิเษก แขวงบุคคโล เขตธนบุรี กรุงเทพมหานคร 10600
CATEGORIES:ปฏิทินตารางหน่วยเคลื่อนที่
END:VEVENT
BEGIN:VEVENT
DTSTART;TZID=Asia/Krasnoyarsk:20260202T120000
DTEND;TZID=Asia/Krasnoyarsk:20260202T180000
DTSTAMP:20260420T191321
CREATED:20260127T120314Z
LAST-MODIFIED:20260127T120314Z
UID:10005350-1770033600-1770055200@boo.colorpack.net
SUMMARY:ศูนย์การค้า เอ็มโพเรียม []
DESCRIPTION:สถานที่เจาะ : ชั้น M ศูนย์การค้า ดิ เอ็มโพเรียม เชื่อมลานจอดรถอาคาร B \nที่อยู่ : 622 ถนนสุขุมวิท แขวงคลองตัน เขตคลองเตย กรุงเทพฯ 0 2269 1515
URL:https://boo.colorpack.net/event/%e0%b8%a8%e0%b8%b9%e0%b8%99%e0%b8%a2%e0%b9%8c%e0%b8%81%e0%b8%b2%e0%b8%a3%e0%b8%84%e0%b9%89%e0%b8%b2-%e0%b9%80%e0%b8%ad%e0%b9%87%e0%b8%a1%e0%b9%82%e0%b8%9e%e0%b9%80%e0%b8%a3%e0%b8%b5%e0%b8%a2-334/
LOCATION:ศูนย์การค้า เอ็มโพเรียม\, เอ็มโพเรียม 622 ถ. สุขุมวิท แขวงคลองตัน เขตคลองเตย กรุงเทพมหานคร 10110
CATEGORIES:ปฏิทินตารางหน่วยเคลื่อนที่
END:VEVENT
END:VCALENDAR